Workbook

Sheet 데이터
B2: =YEAR(TODAY()) -> 2019 | D2: 년 | H2: 정산서 | O2: off | R2: 수업료 | S2: 급식비 | T2: 기숙사비 | W2: 간식비 | Z2: 우유비 | AC2: 태궝도비 | AF2: 구강검진비 | AH2: 건강검진비 | AK2: 현장체험학습비 | AM2: 졸업여행비 | AO2: 교재비정산 | AQ2: 졸업앨범비 | AW2: =AW6 -> -
R3: 0 | S3: -11200 | T3: 0 | W3: 0 | Z3: 15000 | AC3: 20000 | AF3: 7060 | AH3: 18700 | AK3: -6310 | AM3: 114200 | AO3: 0 | AQ3: 59000 | AS3: 0 | AU3: 0 | AW3: 0
B5: 1 | C5: 2 | D5: 3 | E5: 4 | F5: 5 | G5: 6 | H5: 7 | I5: 8 | J5: 9 | K5: 10 | L5: 11 | M5: 12 | N5: 13 | O5: 14 | P5: 15 | Q5: 16 | R5: 17 | S5: 18 | T5: 19 | U5: 20 | V5: 21 | W5: 22 | X5: 23 | Y5: 24 | Z5: 25 | AA5: 26 | AB5: 27 | AC5: 28 | AD5: 29 | AE5: 30 | AF5: 31 | AG5: 32 | AH5: 33 | AI5: 34 | AJ5: 35 | AK5: 36 | AL5: 37 | AM5: 38 | AN5: 39 | AO5: 40 | AP5: 41 | AQ5: 42 | AR5: 43 | AS5: 44 | AT5: 45 | AU5: 46 | AV5: 47 | AW5: 48 | AX5: 49
B6: 학생 주민등록번호 뒷자리 | C6: No. | D6: 학년 | E6: 학생명 | F6: 총계 | G6: 기준 | H6: 금액 | I6: 미납금 | O6: 선입금 | R6: 4사분기 | U6: 장학금 차감 | Z6: 우유급식비 | AC6: 태권도비 | AF6: 구강검진비 | AH6: 건강검진비 | AK6: 현장체험학습비 | AM6: 졸업여행비 | AO6: 교재비정산 | AQ6: 졸업앨범비 | AW6: -
G7: 수업료 | H7: 기숙사비 | I7: 수업료 | J7: 미납메모 | K7: 급식비 | L7: 미납메모 | M7: 기숙사비 | N7: 미납메모 | O7: 교육비 | P7: 급식비 | Q7: 기숙사비 | R7: 수업료 | S7: 급식비 | T7: 기숙사비 | U7: 장학금 | V7: 비고(메모) | X7: 횟수 | Y7: 미납메모 | Z7: 우유급식비 | AA7: 횟수 | AB7: 미납메모 | AC7: 태권도비 | AD7: 체크 | AE7: 미납메모 | AF7: 구강검진비 | AG7: 횟수 | AH7: 건강검진비 | AI7: 체크 | AJ7: 미납메모 | AK7: 현장체험학습비 | AL7: 체크 | AM7: 졸업여행비 | AN7: 체크 | AO7: 교재비정산 | AP7: 체크 | AQ7: 졸업앨범비 | AR7: 체크 | AT7: 체크 | AV7: 체크 | AX7: 체크
B8: 4201111 | C8: 1 | D8: 1 | E8: 강은미 | F8: =SUM(I8:M8,R8:T8,W8,Z8,AC8,AF8,AH8,AK8,AM8,AO8,AQ8,AS8,AU8,AW8,)-SUM(O8:Q8,U8) -> 10375 | R8: =$R$3 -> 0 | S8: -11200 | W8: =$W$3*X8 -> 0 | Z8: =$Z$3*AA8 -> 0 | AC8: =IF(ISNUMBER(AD8),AD8*$AS$3,0) -> 0 | AF8: =$AF$3*AG8 -> 7060 | AG8: 1 | AH8: =$AH$3*AI8 -> 18700 | AI8: 1 | AK8: =IF(ISNUMBER(AL8),AL8*$AK$3,0) -> -6310 | AL8: 1 | AM8: =IF(ISNUMBER(AN8),AN8*$AM$3,0) -> 0 | AO8: 2125 | AQ8: =IF(ISNUMBER(AR8),AR8*$AQ$3,0) -> 0 | AS8: =IF(ISNUMBER(AT8),AT8*$AS$3,0) -> 0 | AU8: =IF(ISNUMBER(AV8),AV8*$AU$3,"") | AW8: =IF(ISNUMBER(AX8),AX8*$AW$3,"")
B9: 3802515 | C9: 2 | D9: 1 | E9: 고명진 | F9: =SUM(I9:M9,R9:T9,W9,Z9,AC9,AF9,AH9,AK9,AM9,AO9,AQ9,AS9,AU9,AW9,)-SUM(O9:Q9,U9) -> 18125 | R9: =$R$3 -> 0 | S9: -11200 | W9: =$W$3*X9 -> 0 | Z9: =$Z$3*AA9 -> 0 | AC9: =IF(ISNUMBER(AD9),AD9*$AS$3,0) -> 0 | AF9: =$AF$3*AG9 -> 7060 | AG9: 1 | AH9: =$AH$3*AI9 -> 18700 | AI9: 1 | AK9: =IF(ISNUMBER(AL9),AL9*$AK$3,0) -> -6310 | AL9: 1 | AM9: =IF(ISNUMBER(AN9),AN9*$AM$3,0) -> 0 | AO9: 9875 | AQ9: =IF(ISNUMBER(AR9),AR9*$AQ$3,0) -> 0 | AS9: =IF(ISNUMBER(AT9),AT9*$AS$3,0) -> 0 | AU9: =IF(ISNUMBER(AV9),AV9*$AU$3,"") | AW9: =IF(ISNUMBER(AX9),AX9*$AW$3,"")
B10: 3409117 | C10: 3 | D10: 1 | E10: 고수원 | F10: =SUM(I10:M10,R10:T10,W10,Z10,AC10,AF10,AH10,AK10,AM10,AO10,AQ10,AS10,AU10,AW10,)-SUM(O10:Q10,U10) -> 1025 | R10: =$R$3 -> 0 | S10: -11200 | W10: =$W$3*X10 -> 0 | Z10: =$Z$3*AA10 -> 0 | AC10: =IF(ISNUMBER(AD10),AD10*$AS$3,0) -> 0 | AF10: =$AF$3*AG10 -> 7060 | AG10: 1 | AH10: =$AH$3*AI10 -> 18700 | AI10: 1 | AK10: =IF(ISNUMBER(AL10),AL10*$AK$3,0) -> -6310 | AL10: 1 | AM10: =IF(ISNUMBER(AN10),AN10*$AM$3,0) -> 0 | AO10: -7225 | AQ10: =IF(ISNUMBER(AR10),AR10*$AQ$3,0) -> 0 | AS10: =IF(ISNUMBER(AT10),AT10*$AS$3,0) -> 0 | AU10: =IF(ISNUMBER(AV10),AV10*$AU$3,"") | AW10: =IF(ISNUMBER(AX10),AX10*$AW$3,"")
B11: 3179810 | C11: 4 | D11: 1 | E11: 권혁찬 | F11: =SUM(I11:M11,R11:T11,W11,Z11,AC11,AF11,AH11,AK11,AM11,AO11,AQ11,AS11,AU11,AW11,)-SUM(O11:Q11,U11) -> 16805 | R11: =$R$3 -> 0 | S11: -11200 | W11: =$W$3*X11 -> 0 | Z11: =$Z$3*AA11 -> 0 | AC11: =IF(ISNUMBER(AD11),AD11*$AS$3,0) -> 0 | AF11: =$AF$3*AG11 -> 7060 | AG11: 1 | AH11: 25130 | AI11: 1 | AK11: =IF(ISNUMBER(AL11),AL11*$AK$3,0) -> -6310 | AL11: 1 | AM11: =IF(ISNUMBER(AN11),AN11*$AM$3,0) -> 0 | AO11: 2125 | AQ11: =IF(ISNUMBER(AR11),AR11*$AQ$3,0) -> 0 | AS11: =IF(ISNUMBER(AT11),AT11*$AS$3,0) -> 0 | AU11: =IF(ISNUMBER(AV11),AV11*$AU$3,"") | AW11: =IF(ISNUMBER(AX11),AX11*$AW$3,"")
B12: 4074111 | C12: 5 | D12: 1 | E12: 김려은 | F12: =SUM(I12:M12,R12:T12,W12,Z12,AC12,AF12,AH12,AK12,AM12,AO12,AQ12,AS12,AU12,AW12,)-SUM(O12:Q12,U12) -> 10375 | R12: =$R$3 -> 0 | S12: -11200 | W12: =$W$3*X12 -> 0 | Z12: =$Z$3*AA12 -> 0 | AC12: =IF(ISNUMBER(AD12),AD12*$AS$3,0) -> 0 | AF12: =$AF$3*AG12 -> 7060 | AG12: 1 | AH12: =$AH$3*AI12 -> 18700 | AI12: 1 | AK12: =IF(ISNUMBER(AL12),AL12*$AK$3,0) -> -6310 | AL12: 1 | AM12: =IF(ISNUMBER(AN12),AN12*$AM$3,0) -> 0 | AO12: 2125 | AQ12: =IF(ISNUMBER(AR12),AR12*$AQ$3,0) -> 0 | AS12: =IF(ISNUMBER(AT12),AT12*$AS$3,0) -> 0 | AU12: =IF(ISNUMBER(AV12),AV12*$AU$3,"") | AW12: =IF(ISNUMBER(AX12),AX12*$AW$3,"")
B13: 4824419 | C13: 6 | D13: 1 | E13: 김미지 | F13: =SUM(I13:M13,R13:T13,W13,Z13,AC13,AF13,AH13,AK13,AM13,AO13,AQ13,AS13,AU13,AW13,)-SUM(O13:Q13,U13) -> 1025 | R13: =$R$3 -> 0 | S13: -11200 | W13: =$W$3*X13 -> 0 | Z13: =$Z$3*AA13 -> 0 | AC13: =IF(ISNUMBER(AD13),AD13*$AS$3,0) -> 0 | AF13: =$AF$3*AG13 -> 7060 | AG13: 1 | AH13: =$AH$3*AI13 -> 18700 | AI13: 1 | AK13: =IF(ISNUMBER(AL13),AL13*$AK$3,0) -> -6310 | AL13: 1 | AM13: =IF(ISNUMBER(AN13),AN13*$AM$3,0) -> 0 | AO13: -7225 | AQ13: =IF(ISNUMBER(AR13),AR13*$AQ$3,0) -> 0 | AS13: =IF(ISNUMBER(AT13),AT13*$AS$3,0) -> 0 | AU13: =IF(ISNUMBER(AV13),AV13*$AU$3,"") | AW13: =IF(ISNUMBER(AX13),AX13*$AW$3,"")
B14: 4691211 | C14: 7 | D14: 1 | E14: 김민아 | F14: =SUM(I14:M14,R14:T14,W14,Z14,AC14,AF14,AH14,AK14,AM14,AO14,AQ14,AS14,AU14,AW14,)-SUM(O14:Q14,U14) -> 1025 | R14: =$R$3 -> 0 | S14: -11200 | W14: =$W$3*X14 -> 0 | Z14: =$Z$3*AA14 -> 0 | AC14: =IF(ISNUMBER(AD14),AD14*$AS$3,0) -> 0 | AF14: =$AF$3*AG14 -> 7060 | AG14: 1 | AH14: =$AH$3*AI14 -> 18700 | AI14: 1 | AK14: =IF(ISNUMBER(AL14),AL14*$AK$3,0) -> -6310 | AL14: 1 | AM14: =IF(ISNUMBER(AN14),AN14*$AM$3,0) -> 0 | AO14: -7225 | AQ14: =IF(ISNUMBER(AR14),AR14*$AQ$3,0) -> 0 | AS14: =IF(ISNUMBER(AT14),AT14*$AS$3,0) -> 0 | AU14: =IF(ISNUMBER(AV14),AV14*$AU$3,"") | AW14: =IF(ISNUMBER(AX14),AX14*$AW$3,"")
B15: 4639311 | C15: 8 | D15: 1 | E15: 김민주 | F15: =SUM(I15:M15,R15:T15,W15,Z15,AC15,AF15,AH15,AK15,AM15,AO15,AQ15,AS15,AU15,AW15,)-SUM(O15:Q15,U15) -> 10375 | R15: =$R$3 -> 0 | S15: -11200 | W15: =$W$3*X15 -> 0 | Z15: =$Z$3*AA15 -> 0 | AC15: =IF(ISNUMBER(AD15),AD15*$AS$3,0) -> 0 | AF15: =$AF$3*AG15 -> 7060 | AG15: 1 | AH15: =$AH$3*AI15 -> 18700 | AI15: 1 | AK15: =IF(ISNUMBER(AL15),AL15*$AK$3,0) -> -6310 | AL15: 1 | AM15: =IF(ISNUMBER(AN15),AN15*$AM$3,0) -> 0 | AO15: 2125 | AQ15: =IF(ISNUMBER(AR15),AR15*$AQ$3,0) -> 0 | AS15: =IF(ISNUMBER(AT15),AT15*$AS$3,0) -> 0 | AU15: =IF(ISNUMBER(AV15),AV15*$AU$3,"") | AW15: =IF(ISNUMBER(AX15),AX15*$AW$3,"")
B16: 3801211 | C16: 9 | D16: 1 | E16: 김상민 | F16: =SUM(I16:M16,R16:T16,W16,Z16,AC16,AF16,AH16,AK16,AM16,AO16,AQ16,AS16,AU16,AW16,)-SUM(O16:Q16,U16) -> 1025 | R16: =$R$3 -> 0 | S16: -11200 | W16: =$W$3*X16 -> 0 | Z16: =$Z$3*AA16 -> 0 | AC16: =IF(ISNUMBER(AD16),AD16*$AS$3,0) -> 0 | AF16: =$AF$3*AG16 -> 7060 | AG16: 1 | AH16: =$AH$3*AI16 -> 18700 | AI16: 1 | AK16: =IF(ISNUMBER(AL16),AL16*$AK$3,0) -> -6310 | AL16: 1 | AM16: =IF(ISNUMBER(AN16),AN16*$AM$3,0) -> 0 | AO16: -7225 | AQ16: =IF(ISNUMBER(AR16),AR16*$AQ$3,0) -> 0 | AS16: =IF(ISNUMBER(AT16),AT16*$AS$3,0) -> 0 | AU16: =IF(ISNUMBER(AV16),AV16*$AU$3,"") | AW16: =IF(ISNUMBER(AX16),AX16*$AW$3,"")
B17: 3555519 | C17: 10 | D17: 1 | E17: 김우혁 | F17: =SUM(I17:M17,R17:T17,W17,Z17,AC17,AF17,AH17,AK17,AM17,AO17,AQ17,AS17,AU17,AW17,)-SUM(O17:Q17,U17) -> 1025 | R17: =$R$3 -> 0 | S17: -11200 | W17: =$W$3*X17 -> 0 | Z17: =$Z$3*AA17 -> 0 | AC17: =IF(ISNUMBER(AD17),AD17*$AS$3,0) -> 0 | AF17: =$AF$3*AG17 -> 7060 | AG17: 1 | AH17: =$AH$3*AI17 -> 18700 | AI17: 1 | AK17: =IF(ISNUMBER(AL17),AL17*$AK$3,0) -> -6310 | AL17: 1 | AM17: =IF(ISNUMBER(AN17),AN17*$AM$3,0) -> 0 | AO17: -7225 | AQ17: =IF(ISNUMBER(AR17),AR17*$AQ$3,0) -> 0 | AS17: =IF(ISNUMBER(AT17),AT17*$AS$3,0) -> 0 | AU17: =IF(ISNUMBER(AV17),AV17*$AU$3,"") | AW17: =IF(ISNUMBER(AX17),AX17*$AW$3,"")
B18: 4123511 | C18: 11 | D18: 1 | E18: 류다니 | F18: =SUM(I18:M18,R18:T18,W18,Z18,AC18,AF18,AH18,AK18,AM18,AO18,AQ18,AS18,AU18,AW18,)-SUM(O18:Q18,U18) -> 16805 | R18: =$R$3 -> 0 | S18: -11200 | W18: =$W$3*X18 -> 0 | Z18: =$Z$3*AA18 -> 0 | AC18: =IF(ISNUMBER(AD18),AD18*$AS$3,0) -> 0 | AF18: =$AF$3*AG18 -> 7060 | AG18: 1 | AH18: 25130 | AI18: 1 | AK18: =IF(ISNUMBER(AL18),AL18*$AK$3,0) -> -6310 | AL18: 1 | AM18: =IF(ISNUMBER(AN18),AN18*$AM$3,0) -> 0 | AO18: 2125 | AQ18: =IF(ISNUMBER(AR18),AR18*$AQ$3,0) -> 0 | AS18: =IF(ISNUMBER(AT18),AT18*$AS$3,0) -> 0 | AU18: =IF(ISNUMBER(AV18),AV18*$AU$3,"") | AW18: =IF(ISNUMBER(AX18),AX18*$AW$3,"")
B19: 3824411 | C19: 12 | D19: 1 | E19: 류지상 | F19: =SUM(I19:M19,R19:T19,W19,Z19,AC19,AF19,AH19,AK19,AM19,AO19,AQ19,AS19,AU19,AW19,)-SUM(O19:Q19,U19) -> 10375 | R19: =$R$3 -> 0 | S19: -11200 | W19: =$W$3*X19 -> 0 | Z19: =$Z$3*AA19 -> 0 | AC19: =IF(ISNUMBER(AD19),AD19*$AS$3,0) -> 0 | AF19: =$AF$3*AG19 -> 7060 | AG19: 1 | AH19: =$AH$3*AI19 -> 18700 | AI19: 1 | AK19: =IF(ISNUMBER(AL19),AL19*$AK$3,0) -> -6310 | AL19: 1 | AM19: =IF(ISNUMBER(AN19),AN19*$AM$3,0) -> 0 | AO19: 2125 | AQ19: =IF(ISNUMBER(AR19),AR19*$AQ$3,0) -> 0 | AS19: =IF(ISNUMBER(AT19),AT19*$AS$3,0) -> 0 | AU19: =IF(ISNUMBER(AV19),AV19*$AU$3,"") | AW19: =IF(ISNUMBER(AX19),AX19*$AW$3,"")
B20: 4200517 | C20: 13 | D20: 1 | E20: 문성하 | F20: =SUM(I20:M20,R20:T20,W20,Z20,AC20,AF20,AH20,AK20,AM20,AO20,AQ20,AS20,AU20,AW20,)-SUM(O20:Q20,U20) -> 24555 | R20: =$R$3 -> 0 | S20: -11200 | W20: =$W$3*X20 -> 0 | Z20: =$Z$3*AA20 -> 0 | AC20: =IF(ISNUMBER(AD20),AD20*$AS$3,0) -> 0 | AF20: =$AF$3*AG20 -> 7060 | AG20: 1 | AH20: 25130 | AI20: 1 | AK20: =IF(ISNUMBER(AL20),AL20*$AK$3,0) -> -6310 | AL20: 1 | AM20: =IF(ISNUMBER(AN20),AN20*$AM$3,0) -> 0 | AO20: 9875 | AQ20: =IF(ISNUMBER(AR20),AR20*$AQ$3,0) -> 0 | AS20: =IF(ISNUMBER(AT20),AT20*$AS$3,0) -> 0 | AU20: =IF(ISNUMBER(AV20),AV20*$AU$3,"") | AW20: =IF(ISNUMBER(AX20),AX20*$AW$3,"")
B21: 3148713 | C21: 14 | D21: 1 | E21: 박상훈 | F21: =SUM(I21:M21,R21:T21,W21,Z21,AC21,AF21,AH21,AK21,AM21,AO21,AQ21,AS21,AU21,AW21,)-SUM(O21:Q21,U21) -> 1025 | R21: =$R$3 -> 0 | S21: -11200 | W21: =$W$3*X21 -> 0 | Z21: =$Z$3*AA21 -> 0 | AC21: =IF(ISNUMBER(AD21),AD21*$AS$3,0) -> 0 | AF21: =$AF$3*AG21 -> 7060 | AG21: 1 | AH21: =$AH$3*AI21 -> 18700 | AI21: 1 | AK21: =IF(ISNUMBER(AL21),AL21*$AK$3,0) -> -6310 | AL21: 1 | AM21: =IF(ISNUMBER(AN21),AN21*$AM$3,0) -> 0 | AO21: -7225 | AQ21: =IF(ISNUMBER(AR21),AR21*$AQ$3,0) -> 0 | AS21: =IF(ISNUMBER(AT21),AT21*$AS$3,0) -> 0 | AU21: =IF(ISNUMBER(AV21),AV21*$AU$3,"") | AW21: =IF(ISNUMBER(AX21),AX21*$AW$3,"")
B22: 4401813p | C22: 15 | D22: 1 | E22: 박수인 | F22: =SUM(I22:M22,R22:T22,W22,Z22,AC22,AF22,AH22,AK22,AM22,AO22,AQ22,AS22,AU22,AW22,)-SUM(O22:Q22,U22) -> 10375 | R22: =$R$3 -> 0 | S22: -11200 | W22: =$W$3*X22 -> 0 | Z22: =$Z$3*AA22 -> 0 | AC22: =IF(ISNUMBER(AD22),AD22*$AS$3,0) -> 0 | AF22: =$AF$3*AG22 -> 7060 | AG22: 1 | AH22: =$AH$3*AI22 -> 18700 | AI22: 1 | AK22: =IF(ISNUMBER(AL22),AL22*$AK$3,0) -> -6310 | AL22: 1 | AM22: =IF(ISNUMBER(AN22),AN22*$AM$3,0) -> 0 | AO22: 2125 | AQ22: =IF(ISNUMBER(AR22),AR22*$AQ$3,0) -> 0 | AS22: =IF(ISNUMBER(AT22),AT22*$AS$3,0) -> 0 | AU22: =IF(ISNUMBER(AV22),AV22*$AU$3,"") | AW22: =IF(ISNUMBER(AX22),AX22*$AW$3,"")
B23: 3164424 | C23: 16 | D23: 1 | E23: 박시원 | F23: =SUM(I23:M23,R23:T23,W23,Z23,AC23,AF23,AH23,AK23,AM23,AO23,AQ23,AS23,AU23,AW23,)-SUM(O23:Q23,U23) -> 10375 | R23: =$R$3 -> 0 | S23: -11200 | W23: =$W$3*X23 -> 0 | Z23: =$Z$3*AA23 -> 0 | AC23: =IF(ISNUMBER(AD23),AD23*$AS$3,0) -> 0 | AF23: =$AF$3*AG23 -> 7060 | AG23: 1 | AH23: =$AH$3*AI23 -> 18700 | AI23: 1 | AK23: =IF(ISNUMBER(AL23),AL23*$AK$3,0) -> -6310 | AL23: 1 | AM23: =IF(ISNUMBER(AN23),AN23*$AM$3,0) -> 0 | AO23: 2125 | AQ23: =IF(ISNUMBER(AR23),AR23*$AQ$3,0) -> 0 | AS23: =IF(ISNUMBER(AT23),AT23*$AS$3,0) -> 0 | AU23: =IF(ISNUMBER(AV23),AV23*$AU$3,"") | AW23: =IF(ISNUMBER(AX23),AX23*$AW$3,"")
B24: 3126312 | C24: 17 | D24: 1 | E24: 박영재 | F24: =SUM(I24:M24,R24:T24,W24,Z24,AC24,AF24,AH24,AK24,AM24,AO24,AQ24,AS24,AU24,AW24,)-SUM(O24:Q24,U24) -> 18125 | R24: =$R$3 -> 0 | S24: -11200 | W24: =$W$3*X24 -> 0 | Z24: =$Z$3*AA24 -> 0 | AC24: =IF(ISNUMBER(AD24),AD24*$AS$3,0) -> 0 | AF24: =$AF$3*AG24 -> 7060 | AG24: 1 | AH24: =$AH$3*AI24 -> 18700 | AI24: 1 | AK24: =IF(ISNUMBER(AL24),AL24*$AK$3,0) -> -6310 | AL24: 1 | AM24: =IF(ISNUMBER(AN24),AN24*$AM$3,0) -> 0 | AO24: 9875 | AQ24: =IF(ISNUMBER(AR24),AR24*$AQ$3,0) -> 0 | AS24: =IF(ISNUMBER(AT24),AT24*$AS$3,0) -> 0 | AU24: =IF(ISNUMBER(AV24),AV24*$AU$3,"") | AW24: =IF(ISNUMBER(AX24),AX24*$AW$3,"")
B25: 4120516 | C25: 18 | D25: 1 | E25: 박예진 | F25: =SUM(I25:M25,R25:T25,W25,Z25,AC25,AF25,AH25,AK25,AM25,AO25,AQ25,AS25,AU25,AW25,)-SUM(O25:Q25,U25) -> 1025 | R25: =$R$3 -> 0 | S25: -11200 | W25: =$W$3*X25 -> 0 | Z25: =$Z$3*AA25 -> 0 | AC25: =IF(ISNUMBER(AD25),AD25*$AS$3,0) -> 0 | AF25: =$AF$3*AG25 -> 7060 | AG25: 1 | AH25: =$AH$3*AI25 -> 18700 | AI25: 1 | AK25: =IF(ISNUMBER(AL25),AL25*$AK$3,0) -> -6310 | AL25: 1 | AM25: =IF(ISNUMBER(AN25),AN25*$AM$3,0) -> 0 | AO25: -7225 | AQ25: =IF(ISNUMBER(AR25),AR25*$AQ$3,0) -> 0 | AS25: =IF(ISNUMBER(AT25),AT25*$AS$3,0) -> 0 | AU25: =IF(ISNUMBER(AV25),AV25*$AU$3,"") | AW25: =IF(ISNUMBER(AX25),AX25*$AW$3,"")
B26: 3201117 | C26: 19 | D26: 1 | E26: 박인호 | F26: =SUM(I26:M26,R26:T26,W26,Z26,AC26,AF26,AH26,AK26,AM26,AO26,AQ26,AS26,AU26,AW26,)-SUM(O26:Q26,U26) -> 1025 | R26: =$R$3 -> 0 | S26: -11200 | W26: =$W$3*X26 -> 0 | Z26: =$Z$3*AA26 -> 0 | AC26: =IF(ISNUMBER(AD26),AD26*$AS$3,0) -> 0 | AF26: =$AF$3*AG26 -> 7060 | AG26: 1 | AH26: =$AH$3*AI26 -> 18700 | AI26: 1 | AK26: =IF(ISNUMBER(AL26),AL26*$AK$3,0) -> -6310 | AL26: 1 | AM26: =IF(ISNUMBER(AN26),AN26*$AM$3,0) -> 0 | AO26: -7225 | AQ26: =IF(ISNUMBER(AR26),AR26*$AQ$3,0) -> 0 | AS26: =IF(ISNUMBER(AT26),AT26*$AS$3,0) -> 0 | AU26: =IF(ISNUMBER(AV26),AV26*$AU$3,"") | AW26: =IF(ISNUMBER(AX26),AX26*$AW$3,"")
B27: 3067513 | C27: 20 | D27: 1 | E27: 박형진 | F27: =SUM(I27:M27,R27:T27,W27,Z27,AC27,AF27,AH27,AK27,AM27,AO27,AQ27,AS27,AU27,AW27,)-SUM(O27:Q27,U27) -> 98525 | M27: 97500 | N27: 1~2월분 | R27: =$R$3 -> 0 | S27: -11200 | W27: =$W$3*X27 -> 0 | Z27: =$Z$3*AA27 -> 0 | AC27: =IF(ISNUMBER(AD27),AD27*$AS$3,0) -> 0 | AF27: =$AF$3*AG27 -> 7060 | AG27: 1 | AH27: =$AH$3*AI27 -> 18700 | AI27: 1 | AK27: =IF(ISNUMBER(AL27),AL27*$AK$3,0) -> -6310 | AL27: 1 | AM27: =IF(ISNUMBER(AN27),AN27*$AM$3,0) -> 0 | AO27: -7225 | AQ27: =IF(ISNUMBER(AR27),AR27*$AQ$3,0) -> 0 | AS27: =IF(ISNUMBER(AT27),AT27*$AS$3,0) -> 0 | AU27: =IF(ISNUMBER(AV27),AV27*$AU$3,"") | AW27: =IF(ISNUMBER(AX27),AX27*$AW$3,"")
B28: 3824418b | C28: 21 | D28: 1 | E28: 배은욱 | F28: =SUM(I28:M28,R28:T28,W28,Z28,AC28,AF28,AH28,AK28,AM28,AO28,AQ28,AS28,AU28,AW28,)-SUM(O28:Q28,U28) -> 1025 | R28: =$R$3 -> 0 | S28: -11200 | W28: =$W$3*X28 -> 0 | Z28: =$Z$3*AA28 -> 0 | AC28: =IF(ISNUMBER(AD28),AD28*$AS$3,0) -> 0 | AF28: =$AF$3*AG28 -> 7060 | AG28: 1 | AH28: =$AH$3*AI28 -> 18700 | AI28: 1 | AK28: =IF(ISNUMBER(AL28),AL28*$AK$3,0) -> -6310 | AL28: 1 | AM28: =IF(ISNUMBER(AN28),AN28*$AM$3,0) -> 0 | AO28: -7225 | AQ28: =IF(ISNUMBER(AR28),AR28*$AQ$3,0) -> 0 | AS28: =IF(ISNUMBER(AT28),AT28*$AS$3,0) -> 0 | AU28: =IF(ISNUMBER(AV28),AV28*$AU$3,"") | AW28: =IF(ISNUMBER(AX28),AX28*$AW$3,"")
B29: 3163517 | C29: 22 | D29: 1 | E29: 백성은 | F29: =SUM(I29:M29,R29:T29,W29,Z29,AC29,AF29,AH29,AK29,AM29,AO29,AQ29,AS29,AU29,AW29,)-SUM(O29:Q29,U29) -> 1097875 | I29: 510000 | J29: 4분기 | K29: =232500+232500 -> 465000 | L29: 12~2월분 | M29: 97500 | N29: 1~2월분 | R29: =$R$3 -> 0 | S29: -11200 | W29: =$W$3*X29 -> 0 | Z29: =$Z$3*AA29 -> 15000 | AA29: 1 | AB29: 1~2월분 | AC29: =IF(ISNUMBER(AD29),AD29*$AS$3,0) -> 0 | AF29: =$AF$3*AG29 -> 7060 | AG29: 1 | AH29: =$AH$3*AI29 -> 18700 | AI29: 1 | AK29: =IF(ISNUMBER(AL29),AL29*$AK$3,0) -> -6310 | AL29: 1 | AM29: =IF(ISNUMBER(AN29),AN29*$AM$3,0) -> 0 | AO29: 2125 | AQ29: =IF(ISNUMBER(AR29),AR29*$AQ$3,0) -> 0 | AS29: =IF(ISNUMBER(AT29),AT29*$AS$3,0) -> 0 | AU29: =IF(ISNUMBER(AV29),AV29*$AU$3,"") | AW29: =IF(ISNUMBER(AX29),AX29*$AW$3,"")
B30: 4070323 | C30: 23 | D30: 1 | E30: 백소은 | F30: =SUM(I30:M30,R30:T30,W30,Z30,AC30,AF30,AH30,AK30,AM30,AO30,AQ30,AS30,AU30,AW30,)-SUM(O30:Q30,U30) -> 1025 | R30: =$R$3 -> 0 | S30: -11200 | W30: =$W$3*X30 -> 0 | Z30: =$Z$3*AA30 -> 0 | AC30: =IF(ISNUMBER(AD30),AD30*$AS$3,0) -> 0 | AF30: =$AF$3*AG30 -> 7060 | AG30: 1 | AH30: =$AH$3*AI30 -> 18700 | AI30: 1 | AK30: =IF(ISNUMBER(AL30),AL30*$AK$3,0) -> -6310 | AL30: 1 | AM30: =IF(ISNUMBER(AN30),AN30*$AM$3,0) -> 0 | AO30: -7225 | AQ30: =IF(ISNUMBER(AR30),AR30*$AQ$3,0) -> 0 | AS30: =IF(ISNUMBER(AT30),AT30*$AS$3,0) -> 0 | AU30: =IF(ISNUMBER(AV30),AV30*$AU$3,"") | AW30: =IF(ISNUMBER(AX30),AX30*$AW$3,"")
B31: 4085414 | C31: 24 | D31: 1 | E31: 변찬은 | F31: =SUM(I31:M31,R31:T31,W31,Z31,AC31,AF31,AH31,AK31,AM31,AO31,AQ31,AS31,AU31,AW31,)-SUM(O31:Q31,U31) -> 10375 | R31: =$R$3 -> 0 | S31: -11200 | W31: =$W$3*X31 -> 0 | Z31: =$Z$3*AA31 -> 0 | AC31: =IF(ISNUMBER(AD31),AD31*$AS$3,0) -> 0 | AF31: =$AF$3*AG31 -> 7060 | AG31: 1 | AH31: =$AH$3*AI31 -> 18700 | AI31: 1 | AK31: =IF(ISNUMBER(AL31),AL31*$AK$3,0) -> -6310 | AL31: 1 | AM31: =IF(ISNUMBER(AN31),AN31*$AM$3,0) -> 0 | AO31: 2125 | AQ31: =IF(ISNUMBER(AR31),AR31*$AQ$3,0) -> 0 | AS31: =IF(ISNUMBER(AT31),AT31*$AS$3,0) -> 0 | AU31: =IF(ISNUMBER(AV31),AV31*$AU$3,"") | AW31: =IF(ISNUMBER(AX31),AX31*$AW$3,"")
B32: 3491215 | C32: 25 | D32: 1 | E32: 서주호 | F32: =SUM(I32:M32,R32:T32,W32,Z32,AC32,AF32,AH32,AK32,AM32,AO32,AQ32,AS32,AU32,AW32,)-SUM(O32:Q32,U32) -> 18125 | R32: =$R$3 -> 0 | S32: -11200 | W32: =$W$3*X32 -> 0 | Z32: =$Z$3*AA32 -> 0 | AC32: =IF(ISNUMBER(AD32),AD32*$AS$3,0) -> 0 | AF32: =$AF$3*AG32 -> 7060 | AG32: 1 | AH32: =$AH$3*AI32 -> 18700 | AI32: 1 | AK32: =IF(ISNUMBER(AL32),AL32*$AK$3,0) -> -6310 | AL32: 1 | AM32: =IF(ISNUMBER(AN32),AN32*$AM$3,0) -> 0 | AO32: 9875 | AQ32: =IF(ISNUMBER(AR32),AR32*$AQ$3,0) -> 0 | AS32: =IF(ISNUMBER(AT32),AT32*$AS$3,0) -> 0 | AU32: =IF(ISNUMBER(AV32),AV32*$AU$3,"") | AW32: =IF(ISNUMBER(AX32),AX32*$AW$3,"")
B33: 4684814 | C33: 26 | D33: 1 | E33: 성아름 | F33: =SUM(I33:M33,R33:T33,W33,Z33,AC33,AF33,AH33,AK33,AM33,AO33,AQ33,AS33,AU33,AW33,)-SUM(O33:Q33,U33) -> 10375 | R33: =$R$3 -> 0 | S33: -11200 | W33: =$W$3*X33 -> 0 | Z33: =$Z$3*AA33 -> 0 | AC33: =IF(ISNUMBER(AD33),AD33*$AS$3,0) -> 0 | AF33: =$AF$3*AG33 -> 7060 | AG33: 1 | AH33: =$AH$3*AI33 -> 18700 | AI33: 1 | AK33: =IF(ISNUMBER(AL33),AL33*$AK$3,0) -> -6310 | AL33: 1 | AM33: =IF(ISNUMBER(AN33),AN33*$AM$3,0) -> 0 | AO33: 2125 | AQ33: =IF(ISNUMBER(AR33),AR33*$AQ$3,0) -> 0 | AS33: =IF(ISNUMBER(AT33),AT33*$AS$3,0) -> 0 | AU33: =IF(ISNUMBER(AV33),AV33*$AU$3,"") | AW33: =IF(ISNUMBER(AX33),AX33*$AW$3,"")
B34: 3823315 | C34: 27 | D34: 1 | E34: 손성빈 | F34: =SUM(I34:M34,R34:T34,W34,Z34,AC34,AF34,AH34,AK34,AM34,AO34,AQ34,AS34,AU34,AW34,)-SUM(O34:Q34,U34) -> 16805 | R34: =$R$3 -> 0 | S34: -11200 | W34: =$W$3*X34 -> 0 | Z34: =$Z$3*AA34 -> 0 | AC34: =IF(ISNUMBER(AD34),AD34*$AS$3,0) -> 0 | AF34: =$AF$3*AG34 -> 7060 | AG34: 1 | AH34: 25130 | AI34: 1 | AK34: =IF(ISNUMBER(AL34),AL34*$AK$3,0) -> -6310 | AL34: 1 | AM34: =IF(ISNUMBER(AN34),AN34*$AM$3,0) -> 0 | AO34: 2125 | AQ34: =IF(ISNUMBER(AR34),AR34*$AQ$3,0) -> 0 | AS34: =IF(ISNUMBER(AT34),AT34*$AS$3,0) -> 0 | AU34: =IF(ISNUMBER(AV34),AV34*$AU$3,"") | AW34: =IF(ISNUMBER(AX34),AX34*$AW$3,"")
B35: 3067612 | C35: 28 | D35: 1 | E35: 송인성 | F35: =SUM(I35:M35,R35:T35,W35,Z35,AC35,AF35,AH35,AK35,AM35,AO35,AQ35,AS35,AU35,AW35,)-SUM(O35:Q35,U35) -> 1025 | R35: =$R$3 -> 0 | S35: -11200 | W35: =$W$3*X35 -> 0 | Z35: =$Z$3*AA35 -> 0 | AC35: =IF(ISNUMBER(AD35),AD35*$AS$3,0) -> 0 | AF35: =$AF$3*AG35 -> 7060 | AG35: 1 | AH35: =$AH$3*AI35 -> 18700 | AI35: 1 | AK35: =IF(ISNUMBER(AL35),AL35*$AK$3,0) -> -6310 | AL35: 1 | AM35: =IF(ISNUMBER(AN35),AN35*$AM$3,0) -> 0 | AO35: -7225 | AQ35: =IF(ISNUMBER(AR35),AR35*$AQ$3,0) -> 0 | AS35: =IF(ISNUMBER(AT35),AT35*$AS$3,0) -> 0 | AU35: =IF(ISNUMBER(AV35),AV35*$AU$3,"") | AW35: =IF(ISNUMBER(AX35),AX35*$AW$3,"")
B36: 3850313 | C36: 29 | D36: 1 | E36: 안영욱 | F36: =SUM(I36:M36,R36:T36,W36,Z36,AC36,AF36,AH36,AK36,AM36,AO36,AQ36,AS36,AU36,AW36,)-SUM(O36:Q36,U36) -> 10375 | R36: =$R$3 -> 0 | S36: -11200 | W36: =$W$3*X36 -> 0 | Z36: =$Z$3*AA36 -> 0 | AC36: =IF(ISNUMBER(AD36),AD36*$AS$3,0) -> 0 | AF36: =$AF$3*AG36 -> 7060 | AG36: 1 | AH36: =$AH$3*AI36 -> 18700 | AI36: 1 | AK36: =IF(ISNUMBER(AL36),AL36*$AK$3,0) -> -6310 | AL36: 1 | AM36: =IF(ISNUMBER(AN36),AN36*$AM$3,0) -> 0 | AO36: 2125 | AQ36: =IF(ISNUMBER(AR36),AR36*$AQ$3,0) -> 0 | AS36: =IF(ISNUMBER(AT36),AT36*$AS$3,0) -> 0 | AU36: =IF(ISNUMBER(AV36),AV36*$AU$3,"") | AW36: =IF(ISNUMBER(AX36),AX36*$AW$3,"")
B37: 3555414 | C37: 30 | D37: 1 | E37: 양성신 | F37: =SUM(I37:M37,R37:T37,W37,Z37,AC37,AF37,AH37,AK37,AM37,AO37,AQ37,AS37,AU37,AW37,)-SUM(O37:Q37,U37) -> 1025 | R37: =$R$3 -> 0 | S37: -11200 | W37: =$W$3*X37 -> 0 | Z37: =$Z$3*AA37 -> 0 | AC37: =IF(ISNUMBER(AD37),AD37*$AS$3,0) -> 0 | AF37: =$AF$3*AG37 -> 7060 | AG37: 1 | AH37: =$AH$3*AI37 -> 18700 | AI37: 1 | AK37: =IF(ISNUMBER(AL37),AL37*$AK$3,0) -> -6310 | AL37: 1 | AM37: =IF(ISNUMBER(AN37),AN37*$AM$3,0) -> 0 | AO37: -7225 | AQ37: =IF(ISNUMBER(AR37),AR37*$AQ$3,0) -> 0 | AS37: =IF(ISNUMBER(AT37),AT37*$AS$3,0) -> 0 | AU37: =IF(ISNUMBER(AV37),AV37*$AU$3,"") | AW37: =IF(ISNUMBER(AX37),AX37*$AW$3,"")
B38: 3192416 | C38: 31 | D38: 1 | E38: 연승현 | F38: =SUM(I38:M38,R38:T38,W38,Z38,AC38,AF38,AH38,AK38,AM38,AO38,AQ38,AS38,AU38,AW38,)-SUM(O38:Q38,U38) -> 1025 | R38: =$R$3 -> 0 | S38: -11200 | W38: =$W$3*X38 -> 0 | Z38: =$Z$3*AA38 -> 0 | AC38: =IF(ISNUMBER(AD38),AD38*$AS$3,0) -> 0 | AF38: =$AF$3*AG38 -> 7060 | AG38: 1 | AH38: =$AH$3*AI38 -> 18700 | AI38: 1 | AK38: =IF(ISNUMBER(AL38),AL38*$AK$3,0) -> -6310 | AL38: 1 | AM38: =IF(ISNUMBER(AN38),AN38*$AM$3,0) -> 0 | AO38: -7225 | AQ38: =IF(ISNUMBER(AR38),AR38*$AQ$3,0) -> 0 | AS38: =IF(ISNUMBER(AT38),AT38*$AS$3,0) -> 0 | AU38: =IF(ISNUMBER(AV38),AV38*$AU$3,"") | AW38: =IF(ISNUMBER(AX38),AX38*$AW$3,"")
B39: 4055619 | C39: 32 | D39: 1 | E39: 오현서 | F39: =SUM(I39:M39,R39:T39,W39,Z39,AC39,AF39,AH39,AK39,AM39,AO39,AQ39,AS39,AU39,AW39,)-SUM(O39:Q39,U39) -> 10375 | R39: =$R$3 -> 0 | S39: -11200 | W39: =$W$3*X39 -> 0 | Z39: =$Z$3*AA39 -> 0 | AC39: =IF(ISNUMBER(AD39),AD39*$AS$3,0) -> 0 | AF39: =$AF$3*AG39 -> 7060 | AG39: 1 | AH39: =$AH$3*AI39 -> 18700 | AI39: 1 | AK39: =IF(ISNUMBER(AL39),AL39*$AK$3,0) -> -6310 | AL39: 1 | AM39: =IF(ISNUMBER(AN39),AN39*$AM$3,0) -> 0 | AO39: 2125 | AQ39: =IF(ISNUMBER(AR39),AR39*$AQ$3,0) -> 0 | AS39: =IF(ISNUMBER(AT39),AT39*$AS$3,0) -> 0 | AU39: =IF(ISNUMBER(AV39),AV39*$AU$3,"") | AW39: =IF(ISNUMBER(AX39),AX39*$AW$3,"")
B40: 3170312 | C40: 33 | D40: 1 | E40: 육지성 | F40: =SUM(I40:M40,R40:T40,W40,Z40,AC40,AF40,AH40,AK40,AM40,AO40,AQ40,AS40,AU40,AW40,)-SUM(O40:Q40,U40) -> 1025 | R40: =$R$3 -> 0 | S40: -11200 | W40: =$W$3*X40 -> 0 | Z40: =$Z$3*AA40 -> 0 | AC40: =IF(ISNUMBER(AD40),AD40*$AS$3,0) -> 0 | AF40: =$AF$3*AG40 -> 7060 | AG40: 1 | AH40: =$AH$3*AI40 -> 18700 | AI40: 1 | AK40: =IF(ISNUMBER(AL40),AL40*$AK$3,0) -> -6310 | AL40: 1 | AM40: =IF(ISNUMBER(AN40),AN40*$AM$3,0) -> 0 | AO40: -7225 | AQ40: =IF(ISNUMBER(AR40),AR40*$AQ$3,0) -> 0 | AS40: =IF(ISNUMBER(AT40),AT40*$AS$3,0) -> 0 | AU40: =IF(ISNUMBER(AV40),AV40*$AU$3,"") | AW40: =IF(ISNUMBER(AX40),AX40*$AW$3,"")
B41: 4565616 | C41: 34 | D41: 1 | E41: 윤신비 | F41: =SUM(I41:M41,R41:T41,W41,Z41,AC41,AF41,AH41,AK41,AM41,AO41,AQ41,AS41,AU41,AW41,)-SUM(O41:Q41,U41) -> 1025 | R41: =$R$3 -> 0 | S41: -11200 | W41: =$W$3*X41 -> 0 | Z41: =$Z$3*AA41 -> 0 | AC41: =IF(ISNUMBER(AD41),AD41*$AS$3,0) -> 0 | AF41: =$AF$3*AG41 -> 7060 | AG41: 1 | AH41: =$AH$3*AI41 -> 18700 | AI41: 1 | AK41: =IF(ISNUMBER(AL41),AL41*$AK$3,0) -> -6310 | AL41: 1 | AM41: =IF(ISNUMBER(AN41),AN41*$AM$3,0) -> 0 | AO41: -7225 | AQ41: =IF(ISNUMBER(AR41),AR41*$AQ$3,0) -> 0 | AS41: =IF(ISNUMBER(AT41),AT41*$AS$3,0) -> 0 | AU41: =IF(ISNUMBER(AV41),AV41*$AU$3,"") | AW41: =IF(ISNUMBER(AX41),AX41*$AW$3,"")
B42: 3169513 | C42: 35 | D42: 1 | E42: 윤치호 | F42: =SUM(I42:M42,R42:T42,W42,Z42,AC42,AF42,AH42,AK42,AM42,AO42,AQ42,AS42,AU42,AW42,)-SUM(O42:Q42,U42) -> 18125 | R42: =$R$3 -> 0 | S42: -11200 | W42: =$W$3*X42 -> 0 | Z42: =$Z$3*AA42 -> 0 | AC42: =IF(ISNUMBER(AD42),AD42*$AS$3,0) -> 0 | AF42: =$AF$3*AG42 -> 7060 | AG42: 1 | AH42: =$AH$3*AI42 -> 18700 | AI42: 1 | AK42: =IF(ISNUMBER(AL42),AL42*$AK$3,0) -> -6310 | AL42: 1 | AM42: =IF(ISNUMBER(AN42),AN42*$AM$3,0) -> 0 | AO42: 9875 | AQ42: =IF(ISNUMBER(AR42),AR42*$AQ$3,0) -> 0 | AS42: =IF(ISNUMBER(AT42),AT42*$AS$3,0) -> 0 | AU42: =IF(ISNUMBER(AV42),AV42*$AU$3,"") | AW42: =IF(ISNUMBER(AX42),AX42*$AW$3,"")
...

Sheet 2018년 정산서
C3: 2018학년도 정산서
C5: 학생 주민등록번호 뒷자리 :
C6: 이름 : | D6: =VLOOKUP(G5,데이터!$B$8:$AW$185,4,FALSE) -> #N/A | I6: 중 ( | J6: =VLOOKUP(G5,데이터!$B$8:$AW$185,3,FALSE) -> #N/A | K6: ) | L6: 학년
C8: 미납분 | E8: =데이터!R189 -> 수업료 | G8: =IF(VLOOKUP($G$5,데이터!$B$8:$AX$185,9,FALSE)="","",VLOOKUP($G$5,데이터!$B$8:$AX$185,9,FALSE)) -> #N/A | I8: =VLOOKUP($G$5,데이터!$B$8:$AX$185,8,FALSE) -> #N/A | L8: 원
E9: =데이터!S189 -> 급식비 | G9: =IF(VLOOKUP($G$5,데이터!$B$8:$AX$185,11,FALSE)="","",VLOOKUP($G$5,데이터!$B$8:$AX$185,11,FALSE)) -> #N/A | I9: =VLOOKUP($G$5,데이터!$B$8:$AX$185,10,FALSE) -> #N/A | L9: 원
E10: =데이터!M189 -> 기숙사비 | G10: =IF(VLOOKUP($G$5,데이터!$B$8:$AX$185,13,FALSE)="","",VLOOKUP($G$5,데이터!$B$8:$AX$185,13,FALSE)) -> #N/A | I10: =VLOOKUP($G$5,데이터!$B$8:$AX$185,12,FALSE) -> #N/A | L10: 원
C11: 2018년 4분기 | E11: 수업료 | I11: =VLOOKUP($G$5,데이터!$B$8:$AX$185,17,FALSE)-VLOOKUP($G$5,데이터!$B$8:$AX$185,14,FALSE) -> #N/A | L11: 원
C12: 2018년 정산분 | E12: 급식비 | I12: =VLOOKUP($G$5,데이터!$B$8:$AX$185,18,FALSE)-VLOOKUP($G$5,데이터!$B$8:$AX$185,15,FALSE) -> #N/A | L12: 원
I13: =VLOOKUP($G$5,데이터!$B$8:$AX$185,19,FALSE)-VLOOKUP($G$5,데이터!$B$8:$AX$185,16,FALSE) -> #N/A | L13: 원
E14: =IF(ISNUMBER(VLOOKUP($G$5,데이터!$B$8:$AX$185,20,FALSE)),데이터!U188,"") | G14: =IF(E14="","",VLOOKUP($G$5,데이터!$B$8:$AX$185,21,FALSE)) | I14: =IF(ISNUMBER(VLOOKUP($G$5,데이터!$B$8:$AX$185,20,FALSE)),VLOOKUP($G$5,데이터!$B$8:$AX$185,20,FALSE),0) -> 0 | L14: 원
E15: =IF(VLOOKUP($G$5,데이터!$B$8:$AX$185,24,FALSE)="","(7월분)",VLOOKUP($G$5,데이터!$B$8:$AX$185,24,FALSE)) -> #N/A | I15: =VLOOKUP($G$5,데이터!$B$8:$AX$185,22,FALSE) -> #N/A | L15: 원
C16: 우유비 | E16: =IF(VLOOKUP($G$5,데이터!$B$8:$AX$185,27,FALSE)="","(1~2월분)",VLOOKUP($G$5,데이터!$B$8:$AX$185,27,FALSE)) -> #N/A | I16: =VLOOKUP($G$5,데이터!$B$8:$AX$185,25,FALSE) -> #N/A | L16: 원
C17: =IF(VLOOKUP($G$5,데이터!$B$8:$AX$185,25,FALSE)="","","태권도비") -> #N/A | E17: =IF(VLOOKUP($G$5,데이터!$B$8:$AX$185,29,FALSE)="","",IF(VLOOKUP($G$5,데이터!$B$8:$AX$185,30,FALSE)="","(12월분)",VLOOKUP($G$5,데이터!$B$8:$AX$185,30,FALSE))) -> #N/A | I17: =VLOOKUP($G$5,데이터!$B$8:$AX$185,28,FALSE) -> #N/A | L17: 원
C18: =IF(VLOOKUP($G$5,데이터!$B$8:$AX$185,32,FALSE)="","",데이터!AF188) -> #N/A | I18: =VLOOKUP($G$5,데이터!$B$8:$AX$185,31,FALSE) -> #N/A | L18: 원
C19: =IF(VLOOKUP($G$5,데이터!$B$8:$AX$185,34,FALSE)=0,"",데이터!AH6) -> #N/A | E19: =IF(VLOOKUP($G$5,데이터!$B$8:$AX$185,34,FALSE)="","",IF(VLOOKUP($G$5,데이터!$B$8:$AX$185,35,FALSE)="","",VLOOKUP($G$5,데이터!$B$8:$AX$185,35,FALSE))) -> #N/A | I19: =IF(ISBLANK(C19),0,VLOOKUP($G$5,데이터!$B$8:$AX$185,33,FALSE)) -> #N/A | L19: 원
C20: =IF(VLOOKUP($G$5,데이터!$B$8:$AX$185,37,FALSE)=0,"",데이터!AK188) -> #N/A | I20: =IF(ISBLANK(C20),0,VLOOKUP($G$5,데이터!$B$8:$AX$185,36,FALSE)) -> #N/A | L20: 원
C21: =IF(VLOOKUP($G$5,데이터!$B$8:$AX$185,38,FALSE)=0,"",데이터!AM188) -> #N/A | I21: =IF(ISBLANK(C21),0,VLOOKUP($G$5,데이터!$B$8:$AX$185,38,FALSE)) -> #N/A | L21: 원
C22: =IF(VLOOKUP($G$5,데이터!$B$8:$AX$185,40,FALSE)=0,"",데이터!AO188) -> #N/A | I22: =IF(ISBLANK(C22),0,VLOOKUP($G$5,데이터!$B$8:$AX$185,40,FALSE)) -> #N/A | L22: 원
C23: =IF(VLOOKUP($G$5,데이터!$B$8:$AX$185,42,FALSE)=0,"",데이터!AQ188) -> #N/A | I23: =IF(ISBLANK(C23),0,VLOOKUP($G$5,데이터!$B$8:$AX$185,42,FALSE)) -> #N/A | L23: 원
C24: =IF(VLOOKUP($G$5,데이터!$B$8:$AX$185,44,FALSE)=0,"",데이터!AS2) -> #N/A | I24: =IF(ISBLANK(C24),0,VLOOKUP($G$5,데이터!$B$8:$AX$185,44,FALSE)) -> #N/A | L24: 원
C25: =데이터!AU188 -> 0
C26: =데이터!AW188 -> -
C27: 합 계 | I27: =I8+I10+I12+I13+I15+I16+I17+I18+I22+I23+I21-I14+I20+I19+I24+I9+I11 -> #N/A | L27: 원
C29: 위 금액을 청구함. (2019년 1월 18일 입금기준)
C31: 스쿨뱅킹 납기 마감일 : '19. 1. 30 (수) 이후 미납금에 대해서는 수시로 스쿨뱅킹이 진행 됩니다.
C33: 2019. 1. 23.
C35: 링컨학교장
