Workbook

Sheet 데이터
B2: =YEAR(TODAY()) -> 2019 | D2: 년 | H2: 정산서 | O2: off | R2: 수업료 | S2: 급식비 | T2: 기숙사비 | W2: 간식비 | Z2: 우유비 | AC2: 태궝도비 | AF2: 구강검진비 | AH2: 건강검진비 | AK2: 현장체험학습비 | AM2: 졸업여행비 | AO2: 교재비정산 | AQ2: 졸업앨범비 | AW2: =AW6 -> -
R3: 0 | S3: -11200 | T3: 0 | W3: 0 | Z3: 15000 | AC3: 20000 | AF3: 7060 | AH3: 18700 | AK3: -6310 | AM3: 114200 | AO3: 0 | AQ3: 59000 | AS3: 0 | AU3: 0 | AW3: 0
B5: 1 | C5: 2 | D5: 3 | E5: 4 | F5: 5 | G5: 6 | H5: 7 | I5: 8 | J5: 9 | K5: 10 | L5: 11 | M5: 12 | N5: 13 | O5: 14 | P5: 15 | Q5: 16 | R5: 17 | S5: 18 | T5: 19 | U5: 20 | V5: 21 | W5: 22 | X5: 23 | Y5: 24 | Z5: 25 | AA5: 26 | AB5: 27 | AC5: 28 | AD5: 29 | AE5: 30 | AF5: 31 | AG5: 32 | AH5: 33 | AI5: 34 | AJ5: 35 | AK5: 36 | AL5: 37 | AM5: 38 | AN5: 39 | AO5: 40 | AP5: 41 | AQ5: 42 | AR5: 43 | AS5: 44 | AT5: 45 | AU5: 46 | AV5: 47 | AW5: 48 | AX5: 49
B6: 학생 주민등록번호 뒷자리 | C6: No. | D6: 학년 | E6: 학생명 | F6: 총계 | G6: 기준 | H6: 금액 | I6: 미납금 | O6: 선입금 | R6: 4사분기 | U6: 장학금 차감 | Z6: 우유급식비 | AC6: 태권도비 | AF6: 구강검진비 | AH6: 건강검진비 | AK6: 현장체험학습비 | AM6: 졸업여행비 | AO6: 교재비정산 | AQ6: 졸업앨범비 | AW6: -
G7: 수업료 | H7: 기숙사비 | I7: 수업료 | J7: 미납메모 | K7: 급식비 | L7: 미납메모 | M7: 기숙사비 | N7: 미납메모 | O7: 교육비 | P7: 급식비 | Q7: 기숙사비 | R7: 수업료 | S7: 급식비 | T7: 기숙사비 | U7: 장학금 | V7: 비고(메모) | X7: 횟수 | Y7: 미납메모 | Z7: 우유급식비 | AA7: 횟수 | AB7: 미납메모 | AC7: 태권도비 | AD7: 체크 | AE7: 미납메모 | AF7: 구강검진비 | AG7: 횟수 | AH7: 건강검진비 | AI7: 체크 | AJ7: 미납메모 | AK7: 현장체험학습비 | AL7: 체크 | AM7: 졸업여행비 | AN7: 체크 | AO7: 교재비정산 | AP7: 체크 | AQ7: 졸업앨범비 | AR7: 체크 | AT7: 체크 | AV7: 체크 | AX7: 체크
B8: 4201111 | C8: 1 | D8: 1 | E8: 강은미 | F8: =SUM(I8:M8,R8:T8,W8,Z8,AC8,AF8,AH8,AK8,AM8,AO8,AQ8,AS8,AU8,AW8,)-SUM(O8:Q8,U8) -> 10375 | R8: =$R$3 -> 0 | S8: -11200 | W8: =$W$3*X8 -> 0 | Z8: =$Z$3*AA8 -> 0 | AC8: =IF(ISNUMBER(AD8),AD8*$AS$3,0) -> 0 | AF8: =$AF$3*AG8 -> 7060 | AG8: 1 | AH8: =$AH$3*AI8 -> 18700 | AI8: 1 | AK8: =IF(ISNUMBER(AL8),AL8*$AK$3,0) -> -6310 | AL8: 1 | AM8: =IF(ISNUMBER(AN8),AN8*$AM$3,0) -> 0 | AO8: 2125 | AQ8: =IF(ISNUMBER(AR8),AR8*$AQ$3,0) -> 0 | AS8: =IF(ISNUMBER(AT8),AT8*$AS$3,0) -> 0 | AU8: =IF(ISNUMBER(AV8),AV8*$AU$3,"") | AW8: =IF(ISNUMBER(AX8),AX8*$AW$3,"")
B9: 3802515 | C9: 2 | D9: 1 | E9: 고명진 | F9: =SUM(I9:M9,R9:T9,W9,Z9,AC9,AF9,AH9,AK9,AM9,AO9,AQ9,AS9,AU9,AW9,)-SUM(O9:Q9,U9) -> 18125 | R9: =$R$3 -> 0 | S9: -11200 | W9: =$W$3*X9 -> 0 | Z9: =$Z$3*AA9 -> 0 | AC9: =IF(ISNUMBER(AD9),AD9*$AS$3,0) -> 0 | AF9: =$AF$3*AG9 -> 7060 | AG9: 1 | AH9: =$AH$3*AI9 -> 18700 | AI9: 1 | AK9: =IF(ISNUMBER(AL9),AL9*$AK$3,0) -> -6310 | AL9: 1 | AM9: =IF(ISNUMBER(AN9),AN9*$AM$3,0) -> 0 | AO9: 9875 | AQ9: =IF(ISNUMBER(AR9),AR9*$AQ$3,0) -> 0 | AS9: =IF(ISNUMBER(AT9),AT9*$AS$3,0) -> 0 | AU9: =IF(ISNUMBER(AV9),AV9*$AU$3,"") | AW9: =IF(ISNUMBER(AX9),AX9*$AW$3,"")
B10: 3409117 | C10: 3 | D10: 1 | E10: 고수원 | F10: =SUM(I10:M10,R10:T10,W10,Z10,AC10,AF10,AH10,AK10,AM10,AO10,AQ10,AS10,AU10,AW10,)-SUM(O10:Q10,U10) -> 1025 | R10: =$R$3 -> 0 | S10: -11200 | W10: =$W$3*X10 -> 0 | Z10: =$Z$3*AA10 -> 0 | AC10: =IF(ISNUMBER(AD10),AD10*$AS$3,0) -> 0 | AF10: =$AF$3*AG10 -> 7060 | AG10: 1 | AH10: =$AH$3*AI10 -> 18700 | AI10: 1 | AK10: =IF(ISNUMBER(AL10),AL10*$AK$3,0) -> -6310 | AL10: 1 | AM10: =IF(ISNUMBER(AN10),AN10*$AM$3,0) -> 0 | AO10: -7225 | AQ10: =IF(ISNUMBER(AR10),AR10*$AQ$3,0) -> 0 | AS10: =IF(ISNUMBER(AT10),AT10*$AS$3,0) -> 0 | AU10: =IF(ISNUMBER(AV10),AV10*$AU$3,"") | AW10: =IF(ISNUMBER(AX10),AX10*$AW$3,"")
B11: 3179810 | C11: 4 | D11: 1 | E11: 권혁찬 | F11: =SUM(I11:M11,R11:T11,W11,Z11,AC11,AF11,AH11,AK11,AM11,AO11,AQ11,AS11,AU11,AW11,)-SUM(O11:Q11,U11) -> 16805 | R11: =$R$3 -> 0 | S11: -11200 | W11: =$W$3*X11 -> 0 | Z11: =$Z$3*AA11 -> 0 | AC11: =IF(ISNUMBER(AD11),AD11*$AS$3,0) -> 0 | AF11: =$AF$3*AG11 -> 7060 | AG11: 1 | AH11: 25130 | AI11: 1 | AK11: =IF(ISNUMBER(AL11),AL11*$AK$3,0) -> -6310 | AL11: 1 | AM11: =IF(ISNUMBER(AN11),AN11*$AM$3,0) -> 0 | AO11: 2125 | AQ11: =IF(ISNUMBER(AR11),AR11*$AQ$3,0) -> 0 | AS11: =IF(ISNUMBER(AT11),AT11*$AS$3,0) -> 0 | AU11: =IF(ISNUMBER(AV11),AV11*$AU$3,"") | AW11: =IF(ISNUMBER(AX11),AX11*$AW$3,"")
B12: 4074111 | C12: 5 | D12: 1 | E12: 김려은 | F12: =SUM(I12:M12,R12:T12,W12,Z12,AC12,AF12,AH12,AK12,AM12,AO12,AQ12,AS12,AU12,AW12,)-SUM(O12:Q12,U12) -> 10375 | R12: =$R$3 -> 0 | S12: -11200 | W12: =$W$3*X12 -> 0 | Z12: =$Z$3*AA12 -> 0 | AC12: =IF(ISNUMBER(AD12),AD12*$AS$3,0) -> 0 | AF12: =$AF$3*AG12 -> 7060 | AG12: 1 | AH12: =$AH$3*AI12 -> 18700 | AI12: 1 | AK12: =IF(ISNUMBER(AL12),AL12*$AK$3,0) -> -6310 | AL12: 1 | AM12: =IF(ISNUMBER(AN12),AN12*$AM$3,0) -> 0 | AO12: 2125 | AQ12: =IF(ISNUMBER(AR12),AR12*$AQ$3,0) -> 0 | AS12: =IF(ISNUMBER(AT12),AT12*$AS$3,0) -> 0 | AU12: =IF(ISNUMBER(AV12),AV12*$AU$3,"") | AW12: =IF(ISNUMBER(AX12),AX12*$AW$3,"")
B13: 4824419 | C13: 6 | D13: 1 | E13: 김미지 | F13: =SUM(I13:M13,R13:T13,W13,Z13,AC13,AF13,AH13,AK13,AM13,AO13,AQ13,AS13,AU13,AW13,)-SUM(O13:Q13,U13) -> 1025 | R13: =$R$3 -> 0 | S13: -11200 | W13: =$W$3*X13 -> 0 | Z13: =$Z$3*AA13 -> 0 | AC13: =IF(ISNUMBER(AD13),AD13*$AS$3,0) -> 0 | AF13: =$AF$3*AG13 -> 7060 | AG13: 1 | AH13: =$AH$3*AI13 -> 18700 | AI13: 1 | AK13: =IF(ISNUMBER(AL13),AL13*$AK$3,0) -> -6310 | AL13: 1 | AM13: =IF(ISNUMBER(AN13),AN13*$AM$3,0) -> 0 | AO13: -7225 | AQ13: =IF(ISNUMBER(AR13),AR13*$AQ$3,0) -> 0 | AS13: =IF(ISNUMBER(AT13),AT13*$AS$3,0) -> 0 | AU13: =IF(ISNUMBER(AV13),AV13*$AU$3,"") | AW13: =IF(ISNUMBER(AX13),AX13*$AW$3,"")
B14: 4691211 | C14: 7 | D14: 1 | E14: 김민아 | F14: =SUM(I14:M14,R14:T14,W14,Z14,AC14,AF14,AH14,AK14,AM14,AO14,AQ14,AS14,AU14,AW14,)-SUM(O14:Q14,U14) -> 1025 | R14: =$R$3 -> 0 | S14: -11200 | W14: =$W$3*X14 -> 0 | Z14: =$Z$3*AA14 -> 0 | AC14: =IF(ISNUMBER(AD14),AD14*$AS$3,0) -> 0 | AF14: =$AF$3*AG14 -> 7060 | AG14: 1 | AH14: =$AH$3*AI14 -> 18700 | AI14: 1 | AK14: =IF(ISNUMBER(AL14),AL14*$AK$3,0) -> -6310 | AL14: 1 | AM14: =IF(ISNUMBER(AN14),AN14*$AM$3,0) -> 0 | AO14: -7225 | AQ14: =IF(ISNUMBER(AR14),AR14*$AQ$3,0) -> 0 | AS14: =IF(ISNUMBER(AT14),AT14*$AS$3,0) -> 0 | AU14: =IF(ISNUMBER(AV14),AV14*$AU$3,"") | AW14: =IF(ISNUMBER(AX14),AX14*$AW$3,"")
B15: 4639311 | C15: 8 | D15: 1 | E15: 김민주 | F15: =SUM(I15:M15,R15:T15,W15,Z15,AC15,AF15,AH15,AK15,AM15,AO15,AQ15,AS15,AU15,AW15,)-SUM(O15:Q15,U15) -> 10375 | R15: =$R$3 -> 0 | S15: -11200 | W15: =$W$3*X15 -> 0 | Z15: =$Z$3*AA15 -> 0 | AC15: =IF(ISNUMBER(AD15),AD15*$AS$3,0) -> 0 | AF15: =$AF$3*AG15 -> 7060 | AG15: 1 | AH15: =$AH$3*AI15 -> 18700 | AI15: 1 | AK15: =IF(ISNUMBER(AL15),AL15*$AK$3,0) -> -6310 | AL15: 1 | AM15: =IF(ISNUMBER(AN15),AN15*$AM$3,0) -> 0 | AO15: 2125 | AQ15: =IF(ISNUMBER(AR15),AR15*$AQ$3,0) -> 0 | AS15: =IF(ISNUMBER(AT15),AT15*$AS$3,0) -> 0 | AU15: =IF(ISNUMBER(AV15),AV15*$AU$3,"") | AW15: =IF(ISNUMBER(AX15),AX15*$AW$3,"")
B16: 3801211 | C16: 9 | D16: 1 | E16: 김상민 | F16: =SUM(I16:M16,R16:T16,W16,Z16,AC16,AF16,AH16,AK16,AM16,AO16,AQ16,AS16,AU16,AW16,)-SUM(O16:Q16,U16) -> 1025 | R16: =$R$3 -> 0 | S16: -11200 | W16: =$W$3*X16 -> 0 | Z16: =$Z$3*AA16 -> 0 | AC16: =IF(ISNUMBER(AD16),AD16*$AS$3,0) -> 0 | AF16: =$AF$3*AG16 -> 7060 | AG16: 1 | AH16: =$AH$3*AI16 -> 18700 | AI16: 1 | AK16: =IF(ISNUMBER(AL16),AL16*$AK$3,0) -> -6310 | AL16: 1 | AM16: =IF(ISNUMBER(AN16),AN16*$AM$3,0) -> 0 | AO16: -7225 | AQ16: =IF(ISNUMBER(AR16),AR16*$AQ$3,0) -> 0 | AS16: =IF(ISNUMBER(AT16),AT16*$AS$3,0) -> 0 | AU16: =IF(ISNUMBER(AV16),AV16*$AU$3,"") | AW16: =IF(ISNUMBER(AX16),AX16*$AW$3,"")
B17: 3555519 | C17: 10 | D17: 1 | E17: 김우혁 | F17: =SUM(I17:M17,R17:T17,W17,Z17,AC17,AF17,AH17,AK17,AM17,AO17,AQ17,AS17,AU17,AW17,)-SUM(O17:Q17,U17) -> 1025 | R17: =$R$3 -> 0 | S17: -11200 | W17: =$W$3*X17 -> 0 | Z17: =$Z$3*AA17 -> 0 | AC17: =IF(ISNUMBER(AD17),AD17*$AS$3,0) -> 0 | AF17: =$AF$3*AG17 -> 7060 | AG17: 1 | AH17: =$AH$3*AI17 -> 18700 | AI17: 1 | AK17: =IF(ISNUMBER(AL17),AL17*$AK$3,0) -> -6310 | AL17: 1 | AM17: =IF(ISNUMBER(AN17),AN17*$AM$3,0) -> 0 | AO17: -7225 | AQ17: =IF(ISNUMBER(AR17),AR17*$AQ$3,0) -> 0 | AS17: =IF(ISNUMBER(AT17),AT17*$AS$3,0) -> 0 | AU17: =IF(ISNUMBER(AV17),AV17*$AU$3,"") | AW17: =IF(ISNUMBER(AX17),AX17*$AW$3,"")
B18: 4123511 | C18: 11 | D18: 1 | E18: 류다니 | F18: =SUM(I18:M18,R18:T18,W18,Z18,AC18,AF18,AH18,AK18,AM18,AO18,AQ18,AS18,AU18,AW18,)-SUM(O18:Q18,U18) -> 16805 | R18: =$R$3 -> 0 | S18: -11200 | W18: =$W$3*X18 -> 0 | Z18: =$Z$3*AA18 -> 0 | AC18: =IF(ISNUMBER(AD18),AD18*$AS$3,0) -> 0 | AF18: =$AF$3*AG18 -> 7060 | AG18: 1 | AH18: 25130 | AI18: 1 | AK18: =IF(ISNUMBER(AL18),AL18*$AK$3,0) -> -6310 | AL18: 1 | AM18: =IF(ISNUMBER(AN18),AN18*$AM$3,0) -> 0 | AO18: 2125 | AQ18: =IF(ISNUMBER(AR18),AR18*$AQ$3,0) -> 0 | AS18: =IF(ISNUMBER(AT18),AT18*$AS$3,0) -> 0 | AU18: =IF(ISNUMBER(AV18),AV18*$AU$3,"") | AW18: =IF(ISNUMBER(AX18),AX18*$AW$3,"")
B19: 3824411 | C19: 12 | D19: 1 | E19: 류지상 | F19: =SUM(I19:M19,R19:T19,W19,Z19,AC19,AF19,AH19,AK19,AM19,AO19,AQ19,AS19,AU19,AW19,)-SUM(O19:Q19,U19) -> 10375 | R19: =$R$3 -> 0 | S19: -11200 | W19: =$W$3*X19 -> 0 | Z19: =$Z$3*AA19 -> 0 | AC19: =IF(ISNUMBER(AD19),AD19*$AS$3,0) -> 0 | AF19: =$AF$3*AG19 -> 7060 | AG19: 1 | AH19: =$AH$3*AI19 -> 18700 | AI19: 1 | AK19: =IF(ISNUMBER(AL19),AL19*$AK$3,0) -> -6310 | AL19: 1 | AM19: =IF(ISNUMBER(AN19),AN19*$AM$3,0) -> 0 | AO19: 2125 | AQ19: =IF(ISNUMBER(AR19),AR19*$AQ$3,0) -> 0 | AS19: =IF(ISNUMBER(AT19),AT19*$AS$3,0) -> 0 | AU19: =IF(ISNUMBER(AV19),AV19*$AU$3,"") | AW19: =IF(ISNUMBER(AX19),AX19*$AW$3,"")
B20: 4200517 | C20: 13 | D20: 1 | E20: 문성하 | F20: =SUM(I20:M20,R20:T20,W20,Z20,AC20,AF20,AH20,AK20,AM20,AO20,AQ20,AS20,AU20,AW20,)-SUM(O20:Q20,U20) -> 24555 | R20: =$R$3 -> 0 | S20: -11200 | W20: =$W$3*X20 -> 0 | Z20: =$Z$3*AA20 -> 0 | AC20: =IF(ISNUMBER(AD20),AD20*$AS$3,0) -> 0 | AF20: =$AF$3*AG20 -> 7060 | AG20: 1 | AH20: 25130 | AI20: 1 | AK20: =IF(ISNUMBER(AL20),AL20*$AK$3,0) -> -6310 | AL20: 1 | AM20: =IF(ISNUMBER(AN20),AN20*$AM$3,0) -> 0 | AO20: 9875 | AQ20: =IF(ISNUMBER(AR20),AR20*$AQ$3,0) -> 0 | AS20: =IF(ISNUMBER(AT20),AT20*$AS$3,0) -> 0 | AU20: =IF(ISNUMBER(AV20),AV20*$AU$3,"") | AW20: =IF(ISNUMBER(AX20),AX20*$AW$3,"")
B21: 3148713 | C21: 14 | D21: 1 | E21: 박상훈 | F21: =SUM(I21:M21,R21:T21,W21,Z21,AC21,AF21,AH21,AK21,AM21,AO21,AQ21,AS21,AU21,AW21,)-SUM(O21:Q21,U21) -> 1025 | R21: =$R$3 -> 0 | S21: -11200 | W21: =$W$3*X21 -> 0 | Z21: =$Z$3*AA21 -> 0 | AC21: =IF(ISNUMBER(AD21),AD21*$AS$3,0) -> 0 | AF21: =$AF$3*AG21 -> 7060 | AG21: 1 | AH21: =$AH$3*AI21 -> 18700 | AI21: 1 | AK21: =IF(ISNUMBER(AL21),AL21*$AK$3,0) -> -6310 | AL21: 1 | AM21: =IF(ISNUMBER(AN21),AN21*$AM$3,0) -> 0 | AO21: -7225 | AQ21: =IF(ISNUMBER(AR21),AR21*$AQ$3,0) -> 0 | AS21: =IF(ISNUMBER(AT21),AT21*$AS$3,0) -> 0 | AU21: =IF(ISNUMBER(AV21),AV21*$AU$3,"") | AW21: =IF(ISNUMBER(AX21),AX21*$AW$3,"")
B22: 4401813p | C22: 15 | D22: 1 | E22: 박수인 | F22: =SUM(I22:M22,R22:T22,W22,Z22,AC22,AF22,AH22,AK22,AM22,AO22,AQ22,AS22,AU22,AW22,)-SUM(O22:Q22,U22) -> 10375 | R22: =$R$3 -> 0 | S22: -11200 | W22: =$W$3*X22 -> 0 | Z22: =$Z$3*AA22 -> 0 | AC22: =IF(ISNUMBER(AD22),AD22*$AS$3,0) -> 0 | AF22: =$AF$3*AG22 -> 7060 | AG22: 1 | AH22: =$AH$3*AI22 -> 18700 | AI22: 1 | AK22: =IF(ISNUMBER(AL22),AL22*$AK$3,0) -> -6310 | AL22: 1 | AM22: =IF(ISNUMBER(AN22),AN22*$AM$3,0) -> 0 | AO22: 2125 | AQ22: =IF(ISNUMBER(AR22),AR22*$AQ$3,0) -> 0 | AS22: =IF(ISNUMBER(AT22),AT22*$AS$3,0) -> 0 | AU22: =IF(ISNUMBER(AV22),AV22*$AU$3,"") | AW22: =IF(ISNUMBER(AX22),AX22*$AW$3,"")
B23: 3164424 | C23: 16 | D23: 1 | E23: 박시원 | F23: =SUM(I23:M23,R23:T23,W23,Z23,AC23,AF23,AH23,AK23,AM23,AO23,AQ23,AS23,AU23,AW23,)-SUM(O23:Q23,U23) -> 10375 | R23: =$R$3 -> 0 | S23: -11200 | W23: =$W$3*X23 -> 0 | Z23: =$Z$3*AA23 -> 0 | AC23: =IF(ISNUMBER(AD23),AD23*$AS$3,0) -> 0 | AF23: =$AF$3*AG23 -> 7060 | AG23: 1 | AH23: =$AH$3*AI23 -> 18700 | AI23: 1 | AK23: =IF(ISNUMBER(AL23),AL23*$AK$3,0) -> -6310 | AL23: 1 | AM23: =IF(ISNUMBER(AN23),AN23*$AM$3,0) -> 0 | AO23: 2125 | AQ23: =IF(ISNUMBER(AR23),AR23*$AQ$3,0) -> 0 | AS23: =IF(ISNUMBER(AT23),AT23*$AS$3,0) -> 0 | AU23: =IF(ISNUMBER(AV23),AV23*$AU$3,"") | AW23: =IF(ISNUMBER(AX23),AX23*$AW$3,"")
B24: 3126312 | C24: 17 | D24: 1 | E24: 박영재 | F24: =SUM(I24:M24,R24:T24,W24,Z24,AC24,AF24,AH24,AK24,AM24,AO24,AQ24,AS24,AU24,AW24,)-SUM(O24:Q24,U24) -> 18125 | R24: =$R$3 -> 0 | S24: -11200 | W24: =$W$3*X24 -> 0 | Z24: =$Z$3*AA24 -> 0 | AC24: =IF(ISNUMBER(AD24),AD24*$AS$3,0) -> 0 | AF24: =$AF$3*AG24 -> 7060 | AG24: 1 | AH24: =$AH$3*AI24 -> 18700 | AI24: 1 | AK24: =IF(ISNUMBER(AL24),AL24*$AK$3,0) -> -6310 | AL24: 1 | AM24: =IF(ISNUMBER(AN24),AN24*$AM$3,0) -> 0 | AO24: 9875 | AQ24: =IF(ISNUMBER(AR24),AR24*$AQ$3,0) -> 0 | AS24: =IF(ISNUMBER(AT24),AT24*$AS$3,0) -> 0 | AU24: =IF(ISNUMBER(AV24),AV24*$AU$3,"") | AW24: =IF(ISNUMBER(AX24),AX24*$AW$3,"")
B25: 4120516 | C25: 18 | D25: 1 | E25: 박예진 | F25: =SUM(I25:M25,R25:T25,W25,Z25,AC25,AF25,AH25,AK25,AM25,AO25,AQ25,AS25,AU25,AW25,)-SUM(O25:Q25,U25) -> 1025 | R25: =$R$3 -> 0 | S25: -11200 | W25: =$W$3*X25 -> 0 | Z25: =$Z$3*AA25 -> 0 | AC25: =IF(ISNUMBER(AD25),AD25*$AS$3,0) -> 0 | AF25: =$AF$3*AG25 -> 7060 | AG25: 1 | AH25: =$AH$3*AI25 -> 18700 | AI25: 1 | AK25: =IF(ISNUMBER(AL25),AL25*$AK$3,0) -> -6310 | AL25: 1 | AM25: =IF(ISNUMBER(AN25),AN25*$AM$3,0) -> 0 | AO25: -7225 | AQ25: =IF(ISNUMBER(AR25),AR25*$AQ$3,0) -> 0 | AS25: =IF(ISNUMBER(AT25),AT25*$AS$3,0) -> 0 | AU25: =IF(ISNUMBER(AV25),AV25*$AU$3,"") | AW25: =IF(ISNUMBER(AX25),AX25*$AW$3,"")
B26: 3201117 | C26: 19 | D26: 1 | E26: 박인호 | F26: =SUM(I26:M26,R26:T26,W26,Z26,AC26,AF26,AH26,AK26,AM26,AO26,AQ26,AS26,AU26,AW26,)-SUM(O26:Q26,U26) -> 1025 | R26: =$R$3 -> 0 | S26: -11200 | W26: =$W$3*X26 -> 0 | Z26: =$Z$3*AA26 -> 0 | AC26: =IF(ISNUMBER(AD26),AD26*$AS$3,0) -> 0 | AF26: =$AF$3*AG26 -> 7060 | AG26: 1 | AH26: =$AH$3*AI26 -> 18700 | AI26: 1 | AK26: =IF(ISNUMBER(AL26),AL26*$AK$3,0) -> -6310 | AL26: 1 | AM26: =IF(ISNUMBER(AN26),AN26*$AM$3,0) -> 0 | AO26: -7225 | AQ26: =IF(ISNUMBER(AR26),AR26*$AQ$3,0) -> 0 | AS26: =IF(ISNUMBER(AT26),AT26*$AS$3,0) -> 0 | AU26: =IF(ISNUMBER(AV26),AV26*$AU$3,"") | AW26: =IF(ISNUMBER(AX26),AX26*$AW$3,"")
B27: 3067513 | C27: 20 | D27: 1 | E27: 박형진 | F27: =SUM(I27:M27,R27:T27,W27,Z27,AC27,AF27,AH27,AK27,AM27,AO27,AQ27,AS27,AU27,AW27,)-SUM(O27:Q27,U27) -> 98525 | M27: 97500 | N27: 1~2월분 | R27: =$R$3 -> 0 | S27: -11200 | W27: =$W$3*X27 -> 0 | Z27: =$Z$3*AA27 -> 0 | AC27: =IF(ISNUMBER(AD27),AD27*$AS$3,0) -> 0 | AF27: =$AF$3*AG27 -> 7060 | AG27: 1 | AH27: =$AH$3*AI27 -> 18700 | AI27: 1 | AK27: =IF(ISNUMBER(AL27),AL27*$AK$3,0) -> -6310 | AL27: 1 | AM27: =IF(ISNUMBER(AN27),AN27*$AM$3,0) -> 0 | AO27: -7225 | AQ27: =IF(ISNUMBER(AR27),AR27*$AQ$3,0) -> 0 | AS27: =IF(ISNUMBER(AT27),AT27*$AS$3,0) -> 0 | AU27: =IF(ISNUMBER(AV27),AV27*$AU$3,"") | AW27: =IF(ISNUMBER(AX27),AX27*$AW$3,"")
B28: 3824418b | C28: 21 | D28: 1 | E28: 배은욱 | F28: =SUM(I28:M28,R28:T28,W28,Z28,AC28,AF28,AH28,AK28,AM28,AO28,AQ28,AS28,AU28,AW28,)-SUM(O28:Q28,U28) -> 1025 | R28: =$R$3 -> 0 | S28: -11200 | W28: =$W$3*X28 -> 0 | Z28: =$Z$3*AA28 -> 0 | AC28: =IF(ISNUMBER(AD28),AD28*$AS$3,0) -> 0 | AF28: =$AF$3*AG28 -> 7060 | AG28: 1 | AH28: =$AH$3*AI28 -> 18700 | AI28: 1 | AK28: =IF(ISNUMBER(AL28),AL28*$AK$3,0) -> -6310 | AL28: 1 | AM28: =IF(ISNUMBER(AN28),AN28*$AM$3,0) -> 0 | AO28: -7225 | AQ28: =IF(ISNUMBER(AR28),AR28*$AQ$3,0) -> 0 | AS28: =IF(ISNUMBER(AT28),AT28*$AS$3,0) -> 0 | AU28: =IF(ISNUMBER(AV28),AV28*$AU$3,"") | AW28: =IF(ISNUMBER(AX28),AX28*$AW$3,"")
B29: 3163517 | C29: 22 | D29: 1 | E29: 백성은 | F29: =SUM(I29:M29,R29:T29,W29,Z29,AC29,AF29,AH29,AK29,AM29,AO29,AQ29,AS29,AU29,AW29,)-SUM(O29:Q29,U29) -> 1097875 | I29: 510000 | J29: 4분기 | K29: =232500+232500 -> 465000 | L29: 12~2월분 | M29: 97500 | N29: 1~2월분 | R29: =$R$3 -> 0 | S29: -11200 | W29: =$W$3*X29 -> 0 | Z29: =$Z$3*AA29 -> 15000 | AA29: 1 | AB29: 1~2월분 | AC29: =IF(ISNUMBER(AD29),AD29*$AS$3,0) -> 0 | AF29: =$AF$3*AG29 -> 7060 | AG29: 1 | AH29: =$AH$3*AI29 -> 18700 | AI29: 1 | AK29: =IF(ISNUMBER(AL29),AL29*$AK$3,0) -> -6310 | AL29: 1 | AM29: =IF(ISNUMBER(AN29),AN29*$AM$3,0) -> 0 | AO29: 2125 | AQ29: =IF(ISNUMBER(AR29),AR29*$AQ$3,0) -> 0 | AS29: =IF(ISNUMBER(AT29),AT29*$AS$3,0) -> 0 | AU29: =IF(ISNUMBER(AV29),AV29*$AU$3,"") | AW29: =IF(ISNUMBER(AX29),AX29*$AW$3,"")
B30: 4070323 | C30: 23 | D30: 1 | E30: 백소은 | F30: =SUM(I30:M30,R30:T30,W30,Z30,AC30,AF30,AH30,AK30,AM30,AO30,AQ30,AS30,AU30,AW30,)-SUM(O30:Q30,U30) -> 1025 | R30: =$R$3 -> 0 | S30: -11200 | W30: =$W$3*X30 -> 0 | Z30: =$Z$3*AA30 -> 0 | AC30: =IF(ISNUMBER(AD30),AD30*$AS$3,0) -> 0 | AF30: =$AF$3*AG30 -> 7060 | AG30: 1 | AH30: =$AH$3*AI30 -> 18700 | AI30: 1 | AK30: =IF(ISNUMBER(AL30),AL30*$AK$3,0) -> -6310 | AL30: 1 | AM30: =IF(ISNUMBER(AN30),AN30*$AM$3,0) -> 0 | AO30: -7225 | AQ30: =IF(ISNUMBER(AR30),AR30*$AQ$3,0) -> 0 | AS30: =IF(ISNUMBER(AT30),AT30*$AS$3,0) -> 0 | AU30: =IF(ISNUMBER(AV30),AV30*$AU$3,"") | AW30: =IF(ISNUMBER(AX30),AX30*$AW$3,"")
B31: 4085414 | C31: 24 | D31: 1 | E31: 변찬은 | F31: =SUM(I31:M31,R31:T31,W31,Z31,AC31,AF31,AH31,AK31,AM31,AO31,AQ31,AS31,AU31,AW31,)-SUM(O31:Q31,U31) -> 10375 | R31: =$R$3 -> 0 | S31: -11200 | W31: =$W$3*X31 -> 0 | Z31: =$Z$3*AA31 -> 0 | AC31: =IF(ISNUMBER(AD31),AD31*$AS$3,0) -> 0 | AF31: =$AF$3*AG31 -> 7060 | AG31: 1 | AH31: =$AH$3*AI31 -> 18700 | AI31: 1 | AK31: =IF(ISNUMBER(AL31),AL31*$AK$3,0) -> -6310 | AL31: 1 | AM31: =IF(ISNUMBER(AN31),AN31*$AM$3,0) -> 0 | AO31: 2125 | AQ31: =IF(ISNUMBER(AR31),AR31*$AQ$3,0) -> 0 | AS31: =IF(ISNUMBER(AT31),AT31*$AS$3,0) -> 0 | AU31: =IF(ISNUMBER(AV31),AV31*$AU$3,"") | AW31: =IF(ISNUMBER(AX31),AX31*$AW$3,"")
B32: 3491215 | C32: 25 | D32: 1 | E32: 서주호 | F32: =SUM(I32:M32,R32:T32,W32,Z32,AC32,AF32,AH32,AK32,AM32,AO32,AQ32,AS32,AU32,AW32,)-SUM(O32:Q32,U32) -> 18125 | R32: =$R$3 -> 0 | S32: -11200 | W32: =$W$3*X32 -> 0 | Z32: =$Z$3*AA32 -> 0 | AC32: =IF(ISNUMBER(AD32),AD32*$AS$3,0) -> 0 | AF32: =$AF$3*AG32 -> 7060 | AG32: 1 | AH32: =$AH$3*AI32 -> 18700 | AI32: 1 | AK32: =IF(ISNUMBER(AL32),AL32*$AK$3,0) -> -6310 | AL32: 1 | AM32: =IF(ISNUMBER(AN32),AN32*$AM$3,0) -> 0 | AO32: 9875 | AQ32: =IF(ISNUMBER(AR32),AR32*$AQ$3,0) -> 0 | AS32: =IF(ISNUMBER(AT32),AT32*$AS$3,0) -> 0 | AU32: =IF(ISNUMBER(AV32),AV32*$AU$3,"") | AW32: =IF(ISNUMBER(AX32),AX32*$AW$3,"")
B33: 4684814 | C33: 26 | D33: 1 | E33: 성아름 | F33: =SUM(I33:M33,R33:T33,W33,Z33,AC33,AF33,AH33,AK33,AM33,AO33,AQ33,AS33,AU33,AW33,)-SUM(O33:Q33,U33) -> 10375 | R33: =$R$3 -> 0 | S33: -11200 | W33: =$W$3*X33 -> 0 | Z33: =$Z$3*AA33 -> 0 | AC33: =IF(ISNUMBER(AD33),AD33*$AS$3,0) -> 0 | AF33: =$AF$3*AG33 -> 7060 | AG33: 1 | AH33: =$AH$3*AI33 -> 18700 | AI33: 1 | AK33: =IF(ISNUMBER(AL33),AL33*$AK$3,0) -> -6310 | AL33: 1 | AM33: =IF(ISNUMBER(AN33),AN33*$AM$3,0) -> 0 | AO33: 2125 | AQ33: =IF(ISNUMBER(AR33),AR33*$AQ$3,0) -> 0 | AS33: =IF(ISNUMBER(AT33),AT33*$AS$3,0) -> 0 | AU33: =IF(ISNUMBER(AV33),AV33*$AU$3,"") | AW33: =IF(ISNUMBER(AX33),AX33*$AW$3,"")
B34: 3823315 | C34: 27 | D34: 1 | E34: 손성빈 | F34: =SUM(I34:M34,R34:T34,W34,Z34,AC34,AF34,AH34,AK34,AM34,AO34,AQ34,AS34,AU34,AW34,)-SUM(O34:Q34,U34) -> 16805 | R34: =$R$3 -> 0 | S34: -11200 | W34: =$W$3*X34 -> 0 | Z34: =$Z$3*AA34 -> 0 | AC34: =IF(ISNUMBER(AD34),AD34*$AS$3,0) -> 0 | AF34: =$AF$3*AG34 -> 7060 | AG34: 1 | AH34: 25130 | AI34: 1 | AK34: =IF(ISNUMBER(AL34),AL34*$AK$3,0) -> -6310 | AL34: 1 | AM34: =IF(ISNUMBER(AN34),AN34*$AM$3,0) -> 0 | AO34: 2125 | AQ34: =IF(ISNUMBER(AR34),AR34*$AQ$3,0) -> 0 | AS34: =IF(ISNUMBER(AT34),AT34*$AS$3,0) -> 0 | AU34: =IF(ISNUMBER(AV34),AV34*$AU$3,"") | AW34: =IF(ISNUMBER(AX34),AX34*$AW$3,"")
B35: 3067612 | C35: 28 | D35: 1 | E35: 송인성 | F35: =SUM(I35:M35,R35:T35,W35,Z35,AC35,AF35,AH35,AK35,AM35,AO35,AQ35,AS35,AU35,AW35,)-SUM(O35:Q35,U35) -> 1025 | R35: =$R$3 -> 0 | S35: -11200 | W35: =$W$3*X35 -> 0 | Z35: =$Z$3*AA35 -> 0 | AC35: =IF(ISNUMBER(AD35),AD35*$AS$3,0) -> 0 | AF35: =$AF$3*AG35 -> 7060 | AG35: 1 | AH35: =$AH$3*AI35 -> 18700 | AI35: 1 | AK35: =IF(ISNUMBER(AL35),AL35*$AK$3,0) -> -6310 | AL35: 1 | AM35: =IF(ISNUMBER(AN35),AN35*$AM$3,0) -> 0 | AO35: -7225 | AQ35: =IF(ISNUMBER(AR35),AR35*$AQ$3,0) -> 0 | AS35: =IF(ISNUMBER(AT35),AT35*$AS$3,0) -> 0 | AU35: =IF(ISNUMBER(AV35),AV35*$AU$3,"") | AW35: =IF(ISNUMBER(AX35),AX35*$AW$3,"")
B36: 3850313 | C36: 29 | D36: 1 | E36: 안영욱 | F36: =SUM(I36:M36,R36:T36,W36,Z36,AC36,AF36,AH36,AK36,AM36,AO36,AQ36,AS36,AU36,AW36,)-SUM(O36:Q36,U36) -> 10375 | R36: =$R$3 -> 0 | S36: -11200 | W36: =$W$3*X36 -> 0 | Z36: =$Z$3*AA36 -> 0 | AC36: =IF(ISNUMBER(AD36),AD36*$AS$3,0) -> 0 | AF36: =$AF$3*AG36 -> 7060 | AG36: 1 | AH36: =$AH$3*AI36 -> 18700 | AI36: 1 | AK36: =IF(ISNUMBER(AL36),AL36*$AK$3,0) -> -6310 | AL36: 1 | AM36: =IF(ISNUMBER(AN36),AN36*$AM$3,0) -> 0 | AO36: 2125 | AQ36: =IF(ISNUMBER(AR36),AR36*$AQ$3,0) -> 0 | AS36: =IF(ISNUMBER(AT36),AT36*$AS$3,0) -> 0 | AU36: =IF(ISNUMBER(AV36),AV36*$AU$3,"") | AW36: =IF(ISNUMBER(AX36),AX36*$AW$3,"")
B37: 3555414 | C37: 30 | D37: 1 | E37: 양성신 | F37: =SUM(I37:M37,R37:T37,W37,Z37,AC37,AF37,AH37,AK37,AM37,AO37,AQ37,AS37,AU37,AW37,)-SUM(O37:Q37,U37) -> 1025 | R37: =$R$3 -> 0 | S37: -11200 | W37: =$W$3*X37 -> 0 | Z37: =$Z$3*AA37 -> 0 | AC37: =IF(ISNUMBER(AD37),AD37*$AS$3,0) -> 0 | AF37: =$AF$3*AG37 -> 7060 | AG37: 1 | AH37: =$AH$3*AI37 -> 18700 | AI37: 1 | AK37: =IF(ISNUMBER(AL37),AL37*$AK$3,0) -> -6310 | AL37: 1 | AM37: =IF(ISNUMBER(AN37),AN37*$AM$3,0) -> 0 | AO37: -7225 | AQ37: =IF(ISNUMBER(AR37),AR37*$AQ$3,0) -> 0 | AS37: =IF(ISNUMBER(AT37),AT37*$AS$3,0) -> 0 | AU37: =IF(ISNUMBER(AV37),AV37*$AU$3,"") | AW37: =IF(ISNUMBER(AX37),AX37*$AW$3,"")
B38: 3192416 | C38: 31 | D38: 1 | E38: 연승현 | F38: =SUM(I38:M38,R38:T38,W38,Z38,AC38,AF38,AH38,AK38,AM38,AO38,AQ38,AS38,AU38,AW38,)-SUM(O38:Q38,U38) -> 1025 | R38: =$R$3 -> 0 | S38: -11200 | W38: =$W$3*X38 -> 0 | Z38: =$Z$3*AA38 -> 0 | AC38: =IF(ISNUMBER(AD38),AD38*$AS$3,0) -> 0 | AF38: =$AF$3*AG38 -> 7060 | AG38: 1 | AH38: =$AH$3*AI38 -> 18700 | AI38: 1 | AK38: =IF(ISNUMBER(AL38),AL38*$AK$3,0) -> -6310 | AL38: 1 | AM38: =IF(ISNUMBER(AN38),AN38*$AM$3,0) -> 0 | AO38: -7225 | AQ38: =IF(ISNUMBER(AR38),AR38*$AQ$3,0) -> 0 | AS38: =IF(ISNUMBER(AT38),AT38*$AS$3,0) -> 0 | AU38: =IF(ISNUMBER(AV38),AV38*$AU$3,"") | AW38: =IF(ISNUMBER(AX38),AX38*$AW$3,"")
B39: 4055619 | C39: 32 | D39: 1 | E39: 오현서 | F39: =SUM(I39:M39,R39:T39,W39,Z39,AC39,AF39,AH39,AK39,AM39,AO39,AQ39,AS39,AU39,AW39,)-SUM(O39:Q39,U39) -> 10375 | R39: =$R$3 -> 0 | S39: -11200 | W39: =$W$3*X39 -> 0 | Z39: =$Z$3*AA39 -> 0 | AC39: =IF(ISNUMBER(AD39),AD39*$AS$3,0) -> 0 | AF39: =$AF$3*AG39 -> 7060 | AG39: 1 | AH39: =$AH$3*AI39 -> 18700 | AI39: 1 | AK39: =IF(ISNUMBER(AL39),AL39*$AK$3,0) -> -6310 | AL39: 1 | AM39: =IF(ISNUMBER(AN39),AN39*$AM$3,0) -> 0 | AO39: 2125 | AQ39: =IF(ISNUMBER(AR39),AR39*$AQ$3,0) -> 0 | AS39: =IF(ISNUMBER(AT39),AT39*$AS$3,0) -> 0 | AU39: =IF(ISNUMBER(AV39),AV39*$AU$3,"") | AW39: =IF(ISNUMBER(AX39),AX39*$AW$3,"")
B40: 3170312 | C40: 33 | D40: 1 | E40: 육지성 | F40: =SUM(I40:M40,R40:T40,W40,Z40,AC40,AF40,AH40,AK40,AM40,AO40,AQ40,AS40,AU40,AW40,)-SUM(O40:Q40,U40) -> 1025 | R40: =$R$3 -> 0 | S40: -11200 | W40: =$W$3*X40 -> 0 | Z40: =$Z$3*AA40 -> 0 | AC40: =IF(ISNUMBER(AD40),AD40*$AS$3,0) -> 0 | AF40: =$AF$3*AG40 -> 7060 | AG40: 1 | AH40: =$AH$3*AI40 -> 18700 | AI40: 1 | AK40: =IF(ISNUMBER(AL40),AL40*$AK$3,0) -> -6310 | AL40: 1 | AM40: =IF(ISNUMBER(AN40),AN40*$AM$3,0) -> 0 | AO40: -7225 | AQ40: =IF(ISNUMBER(AR40),AR40*$AQ$3,0) -> 0 | AS40: =IF(ISNUMBER(AT40),AT40*$AS$3,0) -> 0 | AU40: =IF(ISNUMBER(AV40),AV40*$AU$3,"") | AW40: =IF(ISNUMBER(AX40),AX40*$AW$3,"")
B41: 4565616 | C41: 34 | D41: 1 | E41: 윤신비 | F41: =SUM(I41:M41,R41:T41,W41,Z41,AC41,AF41,AH41,AK41,AM41,AO41,AQ41,AS41,AU41,AW41,)-SUM(O41:Q41,U41) -> 1025 | R41: =$R$3 -> 0 | S41: -11200 | W41: =$W$3*X41 -> 0 | Z41: =$Z$3*AA41 -> 0 | AC41: =IF(ISNUMBER(AD41),AD41*$AS$3,0) -> 0 | AF41: =$AF$3*AG41 -> 7060 | AG41: 1 | AH41: =$AH$3*AI41 -> 18700 | AI41: 1 | AK41: =IF(ISNUMBER(AL41),AL41*$AK$3,0) -> -6310 | AL41: 1 | AM41: =IF(ISNUMBER(AN41),AN41*$AM$3,0) -> 0 | AO41: -7225 | AQ41: =IF(ISNUMBER(AR41),AR41*$AQ$3,0) -> 0 | AS41: =IF(ISNUMBER(AT41),AT41*$AS$3,0) -> 0 | AU41: =IF(ISNUMBER(AV41),AV41*$AU$3,"") | AW41: =IF(ISNUMBER(AX41),AX41*$AW$3,"")
B42: 3169513 | C42: 35 | D42: 1 | E42: 윤치호 | F42: =SUM(I42:M42,R42:T42,W42,Z42,AC42,AF42,AH42,AK42,AM42,AO42,AQ42,AS42,AU42,AW42,)-SUM(O42:Q42,U42) -> 18125 | R42: =$R$3 -> 0 | S42: -11200 | W42: =$W$3*X42 -> 0 | Z42: =$Z$3*AA42 -> 0 | AC42: =IF(ISNUMBER(AD42),AD42*$AS$3,0) -> 0 | AF42: =$AF$3*AG42 -> 7060 | AG42: 1 | AH42: =$AH$3*AI42 -> 18700 | AI42: 1 | AK42: =IF(ISNUMBER(AL42),AL42*$AK$3,0) -> -6310 | AL42: 1 | AM42: =IF(ISNUMBER(AN42),AN42*$AM$3,0) -> 0 | AO42: 9875 | AQ42: =IF(ISNUMBER(AR42),AR42*$AQ$3,0) -> 0 | AS42: =IF(ISNUMBER(AT42),AT42*$AS$3,0) -> 0 | AU42: =IF(ISNUMBER(AV42),AV42*$AU$3,"") | AW42: =IF(ISNUMBER(AX42),AX42*$AW$3,"")
B43: 3268415 | C43: 36 | D43: 1 | E43: 이기현 | F43: =SUM(I43:M43,R43:T43,W43,Z43,AC43,AF43,AH43,AK43,AM43,AO43,AQ43,AS43,AU43,AW43,)-SUM(O43:Q43,U43) -> 10375 | R43: =$R$3 -> 0 | S43: -11200 | W43: =$W$3*X43 -> 0 | Z43: =$Z$3*AA43 -> 0 | AC43: =IF(ISNUMBER(AD43),AD43*$AS$3,0) -> 0 | AF43: =$AF$3*AG43 -> 7060 | AG43: 1 | AH43: =$AH$3*AI43 -> 18700 | AI43: 1 | AK43: =IF(ISNUMBER(AL43),AL43*$AK$3,0) -> -6310 | AL43: 1 | AM43: =IF(ISNUMBER(AN43),AN43*$AM$3,0) -> 0 | AO43: 2125 | AQ43: =IF(ISNUMBER(AR43),AR43*$AQ$3,0) -> 0 | AS43: =IF(ISNUMBER(AT43),AT43*$AS$3,0) -> 0 | AU43: =IF(ISNUMBER(AV43),AV43*$AU$3,"") | AW43: =IF(ISNUMBER(AX43),AX43*$AW$3,"")
B44: 4041612 | C44: 37 | D44: 1 | E44: 이보은 | F44: =SUM(I44:M44,R44:T44,W44,Z44,AC44,AF44,AH44,AK44,AM44,AO44,AQ44,AS44,AU44,AW44,)-SUM(O44:Q44,U44) -> 16805 | R44: =$R$3 -> 0 | S44: -11200 | W44: =$W$3*X44 -> 0 | Z44: =$Z$3*AA44 -> 0 | AC44: =IF(ISNUMBER(AD44),AD44*$AS$3,0) -> 0 | AF44: =$AF$3*AG44 -> 7060 | AG44: 1 | AH44: 25130 | AI44: 1 | AK44: =IF(ISNUMBER(AL44),AL44*$AK$3,0) -> -6310 | AL44: 1 | AM44: =IF(ISNUMBER(AN44),AN44*$AM$3,0) -> 0 | AO44: 2125 | AQ44: =IF(ISNUMBER(AR44),AR44*$AQ$3,0) -> 0 | AS44: =IF(ISNUMBER(AT44),AT44*$AS$3,0) -> 0 | AU44: =IF(ISNUMBER(AV44),AV44*$AU$3,"") | AW44: =IF(ISNUMBER(AX44),AX44*$AW$3,"")
B45: 3074021 | C45: 38 | D45: 1 | E45: 이상욱 | F45: =SUM(I45:M45,R45:T45,W45,Z45,AC45,AF45,AH45,AK45,AM45,AO45,AQ45,AS45,AU45,AW45,)-SUM(O45:Q45,U45) -> 1749325 | I45: 1020000 | J45: 4분기 | K45: =232500+232500 -> 465000 | L45: 12~2월분 | M45: =97500+97500 -> 195000 | N45: 12~2월분 | R45: =$R$3 -> 0 | S45: -11200 | W45: =$W$3*X45 -> 0 | Z45: =$Z$3*AA45 -> 30000 | AA45: 2 | AB45: 12~2월분 | AC45: =IF(ISNUMBER(AD45),AD45*$AS$3,0) -> 0 | AF45: =$AF$3*AG45 -> 7060 | AG45: 1 | AH45: =$AH$3*AI45 -> 18700 | AI45: 1 | AK45: 31990 | AL45: 1 | AM45: =IF(ISNUMBER(AN45),AN45*$AM$3,0) -> 0 | AO45: -7225 | AQ45: =IF(ISNUMBER(AR45),AR45*$AQ$3,0) -> 0 | AS45: =IF(ISNUMBER(AT45),AT45*$AS$3,0) -> 0 | AU45: =IF(ISNUMBER(AV45),AV45*$AU$3,"") | AW45: =IF(ISNUMBER(AX45),AX45*$AW$3,"")
B46: 3842419 | C46: 39 | D46: 1 | E46: 이상준 | F46: =SUM(I46:M46,R46:T46,W46,Z46,AC46,AF46,AH46,AK46,AM46,AO46,AQ46,AS46,AU46,AW46,)-SUM(O46:Q46,U46) -> 1025 | R46: =$R$3 -> 0 | S46: -11200 | W46: =$W$3*X46 -> 0 | Z46: =$Z$3*AA46 -> 0 | AC46: =IF(ISNUMBER(AD46),AD46*$AS$3,0) -> 0 | AF46: =$AF$3*AG46 -> 7060 | AG46: 1 | AH46: =$AH$3*AI46 -> 18700 | AI46: 1 | AK46: =IF(ISNUMBER(AL46),AL46*$AK$3,0) -> -6310 | AL46: 1 | AM46: =IF(ISNUMBER(AN46),AN46*$AM$3,0) -> 0 | AO46: -7225 | AQ46: =IF(ISNUMBER(AR46),AR46*$AQ$3,0) -> 0 | AS46: =IF(ISNUMBER(AT46),AT46*$AS$3,0) -> 0 | AU46: =IF(ISNUMBER(AV46),AV46*$AU$3,"") | AW46: =IF(ISNUMBER(AX46),AX46*$AW$3,"")
B47: 4183920 | C47: 40 | D47: 1 | E47: 이세영 | F47: =SUM(I47:M47,R47:T47,W47,Z47,AC47,AF47,AH47,AK47,AM47,AO47,AQ47,AS47,AU47,AW47,)-SUM(O47:Q47,U47) -> 1366025 | I47: 1020000 | J47: 4분기 | K47: 232500 | L47: 1~2월분 | M47: 97500 | N47: 1~2월분 | R47: =$R$3 -> 0 | S47: -11200 | W47: =$W$3*X47 -> 0 | Z47: =$Z$3*AA47 -> 15000 | AA47: 1 | AB47: 1~2월분 | AC47: =IF(ISNUMBER(AD47),AD47*$AS$3,0) -> 0 | AF47: =$AF$3*AG47 -> 7060 | AG47: 1 | AH47: =$AH$3*AI47 -> 18700 | AI47: 1 | AK47: =IF(ISNUMBER(AL47),AL47*$AK$3,0) -> -6310 | AL47: 1 | AM47: =IF(ISNUMBER(AN47),AN47*$AM$3,0) -> 0 | AO47: -7225 | AQ47: =IF(ISNUMBER(AR47),AR47*$AQ$3,0) -> 0 | AS47: =IF(ISNUMBER(AT47),AT47*$AS$3,0) -> 0 | AU47: =IF(ISNUMBER(AV47),AV47*$AU$3,"") | AW47: =IF(ISNUMBER(AX47),AX47*$AW$3,"")
B48: 3117127 | C48: 41 | D48: 1 | E48: 이승겸 | F48: =SUM(I48:M48,R48:T48,W48,Z48,AC48,AF48,AH48,AK48,AM48,AO48,AQ48,AS48,AU48,AW48,)-SUM(O48:Q48,U48) -> 10375 | R48: =$R$3 -> 0 | S48: -11200 | W48: =$W$3*X48 -> 0 | Z48: =$Z$3*AA48 -> 0 | AC48: =IF(ISNUMBER(AD48),AD48*$AS$3,0) -> 0 | AF48: =$AF$3*AG48 -> 7060 | AG48: 1 | AH48: =$AH$3*AI48 -> 18700 | AI48: 1 | AK48: =IF(ISNUMBER(AL48),AL48*$AK$3,0) -> -6310 | AL48: 1 | AM48: =IF(ISNUMBER(AN48),AN48*$AM$3,0) -> 0 | AO48: 2125 | AQ48: =IF(ISNUMBER(AR48),AR48*$AQ$3,0) -> 0 | AS48: =IF(ISNUMBER(AT48),AT48*$AS$3,0) -> 0 | AU48: =IF(ISNUMBER(AV48),AV48*$AU$3,"") | AW48: =IF(ISNUMBER(AX48),AX48*$AW$3,"")
B49: 4183514 | C49: 42 | D49: 1 | E49: 이온유 | F49: =SUM(I49:M49,R49:T49,W49,Z49,AC49,AF49,AH49,AK49,AM49,AO49,AQ49,AS49,AU49,AW49,)-SUM(O49:Q49,U49) -> 18125 | R49: =$R$3 -> 0 | S49: -11200 | W49: =$W$3*X49 -> 0 | Z49: =$Z$3*AA49 -> 0 | AC49: =IF(ISNUMBER(AD49),AD49*$AS$3,0) -> 0 | AF49: =$AF$3*AG49 -> 7060 | AG49: 1 | AH49: =$AH$3*AI49 -> 18700 | AI49: 1 | AK49: =IF(ISNUMBER(AL49),AL49*$AK$3,0) -> -6310 | AL49: 1 | AM49: =IF(ISNUMBER(AN49),AN49*$AM$3,0) -> 0 | AO49: 9875 | AQ49: =IF(ISNUMBER(AR49),AR49*$AQ$3,0) -> 0 | AS49: =IF(ISNUMBER(AT49),AT49*$AS$3,0) -> 0 | AU49: =IF(ISNUMBER(AV49),AV49*$AU$3,"") | AW49: =IF(ISNUMBER(AX49),AX49*$AW$3,"")
B50: 3105815 | C50: 43 | D50: 1 | E50: 이지원 | F50: =SUM(I50:M50,R50:T50,W50,Z50,AC50,AF50,AH50,AK50,AM50,AO50,AQ50,AS50,AU50,AW50,)-SUM(O50:Q50,U50) -> 18125 | R50: =$R$3 -> 0 | S50: -11200 | W50: =$W$3*X50 -> 0 | Z50: =$Z$3*AA50 -> 0 | AC50: =IF(ISNUMBER(AD50),AD50*$AS$3,0) -> 0 | AF50: =$AF$3*AG50 -> 7060 | AG50: 1 | AH50: =$AH$3*AI50 -> 18700 | AI50: 1 | AK50: =IF(ISNUMBER(AL50),AL50*$AK$3,0) -> -6310 | AL50: 1 | AM50: =IF(ISNUMBER(AN50),AN50*$AM$3,0) -> 0 | AO50: 9875 | AQ50: =IF(ISNUMBER(AR50),AR50*$AQ$3,0) -> 0 | AS50: =IF(ISNUMBER(AT50),AT50*$AS$3,0) -> 0 | AU50: =IF(ISNUMBER(AV50),AV50*$AU$3,"") | AW50: =IF(ISNUMBER(AX50),AX50*$AW$3,"")
B51: 4123215 | C51: 44 | D51: 1 | E51: 이지현 | F51: =SUM(I51:M51,R51:T51,W51,Z51,AC51,AF51,AH51,AK51,AM51,AO51,AQ51,AS51,AU51,AW51,)-SUM(O51:Q51,U51) -> 7455 | R51: =$R$3 -> 0 | S51: -11200 | W51: =$W$3*X51 -> 0 | Z51: =$Z$3*AA51 -> 0 | AC51: =IF(ISNUMBER(AD51),AD51*$AS$3,0) -> 0 | AF51: =$AF$3*AG51 -> 7060 | AG51: 1 | AH51: 25130 | AI51: 1 | AK51: =IF(ISNUMBER(AL51),AL51*$AK$3,0) -> -6310 | AL51: 1 | AM51: =IF(ISNUMBER(AN51),AN51*$AM$3,0) -> 0 | AO51: -7225 | AQ51: =IF(ISNUMBER(AR51),AR51*$AQ$3,0) -> 0 | AS51: =IF(ISNUMBER(AT51),AT51*$AS$3,0) -> 0 | AU51: =IF(ISNUMBER(AV51),AV51*$AU$3,"") | AW51: =IF(ISNUMBER(AX51),AX51*$AW$3,"")
B52: 3150917 | C52: 45 | D52: 1 | E52: 이혜은 | F52: =SUM(I52:M52,R52:T52,W52,Z52,AC52,AF52,AH52,AK52,AM52,AO52,AQ52,AS52,AU52,AW52,)-SUM(O52:Q52,U52) -> 18125 | R52: =$R$3 -> 0 | S52: -11200 | W52: =$W$3*X52 -> 0 | Z52: =$Z$3*AA52 -> 0 | AC52: =IF(ISNUMBER(AD52),AD52*$AS$3,0) -> 0 | AF52: =$AF$3*AG52 -> 7060 | AG52: 1 | AH52: =$AH$3*AI52 -> 18700 | AI52: 1 | AK52: =IF(ISNUMBER(AL52),AL52*$AK$3,0) -> -6310 | AL52: 1 | AM52: =IF(ISNUMBER(AN52),AN52*$AM$3,0) -> 0 | AO52: 9875 | AQ52: =IF(ISNUMBER(AR52),AR52*$AQ$3,0) -> 0 | AS52: =IF(ISNUMBER(AT52),AT52*$AS$3,0) -> 0 | AU52: =IF(ISNUMBER(AV52),AV52*$AU$3,"") | AW52: =IF(ISNUMBER(AX52),AX52*$AW$3,"")
B53: 3013038 | C53: 46 | D53: 1 | E53: 전성현 | F53: =SUM(I53:M53,R53:T53,W53,Z53,AC53,AF53,AH53,AK53,AM53,AO53,AQ53,AS53,AU53,AW53,)-SUM(O53:Q53,U53) -> 369325 | K53: 232500 | L53: 1~2월분 | M53: 97500 | N53: 1~2월분 | R53: =$R$3 -> 0 | S53: -11200 | W53: =$W$3*X53 -> 0 | Z53: =$Z$3*AA53 -> 0 | AC53: =IF(ISNUMBER(AD53),AD53*$AS$3,0) -> 0 | AF53: =$AF$3*AG53 -> 7060 | AG53: 1 | AH53: =$AH$3*AI53 -> 18700 | AI53: 1 | AK53: 31990 | AL53: 1 | AM53: =IF(ISNUMBER(AN53),AN53*$AM$3,0) -> 0 | AO53: -7225 | AQ53: =IF(ISNUMBER(AR53),AR53*$AQ$3,0) -> 0 | AS53: =IF(ISNUMBER(AT53),AT53*$AS$3,0) -> 0 | AU53: =IF(ISNUMBER(AV53),AV53*$AU$3,"") | AW53: =IF(ISNUMBER(AX53),AX53*$AW$3,"")
B54: 4546410 | C54: 47 | D54: 1 | E54: 전주연 | F54: =SUM(I54:M54,R54:T54,W54,Z54,AC54,AF54,AH54,AK54,AM54,AO54,AQ54,AS54,AU54,AW54,)-SUM(O54:Q54,U54) -> 10375 | R54: =$R$3 -> 0 | S54: -11200 | W54: =$W$3*X54 -> 0 | Z54: =$Z$3*AA54 -> 0 | AC54: =IF(ISNUMBER(AD54),AD54*$AS$3,0) -> 0 | AF54: =$AF$3*AG54 -> 7060 | AG54: 1 | AH54: =$AH$3*AI54 -> 18700 | AI54: 1 | AK54: =IF(ISNUMBER(AL54),AL54*$AK$3,0) -> -6310 | AL54: 1 | AM54: =IF(ISNUMBER(AN54),AN54*$AM$3,0) -> 0 | AO54: 2125 | AQ54: =IF(ISNUMBER(AR54),AR54*$AQ$3,0) -> 0 | AS54: =IF(ISNUMBER(AT54),AT54*$AS$3,0) -> 0 | AU54: =IF(ISNUMBER(AV54),AV54*$AU$3,"") | AW54: =IF(ISNUMBER(AX54),AX54*$AW$3,"")
B55: 4408714 | C55: 48 | D55: 1 | E55: 전현경 | F55: =SUM(I55:M55,R55:T55,W55,Z55,AC55,AF55,AH55,AK55,AM55,AO55,AQ55,AS55,AU55,AW55,)-SUM(O55:Q55,U55) -> 16805 | R55: =$R$3 -> 0 | S55: -11200 | W55: =$W$3*X55 -> 0 | Z55: =$Z$3*AA55 -> 0 | AC55: =IF(ISNUMBER(AD55),AD55*$AS$3,0) -> 0 | AF55: =$AF$3*AG55 -> 7060 | AG55: 1 | AH55: 25130 | AI55: 1 | AK55: =IF(ISNUMBER(AL55),AL55*$AK$3,0) -> -6310 | AL55: 1 | AM55: =IF(ISNUMBER(AN55),AN55*$AM$3,0) -> 0 | AO55: 2125 | AQ55: =IF(ISNUMBER(AR55),AR55*$AQ$3,0) -> 0 | AS55: =IF(ISNUMBER(AT55),AT55*$AS$3,0) -> 0 | AU55: =IF(ISNUMBER(AV55),AV55*$AU$3,"") | AW55: =IF(ISNUMBER(AX55),AX55*$AW$3,"")
B56: 3163519 | C56: 49 | D56: 1 | E56: 정영빈 | F56: =SUM(I56:M56,R56:T56,W56,Z56,AC56,AF56,AH56,AK56,AM56,AO56,AQ56,AS56,AU56,AW56,)-SUM(O56:Q56,U56) -> 18535 | R56: =$R$3 -> 0 | W56: =$W$3*X56 -> 0 | Z56: =$Z$3*AA56 -> 0 | AC56: =IF(ISNUMBER(AD56),AD56*$AS$3,0) -> 0 | AF56: =$AF$3*AG56 -> 7060 | AG56: 1 | AH56: =$AH$3*AI56 -> 18700 | AI56: 1 | AK56: =IF(ISNUMBER(AL56),AL56*$AK$3,0) -> 0 | AM56: =IF(ISNUMBER(AN56),AN56*$AM$3,0) -> 0 | AO56: -7225 | AQ56: =IF(ISNUMBER(AR56),AR56*$AQ$3,0) -> 0 | AS56: =IF(ISNUMBER(AT56),AT56*$AS$3,0) -> 0 | AU56: =IF(ISNUMBER(AV56),AV56*$AU$3,"") | AW56: =IF(ISNUMBER(AX56),AX56*$AW$3,"")
B57: 3268919 | C57: 50 | D57: 1 | E57: 조민성 | F57: =SUM(I57:M57,R57:T57,W57,Z57,AC57,AF57,AH57,AK57,AM57,AO57,AQ57,AS57,AU57,AW57,)-SUM(O57:Q57,U57) -> 16805 | R57: =$R$3 -> 0 | S57: -11200 | W57: =$W$3*X57 -> 0 | Z57: =$Z$3*AA57 -> 0 | AC57: =IF(ISNUMBER(AD57),AD57*$AS$3,0) -> 0 | AF57: =$AF$3*AG57 -> 7060 | AG57: 1 | AH57: 25130 | AI57: 1 | AK57: =IF(ISNUMBER(AL57),AL57*$AK$3,0) -> -6310 | AL57: 1 | AM57: =IF(ISNUMBER(AN57),AN57*$AM$3,0) -> 0 | AO57: 2125 | AQ57: =IF(ISNUMBER(AR57),AR57*$AQ$3,0) -> 0 | AS57: =IF(ISNUMBER(AT57),AT57*$AS$3,0) -> 0 | AU57: =IF(ISNUMBER(AV57),AV57*$AU$3,"") | AW57: =IF(ISNUMBER(AX57),AX57*$AW$3,"")
B58: 4037318 | C58: 51 | D58: 1 | E58: 조송희 | F58: =SUM(I58:M58,R58:T58,W58,Z58,AC58,AF58,AH58,AK58,AM58,AO58,AQ58,AS58,AU58,AW58,)-SUM(O58:Q58,U58) -> 10375 | R58: =$R$3 -> 0 | S58: -11200 | W58: =$W$3*X58 -> 0 | Z58: =$Z$3*AA58 -> 0 | AC58: =IF(ISNUMBER(AD58),AD58*$AS$3,0) -> 0 | AF58: =$AF$3*AG58 -> 7060 | AG58: 1 | AH58: =$AH$3*AI58 -> 18700 | AI58: 1 | AK58: =IF(ISNUMBER(AL58),AL58*$AK$3,0) -> -6310 | AL58: 1 | AM58: =IF(ISNUMBER(AN58),AN58*$AM$3,0) -> 0 | AO58: 2125 | AQ58: =IF(ISNUMBER(AR58),AR58*$AQ$3,0) -> 0 | AS58: =IF(ISNUMBER(AT58),AT58*$AS$3,0) -> 0 | AU58: =IF(ISNUMBER(AV58),AV58*$AU$3,"") | AW58: =IF(ISNUMBER(AX58),AX58*$AW$3,"")
B59: 4066138 | C59: 52 | D59: 1 | E59: 최자윤 | F59: =SUM(I59:M59,R59:T59,W59,Z59,AC59,AF59,AH59,AK59,AM59,AO59,AQ59,AS59,AU59,AW59,)-SUM(O59:Q59,U59) -> 10375 | R59: =$R$3 -> 0 | S59: -11200 | W59: =$W$3*X59 -> 0 | Z59: =$Z$3*AA59 -> 0 | AC59: =IF(ISNUMBER(AD59),AD59*$AS$3,0) -> 0 | AF59: =$AF$3*AG59 -> 7060 | AG59: 1 | AH59: =$AH$3*AI59 -> 18700 | AI59: 1 | AK59: =IF(ISNUMBER(AL59),AL59*$AK$3,0) -> -6310 | AL59: 1 | AM59: =IF(ISNUMBER(AN59),AN59*$AM$3,0) -> 0 | AO59: 2125 | AQ59: =IF(ISNUMBER(AR59),AR59*$AQ$3,0) -> 0 | AS59: =IF(ISNUMBER(AT59),AT59*$AS$3,0) -> 0 | AU59: =IF(ISNUMBER(AV59),AV59*$AU$3,"") | AW59: =IF(ISNUMBER(AX59),AX59*$AW$3,"")
B60: 3735318 | C60: 53 | D60: 1 | E60: 최준규 | F60: =SUM(I60:M60,R60:T60,W60,Z60,AC60,AF60,AH60,AK60,AM60,AO60,AQ60,AS60,AU60,AW60,)-SUM(O60:Q60,U60) -> 1025 | R60: =$R$3 -> 0 | S60: -11200 | W60: =$W$3*X60 -> 0 | Z60: =$Z$3*AA60 -> 0 | AC60: =IF(ISNUMBER(AD60),AD60*$AS$3,0) -> 0 | AF60: =$AF$3*AG60 -> 7060 | AG60: 1 | AH60: =$AH$3*AI60 -> 18700 | AI60: 1 | AK60: =IF(ISNUMBER(AL60),AL60*$AK$3,0) -> -6310 | AL60: 1 | AM60: =IF(ISNUMBER(AN60),AN60*$AM$3,0) -> 0 | AO60: -7225 | AQ60: =IF(ISNUMBER(AR60),AR60*$AQ$3,0) -> 0 | AS60: =IF(ISNUMBER(AT60),AT60*$AS$3,0) -> 0 | AU60: =IF(ISNUMBER(AV60),AV60*$AU$3,"") | AW60: =IF(ISNUMBER(AX60),AX60*$AW$3,"")
B61: 3065116 | C61: 54 | D61: 1 | E61: 최현호 | F61: =SUM(I61:M61,R61:T61,W61,Z61,AC61,AF61,AH61,AK61,AM61,AO61,AQ61,AS61,AU61,AW61,)-SUM(O61:Q61,U61) -> 1025 | R61: =$R$3 -> 0 | S61: -11200 | W61: =$W$3*X61 -> 0 | Z61: =$Z$3*AA61 -> 0 | AC61: =IF(ISNUMBER(AD61),AD61*$AS$3,0) -> 0 | AF61: =$AF$3*AG61 -> 7060 | AG61: 1 | AH61: =$AH$3*AI61 -> 18700 | AI61: 1 | AK61: =IF(ISNUMBER(AL61),AL61*$AK$3,0) -> -6310 | AL61: 1 | AM61: =IF(ISNUMBER(AN61),AN61*$AM$3,0) -> 0 | AO61: -7225 | AQ61: =IF(ISNUMBER(AR61),AR61*$AQ$3,0) -> 0 | AS61: =IF(ISNUMBER(AT61),AT61*$AS$3,0) -> 0 | AU61: =IF(ISNUMBER(AV61),AV61*$AU$3,"") | AW61: =IF(ISNUMBER(AX61),AX61*$AW$3,"")
B62: 4466314 | C62: 55 | D62: 1 | E62: 편은진 | F62: =SUM(I62:M62,R62:T62,W62,Z62,AC62,AF62,AH62,AK62,AM62,AO62,AQ62,AS62,AU62,AW62,)-SUM(O62:Q62,U62) -> 1025 | R62: =$R$3 -> 0 | S62: -11200 | W62: =$W$3*X62 -> 0 | Z62: =$Z$3*AA62 -> 0 | AC62: =IF(ISNUMBER(AD62),AD62*$AS$3,0) -> 0 | AF62: =$AF$3*AG62 -> 7060 | AG62: 1 | AH62: =$AH$3*AI62 -> 18700 | AI62: 1 | AK62: =IF(ISNUMBER(AL62),AL62*$AK$3,0) -> -6310 | AL62: 1 | AM62: =IF(ISNUMBER(AN62),AN62*$AM$3,0) -> 0 | AO62: -7225 | AQ62: =IF(ISNUMBER(AR62),AR62*$AQ$3,0) -> 0 | AS62: =IF(ISNUMBER(AT62),AT62*$AS$3,0) -> 0 | AU62: =IF(ISNUMBER(AV62),AV62*$AU$3,"") | AW62: =IF(ISNUMBER(AX62),AX62*$AW$3,"")
B63: 4403015 | C63: 56 | D63: 1 | E63: 홍신애 | F63: =SUM(I63:M63,R63:T63,W63,Z63,AC63,AF63,AH63,AK63,AM63,AO63,AQ63,AS63,AU63,AW63,)-SUM(O63:Q63,U63) -> 1025 | R63: =$R$3 -> 0 | S63: -11200 | W63: =$W$3*X63 -> 0 | Z63: =$Z$3*AA63 -> 0 | AC63: =IF(ISNUMBER(AD63),AD63*$AS$3,0) -> 0 | AF63: =$AF$3*AG63 -> 7060 | AG63: 1 | AH63: =$AH$3*AI63 -> 18700 | AI63: 1 | AK63: =IF(ISNUMBER(AL63),AL63*$AK$3,0) -> -6310 | AL63: 1 | AM63: =IF(ISNUMBER(AN63),AN63*$AM$3,0) -> 0 | AO63: -7225 | AQ63: =IF(ISNUMBER(AR63),AR63*$AQ$3,0) -> 0 | AS63: =IF(ISNUMBER(AT63),AT63*$AS$3,0) -> 0 | AU63: =IF(ISNUMBER(AV63),AV63*$AU$3,"") | AW63: =IF(ISNUMBER(AX63),AX63*$AW$3,"")
B64: 3623218 | C64: 57 | D64: 1 | E64: 홍우영 | F64: =SUM(I64:M64,R64:T64,W64,Z64,AC64,AF64,AH64,AK64,AM64,AO64,AQ64,AS64,AU64,AW64,)-SUM(O64:Q64,U64) -> 18125 | R64: =$R$3 -> 0 | S64: -11200 | W64: =$W$3*X64 -> 0 | Z64: =$Z$3*AA64 -> 0 | AC64: =IF(ISNUMBER(AD64),AD64*$AS$3,0) -> 0 | AF64: =$AF$3*AG64 -> 7060 | AG64: 1 | AH64: =$AH$3*AI64 -> 18700 | AI64: 1 | AK64: =IF(ISNUMBER(AL64),AL64*$AK$3,0) -> -6310 | AL64: 1 | AM64: =IF(ISNUMBER(AN64),AN64*$AM$3,0) -> 0 | AO64: 9875 | AQ64: =IF(ISNUMBER(AR64),AR64*$AQ$3,0) -> 0 | AS64: =IF(ISNUMBER(AT64),AT64*$AS$3,0) -> 0 | AU64: =IF(ISNUMBER(AV64),AV64*$AU$3,"") | AW64: =IF(ISNUMBER(AX64),AX64*$AW$3,"")
B65: 3824410 | C65: 58 | D65: 1 | E65: 황근욱 | F65: =SUM(I65:M65,R65:T65,W65,Z65,AC65,AF65,AH65,AK65,AM65,AO65,AQ65,AS65,AU65,AW65,)-SUM(O65:Q65,U65) -> 29325 | R65: =$R$3 -> 0 | W65: =$W$3*X65 -> 0 | Z65: =$Z$3*AA65 -> 0 | AC65: =IF(ISNUMBER(AD65),AD65*$AS$3,0) -> 0 | AF65: =$AF$3*AG65 -> 7060 | AG65: 1 | AH65: =$AH$3*AI65 -> 18700 | AI65: 1 | AK65: =IF(ISNUMBER(AL65),AL65*$AK$3,0) -> -6310 | AL65: 1 | AM65: =IF(ISNUMBER(AN65),AN65*$AM$3,0) -> 0 | AO65: 9875 | AQ65: =IF(ISNUMBER(AR65),AR65*$AQ$3,0) -> 0 | AS65: =IF(ISNUMBER(AT65),AT65*$AS$3,0) -> 0 | AU65: =IF(ISNUMBER(AV65),AV65*$AU$3,"") | AW65: =IF(ISNUMBER(AX65),AX65*$AW$3,"")
C66: 59 | D66: 1 | E66: 한수빈 | F66: =SUM(I66:M66,R66:T66,W66,Z66,AC66,AF66,AH66,AK66,AM66,AO66,AQ66,AS66,AU66,AW66,)-SUM(O66:Q66,U66) -> -43050 | R66: =$R$3 -> 0 | S66: -11200 | Z66: =$Z$3*AA66 -> 0 | AC66: =IF(ISNUMBER(AD66),AD66*$AS$3,0) -> 0 | AF66: =$AF$3*AG66 -> 0 | AH66: =$AH$3*AI66 -> 0 | AK66: =IF(ISNUMBER(AL66),AL66*$AK$3,0) -> 0 | AM66: =IF(ISNUMBER(AN66),AN66*$AM$3,0) -> 0 | AO66: -31850 | AQ66: =IF(ISNUMBER(AR66),AR66*$AQ$3,0) -> 0 | AS66: =IF(ISNUMBER(AT66),AT66*$AS$3,0) -> 0 | AU66: =IF(ISNUMBER(AV66),AV66*$AU$3,"")
B67: 3861920 | C67: 60 | D67: 2 | E67: 강지수 | F67: =SUM(I67:M67,R67:T67,W67,Z67,AC67,AF67,AH67,AK67,AM67,AO67,AQ67,AS67,AU67,AW67,)-SUM(O67:Q67,U67) -> 33305 | R67: =$R$3 -> 0 | S67: -11200 | W67: =$W$3*X67 -> 0 | Z67: =$Z$3*AA67 -> 0 | AC67: =IF(ISNUMBER(AD67),AD67*$AS$3,0) -> 0 | AF67: =$AF$3*AG67 -> 7060 | AG67: 1 | AH67: =$AH$3*AI67 -> 18700 | AI67: 1 | AK67: =IF(ISNUMBER(AL67),AL67*$AK$3,0) -> -6310 | AL67: 1 | AM67: =IF(ISNUMBER(AN67),AN67*$AM$3,0) -> 0 | AO67: 25055 | AQ67: =IF(ISNUMBER(AR67),AR67*$AQ$3,0) -> 0 | AS67: =IF(ISNUMBER(AT67),AT67*$AS$3,0) -> 0 | AU67: =IF(ISNUMBER(AV67),AV67*$AU$3,"") | AW67: =IF(ISNUMBER(AX67),AX67*$AW$3,"")
B68: 4211914 | C68: 61 | D68: 2 | E68: 권아인 | F68: =SUM(I68:M68,R68:T68,W68,Z68,AC68,AF68,AH68,AK68,AM68,AO68,AQ68,AS68,AU68,AW68,)-SUM(O68:Q68,U68) -> 33305 | R68: =$R$3 -> 0 | S68: -11200 | W68: =$W$3*X68 -> 0 | Z68: =$Z$3*AA68 -> 0 | AC68: =IF(ISNUMBER(AD68),AD68*$AS$3,0) -> 0 | AF68: =$AF$3*AG68 -> 7060 | AG68: 1 | AH68: =$AH$3*AI68 -> 18700 | AI68: 1 | AK68: =IF(ISNUMBER(AL68),AL68*$AK$3,0) -> -6310 | AL68: 1 | AM68: =IF(ISNUMBER(AN68),AN68*$AM$3,0) -> 0 | AO68: 25055 | AQ68: =IF(ISNUMBER(AR68),AR68*$AQ$3,0) -> 0 | AS68: =IF(ISNUMBER(AT68),AT68*$AS$3,0) -> 0 | AU68: =IF(ISNUMBER(AV68),AV68*$AU$3,"") | AW68: =IF(ISNUMBER(AX68),AX68*$AW$3,"")
B69: 3076619 | C69: 62 | D69: 2 | E69: 김경일 | F69: =SUM(I69:M69,R69:T69,W69,Z69,AC69,AF69,AH69,AK69,AM69,AO69,AQ69,AS69,AU69,AW69,)-SUM(O69:Q69,U69) -> 33305 | R69: =$R$3 -> 0 | S69: -11200 | W69: =$W$3*X69 -> 0 | Z69: =$Z$3*AA69 -> 0 | AC69: =IF(ISNUMBER(AD69),AD69*$AS$3,0) -> 0 | AF69: =$AF$3*AG69 -> 7060 | AG69: 1 | AH69: =$AH$3*AI69 -> 18700 | AI69: 1 | AK69: =IF(ISNUMBER(AL69),AL69*$AK$3,0) -> -6310 | AL69: 1 | AM69: =IF(ISNUMBER(AN69),AN69*$AM$3,0) -> 0 | AO69: 25055 | AQ69: =IF(ISNUMBER(AR69),AR69*$AQ$3,0) -> 0 | AS69: =IF(ISNUMBER(AT69),AT69*$AS$3,0) -> 0 | AU69: =IF(ISNUMBER(AV69),AV69*$AU$3,"") | AW69: =IF(ISNUMBER(AX69),AX69*$AW$3,"")
B70: 3853218 | C70: 63 | D70: 2 | E70: 김광현 | F70: =SUM(I70:M70,R70:T70,W70,Z70,AC70,AF70,AH70,AK70,AM70,AO70,AQ70,AS70,AU70,AW70,)-SUM(O70:Q70,U70) -> 33305 | R70: =$R$3 -> 0 | S70: -11200 | W70: =$W$3*X70 -> 0 | Z70: =$Z$3*AA70 -> 0 | AC70: =IF(ISNUMBER(AD70),AD70*$AS$3,0) -> 0 | AF70: =$AF$3*AG70 -> 7060 | AG70: 1 | AH70: =$AH$3*AI70 -> 18700 | AI70: 1 | AK70: =IF(ISNUMBER(AL70),AL70*$AK$3,0) -> -6310 | AL70: 1 | AM70: =IF(ISNUMBER(AN70),AN70*$AM$3,0) -> 0 | AO70: 25055 | AQ70: =IF(ISNUMBER(AR70),AR70*$AQ$3,0) -> 0 | AS70: =IF(ISNUMBER(AT70),AT70*$AS$3,0) -> 0 | AU70: =IF(ISNUMBER(AV70),AV70*$AU$3,"") | AW70: =IF(ISNUMBER(AX70),AX70*$AW$3,"")
B71: 4409112 | C71: 64 | D71: 2 | E71: 김근혜 | F71: =SUM(I71:M71,R71:T71,W71,Z71,AC71,AF71,AH71,AK71,AM71,AO71,AQ71,AS71,AU71,AW71,)-SUM(O71:Q71,U71) -> 33305 | R71: =$R$3 -> 0 | S71: -11200 | W71: =$W$3*X71 -> 0 | Z71: =$Z$3*AA71 -> 0 | AC71: =IF(ISNUMBER(AD71),AD71*$AS$3,0) -> 0 | AF71: =$AF$3*AG71 -> 7060 | AG71: 1 | AH71: =$AH$3*AI71 -> 18700 | AI71: 1 | AK71: =IF(ISNUMBER(AL71),AL71*$AK$3,0) -> -6310 | AL71: 1 | AM71: =IF(ISNUMBER(AN71),AN71*$AM$3,0) -> 0 | AO71: 25055 | AQ71: =IF(ISNUMBER(AR71),AR71*$AQ$3,0) -> 0 | AS71: =IF(ISNUMBER(AT71),AT71*$AS$3,0) -> 0 | AU71: =IF(ISNUMBER(AV71),AV71*$AU$3,"") | AW71: =IF(ISNUMBER(AX71),AX71*$AW$3,"")
B72: 4623113 | C72: 65 | D72: 2 | E72: 김다빈 | F72: =SUM(I72:M72,R72:T72,W72,Z72,AC72,AF72,AH72,AK72,AM72,AO72,AQ72,AS72,AU72,AW72,)-SUM(O72:Q72,U72) -> 25705 | R72: =$R$3 -> 0 | S72: -11200 | W72: =$W$3*X72 -> 0 | Z72: =$Z$3*AA72 -> 0 | AC72: =IF(ISNUMBER(AD72),AD72*$AS$3,0) -> 0 | AF72: =$AF$3*AG72 -> 7060 | AG72: 1 | AH72: =$AH$3*AI72 -> 18700 | AI72: 1 | AK72: =IF(ISNUMBER(AL72),AL72*$AK$3,0) -> -6310 | AL72: 1 | AM72: =IF(ISNUMBER(AN72),AN72*$AM$3,0) -> 0 | AO72: 17455 | AQ72: =IF(ISNUMBER(AR72),AR72*$AQ$3,0) -> 0 | AS72: =IF(ISNUMBER(AT72),AT72*$AS$3,0) -> 0 | AU72: =IF(ISNUMBER(AV72),AV72*$AU$3,"") | AW72: =IF(ISNUMBER(AX72),AX72*$AW$3,"")
B73: 4217411 | C73: 66 | D73: 2 | E73: 김미영 | F73: =SUM(I73:M73,R73:T73,W73,Z73,AC73,AF73,AH73,AK73,AM73,AO73,AQ73,AS73,AU73,AW73,)-SUM(O73:Q73,U73) -> 39735 | R73: =$R$3 -> 0 | S73: -11200 | W73: =$W$3*X73 -> 0 | Z73: =$Z$3*AA73 -> 0 | AC73: =IF(ISNUMBER(AD73),AD73*$AS$3,0) -> 0 | AF73: =$AF$3*AG73 -> 7060 | AG73: 1 | AH73: 25130 | AI73: 1 | AK73: =IF(ISNUMBER(AL73),AL73*$AK$3,0) -> -6310 | AL73: 1 | AM73: =IF(ISNUMBER(AN73),AN73*$AM$3,0) -> 0 | AO73: 25055 | AQ73: =IF(ISNUMBER(AR73),AR73*$AQ$3,0) -> 0 | AS73: =IF(ISNUMBER(AT73),AT73*$AS$3,0) -> 0 | AU73: =IF(ISNUMBER(AV73),AV73*$AU$3,"") | AW73: =IF(ISNUMBER(AX73),AX73*$AW$3,"")
B74: 4727438 | C74: 67 | D74: 2 | E74: 김세라 | F74: =SUM(I74:M74,R74:T74,W74,Z74,AC74,AF74,AH74,AK74,AM74,AO74,AQ74,AS74,AU74,AW74,)-SUM(O74:Q74,U74) -> 1728305 | I74: 1020000 | J74: 4분기 | K74: =232500+232500 -> 465000 | L74: 12~2월분 | M74: =97500+97500 -> 195000 | N74: 12~2월분 | R74: =$R$3 -> 0 | S74: -11200 | W74: =$W$3*X74 -> 0 | Z74: =$Z$3*AA74 -> 15000 | AA74: 1 | AB74: 1~2월분 | AC74: =IF(ISNUMBER(AD74),AD74*$AS$3,0) -> 0 | AF74: =$AF$3*AG74 -> 7060 | AG74: 1 | AH74: =$AH$3*AI74 -> 18700 | AI74: 1 | AK74: =IF(ISNUMBER(AL74),AL74*$AK$3,0) -> -6310 | AL74: 1 | AM74: =IF(ISNUMBER(AN74),AN74*$AM$3,0) -> 0 | AO74: 25055 | AQ74: =IF(ISNUMBER(AR74),AR74*$AQ$3,0) -> 0 | AS74: =IF(ISNUMBER(AT74),AT74*$AS$3,0) -> 0 | AU74: =IF(ISNUMBER(AV74),AV74*$AU$3,"") | AW74: =IF(ISNUMBER(AX74),AX74*$AW$3,"")
B75: 4849810 | C75: 68 | D75: 2 | E75: 김소이 | F75: =SUM(I75:M75,R75:T75,W75,Z75,AC75,AF75,AH75,AK75,AM75,AO75,AQ75,AS75,AU75,AW75,)-SUM(O75:Q75,U75) -> 33305 | R75: =$R$3 -> 0 | S75: -11200 | W75: =$W$3*X75 -> 0 | Z75: =$Z$3*AA75 -> 0 | AC75: =IF(ISNUMBER(AD75),AD75*$AS$3,0) -> 0 | AF75: =$AF$3*AG75 -> 7060 | AG75: 1 | AH75: =$AH$3*AI75 -> 18700 | AI75: 1 | AK75: =IF(ISNUMBER(AL75),AL75*$AK$3,0) -> -6310 | AL75: 1 | AM75: =IF(ISNUMBER(AN75),AN75*$AM$3,0) -> 0 | AO75: 25055 | AQ75: =IF(ISNUMBER(AR75),AR75*$AQ$3,0) -> 0 | AS75: =IF(ISNUMBER(AT75),AT75*$AS$3,0) -> 0 | AU75: =IF(ISNUMBER(AV75),AV75*$AU$3,"") | AW75: =IF(ISNUMBER(AX75),AX75*$AW$3,"")
B76: 3226518 | C76: 69 | D76: 2 | E76: 김영기 | F76: =SUM(I76:M76,R76:T76,W76,Z76,AC76,AF76,AH76,AK76,AM76,AO76,AQ76,AS76,AU76,AW76,)-SUM(O76:Q76,U76) -> 33305 | R76: =$R$3 -> 0 | S76: -11200 | W76: =$W$3*X76 -> 0 | Z76: =$Z$3*AA76 -> 0 | AC76: =IF(ISNUMBER(AD76),AD76*$AS$3,0) -> 0 | AF76: =$AF$3*AG76 -> 7060 | AG76: 1 | AH76: =$AH$3*AI76 -> 18700 | AI76: 1 | AK76: =IF(ISNUMBER(AL76),AL76*$AK$3,0) -> -6310 | AL76: 1 | AM76: =IF(ISNUMBER(AN76),AN76*$AM$3,0) -> 0 | AO76: 25055 | AQ76: =IF(ISNUMBER(AR76),AR76*$AQ$3,0) -> 0 | AS76: =IF(ISNUMBER(AT76),AT76*$AS$3,0) -> 0 | AU76: =IF(ISNUMBER(AV76),AV76*$AU$3,"") | AW76: =IF(ISNUMBER(AX76),AX76*$AW$3,"")
B77: 3740415 | C77: 70 | D77: 2 | E77: 김영은 | F77: =SUM(I77:M77,R77:T77,W77,Z77,AC77,AF77,AH77,AK77,AM77,AO77,AQ77,AS77,AU77,AW77,)-SUM(O77:Q77,U77) -> 139235 | R77: =$R$3 -> 0 | S77: -11200 | W77: =$W$3*X77 -> 0 | Z77: =$Z$3*AA77 -> 0 | AC77: =IF(ISNUMBER(AD77),AD77*$AS$3,0) -> 0 | AF77: =$AF$3*AG77 -> 7060 | AG77: 1 | AH77: =$AH$3*AI77 -> 18700 | AI77: 1 | AK77: =IF(ISNUMBER(AL77),AL77*$AK$3,0) -> -6310 | AL77: 1 | AM77: =IF(ISNUMBER(AN77),AN77*$AM$3,0) -> 0 | AO77: 130985 | AQ77: =IF(ISNUMBER(AR77),AR77*$AQ$3,0) -> 0 | AS77: =IF(ISNUMBER(AT77),AT77*$AS$3,0) -> 0 | AU77: =IF(ISNUMBER(AV77),AV77*$AU$3,"") | AW77: =IF(ISNUMBER(AX77),AX77*$AW$3,"")
B78: 3074018 | C78: 71 | D78: 2 | E78: 김영찬 | F78: =SUM(I78:M78,R78:T78,W78,Z78,AC78,AF78,AH78,AK78,AM78,AO78,AQ78,AS78,AU78,AW78,)-SUM(O78:Q78,U78) -> 33305 | R78: =$R$3 -> 0 | S78: -11200 | W78: =$W$3*X78 -> 0 | Z78: =$Z$3*AA78 -> 0 | AC78: =IF(ISNUMBER(AD78),AD78*$AS$3,0) -> 0 | AF78: =$AF$3*AG78 -> 7060 | AG78: 1 | AH78: =$AH$3*AI78 -> 18700 | AI78: 1 | AK78: =IF(ISNUMBER(AL78),AL78*$AK$3,0) -> -6310 | AL78: 1 | AM78: =IF(ISNUMBER(AN78),AN78*$AM$3,0) -> 0 | AO78: 25055 | AQ78: =IF(ISNUMBER(AR78),AR78*$AQ$3,0) -> 0 | AS78: =IF(ISNUMBER(AT78),AT78*$AS$3,0) -> 0 | AU78: =IF(ISNUMBER(AV78),AV78*$AU$3,"") | AW78: =IF(ISNUMBER(AX78),AX78*$AW$3,"")
B79: 4824417 | C79: 72 | D79: 2 | E79: 김예지 | F79: =SUM(I79:M79,R79:T79,W79,Z79,AC79,AF79,AH79,AK79,AM79,AO79,AQ79,AS79,AU79,AW79,)-SUM(O79:Q79,U79) -> 39735 | R79: =$R$3 -> 0 | S79: -11200 | W79: =$W$3*X79 -> 0 | Z79: =$Z$3*AA79 -> 0 | AC79: =IF(ISNUMBER(AD79),AD79*$AS$3,0) -> 0 | AF79: =$AF$3*AG79 -> 7060 | AG79: 1 | AH79: 25130 | AI79: 1 | AK79: =IF(ISNUMBER(AL79),AL79*$AK$3,0) -> -6310 | AL79: 1 | AM79: =IF(ISNUMBER(AN79),AN79*$AM$3,0) -> 0 | AO79: 25055 | AQ79: =IF(ISNUMBER(AR79),AR79*$AQ$3,0) -> 0 | AS79: =IF(ISNUMBER(AT79),AT79*$AS$3,0) -> 0 | AU79: =IF(ISNUMBER(AV79),AV79*$AU$3,"") | AW79: =IF(ISNUMBER(AX79),AX79*$AW$3,"")
B80: 4148111 | C80: 73 | D80: 2 | E80: 김우림 | F80: =SUM(I80:M80,R80:T80,W80,Z80,AC80,AF80,AH80,AK80,AM80,AO80,AQ80,AS80,AU80,AW80,)-SUM(O80:Q80,U80) -> 33305 | R80: =$R$3 -> 0 | S80: -11200 | W80: =$W$3*X80 -> 0 | Z80: =$Z$3*AA80 -> 0 | AC80: =IF(ISNUMBER(AD80),AD80*$AS$3,0) -> 0 | AF80: =$AF$3*AG80 -> 7060 | AG80: 1 | AH80: =$AH$3*AI80 -> 18700 | AI80: 1 | AK80: =IF(ISNUMBER(AL80),AL80*$AK$3,0) -> -6310 | AL80: 1 | AM80: =IF(ISNUMBER(AN80),AN80*$AM$3,0) -> 0 | AO80: 25055 | AQ80: =IF(ISNUMBER(AR80),AR80*$AQ$3,0) -> 0 | AS80: =IF(ISNUMBER(AT80),AT80*$AS$3,0) -> 0 | AU80: =IF(ISNUMBER(AV80),AV80*$AU$3,"") | AW80: =IF(ISNUMBER(AX80),AX80*$AW$3,"")
B81: 4154727 | C81: 74 | D81: 2 | E81: 김유민 | F81: =SUM(I81:M81,R81:T81,W81,Z81,AC81,AF81,AH81,AK81,AM81,AO81,AQ81,AS81,AU81,AW81,)-SUM(O81:Q81,U81) -> 33305 | R81: =$R$3 -> 0 | S81: -11200 | W81: =$W$3*X81 -> 0 | Z81: =$Z$3*AA81 -> 0 | AC81: =IF(ISNUMBER(AD81),AD81*$AS$3,0) -> 0 | AF81: =$AF$3*AG81 -> 7060 | AG81: 1 | AH81: =$AH$3*AI81 -> 18700 | AI81: 1 | AK81: =IF(ISNUMBER(AL81),AL81*$AK$3,0) -> -6310 | AL81: 1 | AM81: =IF(ISNUMBER(AN81),AN81*$AM$3,0) -> 0 | AO81: 25055 | AQ81: =IF(ISNUMBER(AR81),AR81*$AQ$3,0) -> 0 | AS81: =IF(ISNUMBER(AT81),AT81*$AS$3,0) -> 0 | AU81: =IF(ISNUMBER(AV81),AV81*$AU$3,"") | AW81: =IF(ISNUMBER(AX81),AX81*$AW$3,"")
B82: 3117710 | C82: 75 | D82: 2 | E82: 김은강 | F82: =SUM(I82:M82,R82:T82,W82,Z82,AC82,AF82,AH82,AK82,AM82,AO82,AQ82,AS82,AU82,AW82,)-SUM(O82:Q82,U82) -> 33305 | R82: =$R$3 -> 0 | S82: -11200 | W82: =$W$3*X82 -> 0 | Z82: =$Z$3*AA82 -> 0 | AC82: =IF(ISNUMBER(AD82),AD82*$AS$3,0) -> 0 | AF82: =$AF$3*AG82 -> 7060 | AG82: 1 | AH82: =$AH$3*AI82 -> 18700 | AI82: 1 | AK82: =IF(ISNUMBER(AL82),AL82*$AK$3,0) -> -6310 | AL82: 1 | AM82: =IF(ISNUMBER(AN82),AN82*$AM$3,0) -> 0 | AO82: 25055 | AQ82: =IF(ISNUMBER(AR82),AR82*$AQ$3,0) -> 0 | AS82: =IF(ISNUMBER(AT82),AT82*$AS$3,0) -> 0 | AU82: =IF(ISNUMBER(AV82),AV82*$AU$3,"") | AW82: =IF(ISNUMBER(AX82),AX82*$AW$3,"")
B83: 3528016 | C83: 76 | D83: 2 | E83: 김지훈 | F83: =SUM(I83:M83,R83:T83,W83,Z83,AC83,AF83,AH83,AK83,AM83,AO83,AQ83,AS83,AU83,AW83,)-SUM(O83:Q83,U83) -> 33305 | R83: =$R$3 -> 0 | S83: -11200 | W83: =$W$3*X83 -> 0 | Z83: =$Z$3*AA83 -> 0 | AC83: =IF(ISNUMBER(AD83),AD83*$AS$3,0) -> 0 | AF83: =$AF$3*AG83 -> 7060 | AG83: 1 | AH83: =$AH$3*AI83 -> 18700 | AI83: 1 | AK83: =IF(ISNUMBER(AL83),AL83*$AK$3,0) -> -6310 | AL83: 1 | AM83: =IF(ISNUMBER(AN83),AN83*$AM$3,0) -> 0 | AO83: 25055 | AQ83: =IF(ISNUMBER(AR83),AR83*$AQ$3,0) -> 0 | AS83: =IF(ISNUMBER(AT83),AT83*$AS$3,0) -> 0 | AU83: =IF(ISNUMBER(AV83),AV83*$AU$3,"") | AW83: =IF(ISNUMBER(AX83),AX83*$AW$3,"")
B84: 4409515 | C84: 77 | D84: 2 | E84: 김진희 | F84: =SUM(I84:M84,R84:T84,W84,Z84,AC84,AF84,AH84,AK84,AM84,AO84,AQ84,AS84,AU84,AW84,)-SUM(O84:Q84,U84) -> 33305 | R84: =$R$3 -> 0 | S84: -11200 | W84: =$W$3*X84 -> 0 | Z84: =$Z$3*AA84 -> 0 | AC84: =IF(ISNUMBER(AD84),AD84*$AS$3,0) -> 0 | AF84: =$AF$3*AG84 -> 7060 | AG84: 1 | AH84: =$AH$3*AI84 -> 18700 | AI84: 1 | AK84: =IF(ISNUMBER(AL84),AL84*$AK$3,0) -> -6310 | AL84: 1 | AM84: =IF(ISNUMBER(AN84),AN84*$AM$3,0) -> 0 | AO84: 25055 | AQ84: =IF(ISNUMBER(AR84),AR84*$AQ$3,0) -> 0 | AS84: =IF(ISNUMBER(AT84),AT84*$AS$3,0) -> 0 | AU84: =IF(ISNUMBER(AV84),AV84*$AU$3,"") | AW84: =IF(ISNUMBER(AX84),AX84*$AW$3,"")
B85: 3020420 | C85: 78 | D85: 2 | E85: 김창민 | F85: =SUM(I85:M85,R85:T85,W85,Z85,AC85,AF85,AH85,AK85,AM85,AO85,AQ85,AS85,AU85,AW85,)-SUM(O85:Q85,U85) -> 33305 | R85: =$R$3 -> 0 | S85: -11200 | W85: =$W$3*X85 -> 0 | Z85: =$Z$3*AA85 -> 0 | AC85: =IF(ISNUMBER(AD85),AD85*$AS$3,0) -> 0 | AF85: =$AF$3*AG85 -> 7060 | AG85: 1 | AH85: =$AH$3*AI85 -> 18700 | AI85: 1 | AK85: =IF(ISNUMBER(AL85),AL85*$AK$3,0) -> -6310 | AL85: 1 | AM85: =IF(ISNUMBER(AN85),AN85*$AM$3,0) -> 0 | AO85: 25055 | AQ85: =IF(ISNUMBER(AR85),AR85*$AQ$3,0) -> 0 | AS85: =IF(ISNUMBER(AT85),AT85*$AS$3,0) -> 0 | AU85: =IF(ISNUMBER(AV85),AV85*$AU$3,"") | AW85: =IF(ISNUMBER(AX85),AX85*$AW$3,"")
B86: 3124618 | C86: 79 | D86: 2 | E86: 김태형 | F86: =SUM(I86:M86,R86:T86,W86,Z86,AC86,AF86,AH86,AK86,AM86,AO86,AQ86,AS86,AU86,AW86,)-SUM(O86:Q86,U86) -> 33305 | R86: =$R$3 -> 0 | S86: -11200 | W86: =$W$3*X86 -> 0 | Z86: =$Z$3*AA86 -> 0 | AC86: =IF(ISNUMBER(AD86),AD86*$AS$3,0) -> 0 | AF86: =$AF$3*AG86 -> 7060 | AG86: 1 | AH86: =$AH$3*AI86 -> 18700 | AI86: 1 | AK86: =IF(ISNUMBER(AL86),AL86*$AK$3,0) -> -6310 | AL86: 1 | AM86: =IF(ISNUMBER(AN86),AN86*$AM$3,0) -> 0 | AO86: 25055 | AQ86: =IF(ISNUMBER(AR86),AR86*$AQ$3,0) -> 0 | AS86: =IF(ISNUMBER(AT86),AT86*$AS$3,0) -> 0 | AU86: =IF(ISNUMBER(AV86),AV86*$AU$3,"") | AW86: =IF(ISNUMBER(AX86),AX86*$AW$3,"")
B87: 4199510 | C87: 80 | D87: 2 | E87: 김하은 | F87: =SUM(I87:M87,R87:T87,W87,Z87,AC87,AF87,AH87,AK87,AM87,AO87,AQ87,AS87,AU87,AW87,)-SUM(O87:Q87,U87) -> 33305 | R87: =$R$3 -> 0 | S87: -11200 | W87: =$W$3*X87 -> 0 | Z87: =$Z$3*AA87 -> 0 | AC87: =IF(ISNUMBER(AD87),AD87*$AS$3,0) -> 0 | AF87: =$AF$3*AG87 -> 7060 | AG87: 1 | AH87: =$AH$3*AI87 -> 18700 | AI87: 1 | AK87: =IF(ISNUMBER(AL87),AL87*$AK$3,0) -> -6310 | AL87: 1 | AM87: =IF(ISNUMBER(AN87),AN87*$AM$3,0) -> 0 | AO87: 25055 | AQ87: =IF(ISNUMBER(AR87),AR87*$AQ$3,0) -> 0 | AS87: =IF(ISNUMBER(AT87),AT87*$AS$3,0) -> 0 | AU87: =IF(ISNUMBER(AV87),AV87*$AU$3,"") | AW87: =IF(ISNUMBER(AX87),AX87*$AW$3,"")
B88: 3727439 | C88: 81 | D88: 2 | E88: 김한빈 | F88: =SUM(I88:M88,R88:T88,W88,Z88,AC88,AF88,AH88,AK88,AM88,AO88,AQ88,AS88,AU88,AW88,)-SUM(O88:Q88,U88) -> 33305 | R88: =$R$3 -> 0 | S88: -11200 | W88: =$W$3*X88 -> 0 | Z88: =$Z$3*AA88 -> 0 | AC88: =IF(ISNUMBER(AD88),AD88*$AS$3,0) -> 0 | AF88: =$AF$3*AG88 -> 7060 | AG88: 1 | AH88: =$AH$3*AI88 -> 18700 | AI88: 1 | AK88: =IF(ISNUMBER(AL88),AL88*$AK$3,0) -> -6310 | AL88: 1 | AM88: =IF(ISNUMBER(AN88),AN88*$AM$3,0) -> 0 | AO88: 25055 | AQ88: =IF(ISNUMBER(AR88),AR88*$AQ$3,0) -> 0 | AS88: =IF(ISNUMBER(AT88),AT88*$AS$3,0) -> 0 | AU88: =IF(ISNUMBER(AV88),AV88*$AU$3,"") | AW88: =IF(ISNUMBER(AX88),AX88*$AW$3,"")
B89: 4179017 | C89: 82 | D89: 2 | E89: 김혜인 | F89: =SUM(I89:M89,R89:T89,W89,Z89,AC89,AF89,AH89,AK89,AM89,AO89,AQ89,AS89,AU89,AW89,)-SUM(O89:Q89,U89) -> 33305 | R89: =$R$3 -> 0 | S89: -11200 | W89: =$W$3*X89 -> 0 | Z89: =$Z$3*AA89 -> 0 | AC89: =IF(ISNUMBER(AD89),AD89*$AS$3,0) -> 0 | AF89: =$AF$3*AG89 -> 7060 | AG89: 1 | AH89: =$AH$3*AI89 -> 18700 | AI89: 1 | AK89: =IF(ISNUMBER(AL89),AL89*$AK$3,0) -> -6310 | AL89: 1 | AM89: =IF(ISNUMBER(AN89),AN89*$AM$3,0) -> 0 | AO89: 25055 | AQ89: =IF(ISNUMBER(AR89),AR89*$AQ$3,0) -> 0 | AS89: =IF(ISNUMBER(AT89),AT89*$AS$3,0) -> 0 | AU89: =IF(ISNUMBER(AV89),AV89*$AU$3,"") | AW89: =IF(ISNUMBER(AX89),AX89*$AW$3,"")
B90: 3183915 | C90: 83 | D90: 2 | E90: 노승영 | F90: =SUM(I90:M90,R90:T90,W90,Z90,AC90,AF90,AH90,AK90,AM90,AO90,AQ90,AS90,AU90,AW90,)-SUM(O90:Q90,U90) -> 33305 | R90: =$R$3 -> 0 | S90: -11200 | W90: =$W$3*X90 -> 0 | Z90: =$Z$3*AA90 -> 0 | AC90: =IF(ISNUMBER(AD90),AD90*$AS$3,0) -> 0 | AF90: =$AF$3*AG90 -> 7060 | AG90: 1 | AH90: =$AH$3*AI90 -> 18700 | AI90: 1 | AK90: =IF(ISNUMBER(AL90),AL90*$AK$3,0) -> -6310 | AL90: 1 | AM90: =IF(ISNUMBER(AN90),AN90*$AM$3,0) -> 0 | AO90: 25055 | AQ90: =IF(ISNUMBER(AR90),AR90*$AQ$3,0) -> 0 | AS90: =IF(ISNUMBER(AT90),AT90*$AS$3,0) -> 0 | AU90: =IF(ISNUMBER(AV90),AV90*$AU$3,"") | AW90: =IF(ISNUMBER(AX90),AX90*$AW$3,"")
B91: 4480119 | C91: 84 | D91: 2 | E91: 노유민 | F91: =SUM(I91:M91,R91:T91,W91,Z91,AC91,AF91,AH91,AK91,AM91,AO91,AQ91,AS91,AU91,AW91,)-SUM(O91:Q91,U91) -> 378305 | K91: 232500 | L91: 1~2월분 | M91: 97500 | N91: 1~2월분 | R91: =$R$3 -> 0 | S91: -11200 | W91: =$W$3*X91 -> 0 | Z91: =$Z$3*AA91 -> 15000 | AA91: 1 | AB91: 1~2월분 | AC91: =IF(ISNUMBER(AD91),AD91*$AS$3,0) -> 0 | AF91: =$AF$3*AG91 -> 7060 | AG91: 1 | AH91: =$AH$3*AI91 -> 18700 | AI91: 1 | AK91: =IF(ISNUMBER(AL91),AL91*$AK$3,0) -> -6310 | AL91: 1 | AM91: =IF(ISNUMBER(AN91),AN91*$AM$3,0) -> 0 | AO91: 25055 | AQ91: =IF(ISNUMBER(AR91),AR91*$AQ$3,0) -> 0 | AS91: =IF(ISNUMBER(AT91),AT91*$AS$3,0) -> 0 | AU91: =IF(ISNUMBER(AV91),AV91*$AU$3,"") | AW91: =IF(ISNUMBER(AX91),AX91*$AW$3,"")
B92: 3841618 | C92: 85 | D92: 2 | E92: 두진욱 | F92: =SUM(I92:M92,R92:T92,W92,Z92,AC92,AF92,AH92,AK92,AM92,AO92,AQ92,AS92,AU92,AW92,)-SUM(O92:Q92,U92) -> 33305 | R92: =$R$3 -> 0 | S92: -11200 | W92: =$W$3*X92 -> 0 | Z92: =$Z$3*AA92 -> 0 | AC92: =IF(ISNUMBER(AD92),AD92*$AS$3,0) -> 0 | AF92: =$AF$3*AG92 -> 7060 | AG92: 1 | AH92: =$AH$3*AI92 -> 18700 | AI92: 1 | AK92: =IF(ISNUMBER(AL92),AL92*$AK$3,0) -> -6310 | AL92: 1 | AM92: =IF(ISNUMBER(AN92),AN92*$AM$3,0) -> 0 | AO92: 25055 | AQ92: =IF(ISNUMBER(AR92),AR92*$AQ$3,0) -> 0 | AS92: =IF(ISNUMBER(AT92),AT92*$AS$3,0) -> 0 | AU92: =IF(ISNUMBER(AV92),AV92*$AU$3,"") | AW92: =IF(ISNUMBER(AX92),AX92*$AW$3,"")
B93: 4659716 | C93: 86 | D93: 2 | E93: 박서진 | F93: =SUM(I93:M93,R93:T93,W93,Z93,AC93,AF93,AH93,AK93,AM93,AO93,AQ93,AS93,AU93,AW93,)-SUM(O93:Q93,U93) -> 33305 | R93: =$R$3 -> 0 | S93: -11200 | W93: =$W$3*X93 -> 0 | Z93: =$Z$3*AA93 -> 0 | AC93: =IF(ISNUMBER(AD93),AD93*$AS$3,0) -> 0 | AF93: =$AF$3*AG93 -> 7060 | AG93: 1 | AH93: =$AH$3*AI93 -> 18700 | AI93: 1 | AK93: =IF(ISNUMBER(AL93),AL93*$AK$3,0) -> -6310 | AL93: 1 | AM93: =IF(ISNUMBER(AN93),AN93*$AM$3,0) -> 0 | AO93: 25055 | AQ93: =IF(ISNUMBER(AR93),AR93*$AQ$3,0) -> 0 | AS93: =IF(ISNUMBER(AT93),AT93*$AS$3,0) -> 0 | AU93: =IF(ISNUMBER(AV93),AV93*$AU$3,"") | AW93: =IF(ISNUMBER(AX93),AX93*$AW$3,"")
B94: 3126327 | C94: 87 | D94: 2 | E94: 박성건 | F94: =SUM(I94:M94,R94:T94,W94,Z94,AC94,AF94,AH94,AK94,AM94,AO94,AQ94,AS94,AU94,AW94,)-SUM(O94:Q94,U94) -> 33305 | R94: =$R$3 -> 0 | S94: -11200 | W94: =$W$3*X94 -> 0 | Z94: =$Z$3*AA94 -> 0 | AC94: =IF(ISNUMBER(AD94),AD94*$AS$3,0) -> 0 | AF94: =$AF$3*AG94 -> 7060 | AG94: 1 | AH94: =$AH$3*AI94 -> 18700 | AI94: 1 | AK94: =IF(ISNUMBER(AL94),AL94*$AK$3,0) -> -6310 | AL94: 1 | AM94: =IF(ISNUMBER(AN94),AN94*$AM$3,0) -> 0 | AO94: 25055 | AQ94: =IF(ISNUMBER(AR94),AR94*$AQ$3,0) -> 0 | AS94: =IF(ISNUMBER(AT94),AT94*$AS$3,0) -> 0 | AU94: =IF(ISNUMBER(AV94),AV94*$AU$3,"") | AW94: =IF(ISNUMBER(AX94),AX94*$AW$3,"")
B95: 3861224 | C95: 88 | D95: 2 | E95: 박준범 | F95: =SUM(I95:M95,R95:T95,W95,Z95,AC95,AF95,AH95,AK95,AM95,AO95,AQ95,AS95,AU95,AW95,)-SUM(O95:Q95,U95) -> 33305 | R95: =$R$3 -> 0 | S95: -11200 | W95: =$W$3*X95 -> 0 | Z95: =$Z$3*AA95 -> 0 | AC95: =IF(ISNUMBER(AD95),AD95*$AS$3,0) -> 0 | AF95: =$AF$3*AG95 -> 7060 | AG95: 1 | AH95: =$AH$3*AI95 -> 18700 | AI95: 1 | AK95: =IF(ISNUMBER(AL95),AL95*$AK$3,0) -> -6310 | AL95: 1 | AM95: =IF(ISNUMBER(AN95),AN95*$AM$3,0) -> 0 | AO95: 25055 | AQ95: =IF(ISNUMBER(AR95),AR95*$AQ$3,0) -> 0 | AS95: =IF(ISNUMBER(AT95),AT95*$AS$3,0) -> 0 | AU95: =IF(ISNUMBER(AV95),AV95*$AU$3,"") | AW95: =IF(ISNUMBER(AX95),AX95*$AW$3,"")
B96: 3352918 | C96: 89 | D96: 2 | E96: 박준수 | F96: =SUM(I96:M96,R96:T96,W96,Z96,AC96,AF96,AH96,AK96,AM96,AO96,AQ96,AS96,AU96,AW96,)-SUM(O96:Q96,U96) -> 39735 | R96: =$R$3 -> 0 | S96: -11200 | W96: =$W$3*X96 -> 0 | Z96: =$Z$3*AA96 -> 0 | AC96: =IF(ISNUMBER(AD96),AD96*$AS$3,0) -> 0 | AF96: =$AF$3*AG96 -> 7060 | AG96: 1 | AH96: 25130 | AI96: 1 | AK96: =IF(ISNUMBER(AL96),AL96*$AK$3,0) -> -6310 | AL96: 1 | AM96: =IF(ISNUMBER(AN96),AN96*$AM$3,0) -> 0 | AO96: 25055 | AQ96: =IF(ISNUMBER(AR96),AR96*$AQ$3,0) -> 0 | AS96: =IF(ISNUMBER(AT96),AT96*$AS$3,0) -> 0 | AU96: =IF(ISNUMBER(AV96),AV96*$AU$3,"") | AW96: =IF(ISNUMBER(AX96),AX96*$AW$3,"")
B97: 4170423 | C97: 90 | D97: 2 | E97: 박해름 | F97: =SUM(I97:M97,R97:T97,W97,Z97,AC97,AF97,AH97,AK97,AM97,AO97,AQ97,AS97,AU97,AW97,)-SUM(O97:Q97,U97) -> 33305 | R97: =$R$3 -> 0 | S97: -11200 | W97: =$W$3*X97 -> 0 | Z97: =$Z$3*AA97 -> 0 | AC97: =IF(ISNUMBER(AD97),AD97*$AS$3,0) -> 0 | AF97: =$AF$3*AG97 -> 7060 | AG97: 1 | AH97: =$AH$3*AI97 -> 18700 | AI97: 1 | AK97: =IF(ISNUMBER(AL97),AL97*$AK$3,0) -> -6310 | AL97: 1 | AM97: =IF(ISNUMBER(AN97),AN97*$AM$3,0) -> 0 | AO97: 25055 | AQ97: =IF(ISNUMBER(AR97),AR97*$AQ$3,0) -> 0 | AS97: =IF(ISNUMBER(AT97),AT97*$AS$3,0) -> 0 | AU97: =IF(ISNUMBER(AV97),AV97*$AU$3,"") | AW97: =IF(ISNUMBER(AX97),AX97*$AW$3,"")
B98: 3933916 | C98: 91 | D98: 2 | E98: 부정민 | F98: =SUM(I98:M98,R98:T98,W98,Z98,AC98,AF98,AH98,AK98,AM98,AO98,AQ98,AS98,AU98,AW98,)-SUM(O98:Q98,U98) -> 39735 | R98: =$R$3 -> 0 | S98: -11200 | W98: =$W$3*X98 -> 0 | Z98: =$Z$3*AA98 -> 0 | AC98: =IF(ISNUMBER(AD98),AD98*$AS$3,0) -> 0 | AF98: =$AF$3*AG98 -> 7060 | AG98: 1 | AH98: 25130 | AI98: 1 | AK98: =IF(ISNUMBER(AL98),AL98*$AK$3,0) -> -6310 | AL98: 1 | AM98: =IF(ISNUMBER(AN98),AN98*$AM$3,0) -> 0 | AO98: 25055 | AQ98: =IF(ISNUMBER(AR98),AR98*$AQ$3,0) -> 0 | AS98: =IF(ISNUMBER(AT98),AT98*$AS$3,0) -> 0 | AU98: =IF(ISNUMBER(AV98),AV98*$AU$3,"") | AW98: =IF(ISNUMBER(AX98),AX98*$AW$3,"")
B99: 3188211 | C99: 92 | D99: 2 | E99: 신선교 | F99: =SUM(I99:M99,R99:T99,W99,Z99,AC99,AF99,AH99,AK99,AM99,AO99,AQ99,AS99,AU99,AW99,)-SUM(O99:Q99,U99) -> 33305 | R99: =$R$3 -> 0 | S99: -11200 | W99: =$W$3*X99 -> 0 | Z99: =$Z$3*AA99 -> 0 | AC99: =IF(ISNUMBER(AD99),AD99*$AS$3,0) -> 0 | AF99: =$AF$3*AG99 -> 7060 | AG99: 1 | AH99: =$AH$3*AI99 -> 18700 | AI99: 1 | AK99: =IF(ISNUMBER(AL99),AL99*$AK$3,0) -> -6310 | AL99: 1 | AM99: =IF(ISNUMBER(AN99),AN99*$AM$3,0) -> 0 | AO99: 25055 | AQ99: =IF(ISNUMBER(AR99),AR99*$AQ$3,0) -> 0 | AS99: =IF(ISNUMBER(AT99),AT99*$AS$3,0) -> 0 | AU99: =IF(ISNUMBER(AV99),AV99*$AU$3,"") | AW99: =IF(ISNUMBER(AX99),AX99*$AW$3,"")
B100: 3074011s | C100: 93 | D100: 2 | E100: 심구현 | F100: =SUM(I100:M100,R100:T100,W100,Z100,AC100,AF100,AH100,AK100,AM100,AO100,AQ100,AS100,AU100,AW100,)-SUM(O100:Q100,U100) -> 42655 | R100: =$R$3 -> 0 | S100: -11200 | W100: =$W$3*X100 -> 0 | Z100: =$Z$3*AA100 -> 0 | AC100: =IF(ISNUMBER(AD100),AD100*$AS$3,0) -> 0 | AF100: =$AF$3*AG100 -> 7060 | AG100: 1 | AH100: =$AH$3*AI100 -> 18700 | AI100: 1 | AK100: =IF(ISNUMBER(AL100),AL100*$AK$3,0) -> -6310 | AL100: 1 | AM100: =IF(ISNUMBER(AN100),AN100*$AM$3,0) -> 0 | AO100: 34405 | AQ100: =IF(ISNUMBER(AR100),AR100*$AQ$3,0) -> 0 | AS100: =IF(ISNUMBER(AT100),AT100*$AS$3,0) -> 0 | AU100: =IF(ISNUMBER(AV100),AV100*$AU$3,"") | AW100: =IF(ISNUMBER(AX100),AX100*$AW$3,"")
B101: 3771710 | C101: 94 | D101: 2 | E101: 안병욱 | F101: =SUM(I101:M101,R101:T101,W101,Z101,AC101,AF101,AH101,AK101,AM101,AO101,AQ101,AS101,AU101,AW101,)-SUM(O101:Q101,U101) -> 33305 | R101: =$R$3 -> 0 | S101: -11200 | W101: =$W$3*X101 -> 0 | Z101: =$Z$3*AA101 -> 0 | AC101: =IF(ISNUMBER(AD101),AD101*$AS$3,0) -> 0 | AF101: =$AF$3*AG101 -> 7060 | AG101: 1 | AH101: =$AH$3*AI101 -> 18700 | AI101: 1 | AK101: =IF(ISNUMBER(AL101),AL101*$AK$3,0) -> -6310 | AL101: 1 | AM101: =IF(ISNUMBER(AN101),AN101*$AM$3,0) -> 0 | AO101: 25055 | AQ101: =IF(ISNUMBER(AR101),AR101*$AQ$3,0) -> 0 | AS101: =IF(ISNUMBER(AT101),AT101*$AS$3,0) -> 0 | AU101: =IF(ISNUMBER(AV101),AV101*$AU$3,"") | AW101: =IF(ISNUMBER(AX101),AX101*$AW$3,"")
B102: 4410310 | C102: 95 | D102: 2 | E102: 양새은 | F102: =SUM(I102:M102,R102:T102,W102,Z102,AC102,AF102,AH102,AK102,AM102,AO102,AQ102,AS102,AU102,AW102,)-SUM(O102:Q102,U102) -> 33305 | R102: =$R$3 -> 0 | S102: -11200 | W102: =$W$3*X102 -> 0 | Z102: =$Z$3*AA102 -> 0 | AC102: =IF(ISNUMBER(AD102),AD102*$AS$3,0) -> 0 | AF102: =$AF$3*AG102 -> 7060 | AG102: 1 | AH102: =$AH$3*AI102 -> 18700 | AI102: 1 | AK102: =IF(ISNUMBER(AL102),AL102*$AK$3,0) -> -6310 | AL102: 1 | AM102: =IF(ISNUMBER(AN102),AN102*$AM$3,0) -> 0 | AO102: 25055 | AQ102: =IF(ISNUMBER(AR102),AR102*$AQ$3,0) -> 0 | AS102: =IF(ISNUMBER(AT102),AT102*$AS$3,0) -> 0 | AU102: =IF(ISNUMBER(AV102),AV102*$AU$3,"") | AW102: =IF(ISNUMBER(AX102),AX102*$AW$3,"")
...

Sheet 2018년 정산서
C3: 2018학년도 정산서
C5: 학생 주민등록번호 뒷자리 :
C6: 이름 : | D6: =VLOOKUP(G5,데이터!$B$8:$AW$185,4,FALSE) -> #N/A | I6: 중 ( | J6: =VLOOKUP(G5,데이터!$B$8:$AW$185,3,FALSE) -> #N/A | K6: ) | L6: 학년
C8: 미납분 | E8: =데이터!R189 -> 수업료 | G8: =IF(VLOOKUP($G$5,데이터!$B$8:$AX$185,9,FALSE)="","",VLOOKUP($G$5,데이터!$B$8:$AX$185,9,FALSE)) -> #N/A | I8: =VLOOKUP($G$5,데이터!$B$8:$AX$185,8,FALSE) -> #N/A | L8: 원
E9: =데이터!S189 -> 급식비 | G9: =IF(VLOOKUP($G$5,데이터!$B$8:$AX$185,11,FALSE)="","",VLOOKUP($G$5,데이터!$B$8:$AX$185,11,FALSE)) -> #N/A | I9: =VLOOKUP($G$5,데이터!$B$8:$AX$185,10,FALSE) -> #N/A | L9: 원
E10: =데이터!M189 -> 기숙사비 | G10: =IF(VLOOKUP($G$5,데이터!$B$8:$AX$185,13,FALSE)="","",VLOOKUP($G$5,데이터!$B$8:$AX$185,13,FALSE)) -> #N/A | I10: =VLOOKUP($G$5,데이터!$B$8:$AX$185,12,FALSE) -> #N/A | L10: 원
C11: 2018년 4분기 | E11: 수업료 | I11: =VLOOKUP($G$5,데이터!$B$8:$AX$185,17,FALSE)-VLOOKUP($G$5,데이터!$B$8:$AX$185,14,FALSE) -> #N/A | L11: 원
C12: 2018년 정산분 | E12: 급식비 | I12: =VLOOKUP($G$5,데이터!$B$8:$AX$185,18,FALSE)-VLOOKUP($G$5,데이터!$B$8:$AX$185,15,FALSE) -> #N/A | L12: 원
I13: =VLOOKUP($G$5,데이터!$B$8:$AX$185,19,FALSE)-VLOOKUP($G$5,데이터!$B$8:$AX$185,16,FALSE) -> #N/A | L13: 원
E14: =IF(ISNUMBER(VLOOKUP($G$5,데이터!$B$8:$AX$185,20,FALSE)),데이터!U188,"") | G14: =IF(E14="","",VLOOKUP($G$5,데이터!$B$8:$AX$185,21,FALSE)) | I14: =IF(ISNUMBER(VLOOKUP($G$5,데이터!$B$8:$AX$185,20,FALSE)),VLOOKUP($G$5,데이터!$B$8:$AX$185,20,FALSE),0) -> 0 | L14: 원
E15: =IF(VLOOKUP($G$5,데이터!$B$8:$AX$185,24,FALSE)="","(7월분)",VLOOKUP($G$5,데이터!$B$8:$AX$185,24,FALSE)) -> #N/A | I15: =VLOOKUP($G$5,데이터!$B$8:$AX$185,22,FALSE) -> #N/A | L15: 원
C16: 우유비 | E16: =IF(VLOOKUP($G$5,데이터!$B$8:$AX$185,27,FALSE)="","(1~2월분)",VLOOKUP($G$5,데이터!$B$8:$AX$185,27,FALSE)) -> #N/A | I16: =VLOOKUP($G$5,데이터!$B$8:$AX$185,25,FALSE) -> #N/A | L16: 원
C17: =IF(VLOOKUP($G$5,데이터!$B$8:$AX$185,25,FALSE)="","","태권도비") -> #N/A | E17: =IF(VLOOKUP($G$5,데이터!$B$8:$AX$185,29,FALSE)="","",IF(VLOOKUP($G$5,데이터!$B$8:$AX$185,30,FALSE)="","(12월분)",VLOOKUP($G$5,데이터!$B$8:$AX$185,30,FALSE))) -> #N/A | I17: =VLOOKUP($G$5,데이터!$B$8:$AX$185,28,FALSE) -> #N/A | L17: 원
C18: =IF(VLOOKUP($G$5,데이터!$B$8:$AX$185,32,FALSE)="","",데이터!AF188) -> #N/A | I18: =VLOOKUP($G$5,데이터!$B$8:$AX$185,31,FALSE) -> #N/A | L18: 원
C19: =IF(VLOOKUP($G$5,데이터!$B$8:$AX$185,34,FALSE)=0,"",데이터!AH6) -> #N/A | E19: =IF(VLOOKUP($G$5,데이터!$B$8:$AX$185,34,FALSE)="","",IF(VLOOKUP($G$5,데이터!$B$8:$AX$185,35,FALSE)="","",VLOOKUP($G$5,데이터!$B$8:$AX$185,35,FALSE))) -> #N/A | I19: =IF(ISBLANK(C19),0,VLOOKUP($G$5,데이터!$B$8:$AX$185,33,FALSE)) -> #N/A | L19: 원
C20: =IF(VLOOKUP($G$5,데이터!$B$8:$AX$185,37,FALSE)=0,"",데이터!AK188) -> #N/A | I20: =IF(ISBLANK(C20),0,VLOOKUP($G$5,데이터!$B$8:$AX$185,36,FALSE)) -> #N/A | L20: 원
C21: =IF(VLOOKUP($G$5,데이터!$B$8:$AX$185,38,FALSE)=0,"",데이터!AM188) -> #N/A | I21: =IF(ISBLANK(C21),0,VLOOKUP($G$5,데이터!$B$8:$AX$185,38,FALSE)) -> #N/A | L21: 원
C22: =IF(VLOOKUP($G$5,데이터!$B$8:$AX$185,40,FALSE)=0,"",데이터!AO188) -> #N/A | I22: =IF(ISBLANK(C22),0,VLOOKUP($G$5,데이터!$B$8:$AX$185,40,FALSE)) -> #N/A | L22: 원
C23: =IF(VLOOKUP($G$5,데이터!$B$8:$AX$185,42,FALSE)=0,"",데이터!AQ188) -> #N/A | I23: =IF(ISBLANK(C23),0,VLOOKUP($G$5,데이터!$B$8:$AX$185,42,FALSE)) -> #N/A | L23: 원
C24: =IF(VLOOKUP($G$5,데이터!$B$8:$AX$185,44,FALSE)=0,"",데이터!AS2) -> #N/A | I24: =IF(ISBLANK(C24),0,VLOOKUP($G$5,데이터!$B$8:$AX$185,44,FALSE)) -> #N/A | L24: 원
C25: =데이터!AU188 -> 0
C26: =데이터!AW188 -> -
C27: 합 계 | I27: =I8+I10+I12+I13+I15+I16+I17+I18+I22+I23+I21-I14+I20+I19+I24+I9+I11 -> #N/A | L27: 원
C29: 위 금액을 청구함. (2019년 1월 18일 입금기준)
C31: 스쿨뱅킹 납기 마감일 : '19. 1. 30 (수) 이후 미납금에 대해서는 수시로 스쿨뱅킹이 진행 됩니다.
C33: 2019. 1. 23.
C35: 링컨학교장
