Workbook

Sheet 데이터
B2: =YEAR(TODAY()) -> 2019 | D2: 년 | F2: 월 | H2: 정산서 | O2: OFF | R2: 수업료 | S2: 급식비 | T2: 기숙사비 | W2: 병원교통비 | Z2: 우유비 | AC2: 교재비정산 | AF2: 건강검진비 | AH2: 구강검진비 | AJ2: 졸업여행비 | AM2: 현장체험학습비 | AO2: 졸업앨범비 | AQ2: =AQ6 -> 0 | AS2: =AS6 -> 0 | AU2: =AU6 -> 0 | AW2: =AW6 -> 0 | AY2: =AY6 -> 0 | BA2: =BA6 -> 0
R3: 0 | S3: -23600 | T3: 0 | W3: 5000 | Z3: 15000 | AF3: 16020 | AH3: 7060 | AJ3: 268300 | AM3: -6900 | AO3: 59000 | AQ3: 0 | AS3: 0 | AU3: 0 | AW3: 0 | AY3: 0 | BA3: 0
B5: 1 | C5: 2 | D5: 3 | E5: 4 | F5: 5 | G5: 6 | H5: 7 | I5: 8 | J5: 9 | K5: 10 | L5: 11 | M5: 12 | N5: 13 | O5: 14 | P5: 15 | Q5: 16 | R5: 17 | S5: 18 | T5: 19 | U5: 20 | V5: 21 | W5: 22 | X5: 23 | Y5: 24 | Z5: 25 | AA5: 26 | AB5: 27 | AC5: 28 | AD5: 29 | AE5: 30 | AF5: 31 | AG5: 32 | AH5: 33 | AI5: 34 | AJ5: 35 | AK5: 36 | AL5: 37 | AM5: 38 | AN5: 39 | AO5: 40 | AP5: 41 | AQ5: 42 | AR5: 43 | AS5: 44 | AT5: 45 | AU5: 46 | AV5: 47 | AW5: 48 | AX5: 49 | AY5: 50 | AZ5: 51 | BA5: 52 | BB5: 53
B6: 학생 주민등록번호 뒷자리 | C6: No. | D6: 학년 | E6: 학생명 | F6: 총계 | G6: 기준 | H6: 금액 | I6: 미납분 | O6: 선입금 | R6: 4분기 | S6: 1~2 | T6: 월 | U6: 장학금 차감 | W6: 병원교통비 | Z6: 우유비 | AC6: 교재비정산 | AF6: 건강검진비 | AH6: 구강검진비 | AJ6: 졸업여행비 | AM6: 현장체험학습비 | AO6: 졸업앨범비
G7: 수업료 | H7: 기숙사비 | I7: 수업료 | J7: 비고(메모) | K7: 급식비 | L7: 비고(메모) | M7: 기숙사비 | N7: 비고(메모) | O7: 수업료 | P7: 급식비 | Q7: 기숙사비 | R7: 수업료 | S7: 급식비 | T7: 기숙사비 | U7: 장학금 | V7: 비고(메모) | W7: 병원교통비 | X7: 체크 | Y7: 미납메모 | Z7: 우유비 | AA7: 체크 | AB7: 미납메모 | AC7: 교재비정산 | AD7: 체크 | AE7: 미납메모 | AF7: 건강검진비 | AG7: 체크 | AH7: 구강검진비 | AI7: 횟수 | AJ7: 졸업여행비 | AK7: 체크 | AL7: 미납메모 | AM7: 현장체험학습비 | AN7: 체크 | AO7: 졸업앨범비 | AP7: 체크 | AR7: 체크 | AT7: 체크 | AV7: 체크 | AX7: 체크 | AZ7: 체크 | BB7: 체크
B8: 3185017 | C8: 1 | D8: 1 | E8: 강민수 | F8: =SUM(I8:M8,R8:T8,W8,AC8,AF8,AH8,AJ8,AM8,AO8,AQ8,AS8,AU8,AW8,BA8,Z8,AY8)-SUM(O8:Q8,U8) -> -190670 | G8: =$R$3 -> 0 | H8: =$T$3 -> 0 | S8: -23600 | T8: =H8 -> 0 | W8: =IF(ISNUMBER(X8),X8*$W$3,"") | Z8: =IF(ISNUMBER(AA8),AA8*$Z$3,"") | AC8: -186250 | AD8: 1 | AF8: 19020 | AG8: 1 | AH8: =IF(ISNUMBER(AI8),AI8*$AH$3,"") -> 7060 | AI8: 1 | AJ8: =IF(ISNUMBER(AK8),AK8*$AJ$3,"") | AM8: =IF(ISNUMBER(AN8),AN8*$AM$3,"") -> -6900 | AN8: 1 | AO8: =IF(ISNUMBER(AP8),AP8*$AO$3,"") | AQ8: =IF(ISNUMBER(AR8),AR8*$AQ$3,"") | AS8: =IF(ISNUMBER(AT8),AT8*$AS$3,"") | AU8: =IF(ISNUMBER(AV8),AV8*$AU$3,"") | AW8: =IF(ISNUMBER(AX8),AX8*$AW$3,"") | BA8: =IF(ISNUMBER(BB8),BB8*$BA$3,"")
B9: 3074014 | C9: 2 | D9: 1 | E9: 강성주 | F9: =SUM(I9:M9,R9:T9,W9,AC9,AF9,AH9,AJ9,AM9,AO9,AQ9,AS9,AU9,AW9,BA9,Z9,AY9)-SUM(O9:Q9,U9) -> -193670 | G9: =$R$3 -> 0 | H9: =$T$3 -> 0 | S9: -23600 | T9: =H9 -> 0 | W9: =IF(ISNUMBER(X9),X9*$W$3,"") | Z9: =IF(ISNUMBER(AA9),AA9*$Z$3,"") | AC9: -186250 | AD9: 1 | AF9: 16020 | AG9: 1 | AH9: =IF(ISNUMBER(AI9),AI9*$AH$3,"") -> 7060 | AI9: 1 | AJ9: =IF(ISNUMBER(AK9),AK9*$AJ$3,"") | AM9: =IF(ISNUMBER(AN9),AN9*$AM$3,"") -> -6900 | AN9: 1 | AO9: =IF(ISNUMBER(AP9),AP9*$AO$3,"") | AQ9: =IF(ISNUMBER(AR9),AR9*$AQ$3,"") | AS9: =IF(ISNUMBER(AT9),AT9*$AS$3,"") | AU9: =IF(ISNUMBER(AV9),AV9*$AU$3,"") | AW9: =IF(ISNUMBER(AX9),AX9*$AW$3,"") | BA9: =IF(ISNUMBER(BB9),BB9*$BA$3,"")
B10: 4852210 | C10: 3 | D10: 1 | E10: 공희진 | F10: =SUM(I10:M10,R10:T10,W10,AC10,AF10,AH10,AJ10,AM10,AO10,AQ10,AS10,AU10,AW10,BA10,Z10,AY10)-SUM(O10:Q10,U10) -> -186250 | G10: =$R$3 -> 0 | H10: =$T$3 -> 0 | S10: -23600 | T10: =H10 -> 0 | W10: =IF(ISNUMBER(X10),X10*$W$3,"") | Z10: =IF(ISNUMBER(AA10),AA10*$Z$3,"") | AC10: -186250 | AD10: 1 | AF10: 23440 | AG10: 1 | AH10: =IF(ISNUMBER(AI10),AI10*$AH$3,"") -> 7060 | AI10: 1 | AJ10: =IF(ISNUMBER(AK10),AK10*$AJ$3,"") | AM10: =IF(ISNUMBER(AN10),AN10*$AM$3,"") -> -6900 | AN10: 1 | AO10: =IF(ISNUMBER(AP10),AP10*$AO$3,"") | AQ10: =IF(ISNUMBER(AR10),AR10*$AQ$3,"") | AS10: =IF(ISNUMBER(AT10),AT10*$AS$3,"") | AU10: =IF(ISNUMBER(AV10),AV10*$AU$3,"") | AW10: =IF(ISNUMBER(AX10),AX10*$AW$3,"") | BA10: =IF(ISNUMBER(BB10),BB10*$BA$3,"")
B11: 3401815 | C11: 4 | D11: 1 | E11: 권기성 | F11: =SUM(I11:M11,R11:T11,W11,AC11,AF11,AH11,AJ11,AM11,AO11,AQ11,AS11,AU11,AW11,BA11,Z11,AY11)-SUM(O11:Q11,U11) -> -190670 | G11: =$R$3 -> 0 | H11: =$T$3 -> 0 | S11: -23600 | T11: =H11 -> 0 | W11: =IF(ISNUMBER(X11),X11*$W$3,"") | Z11: =IF(ISNUMBER(AA11),AA11*$Z$3,"") | AC11: -186250 | AD11: 1 | AF11: 19020 | AG11: 1 | AH11: =IF(ISNUMBER(AI11),AI11*$AH$3,"") -> 7060 | AI11: 1 | AJ11: =IF(ISNUMBER(AK11),AK11*$AJ$3,"") | AM11: =IF(ISNUMBER(AN11),AN11*$AM$3,"") -> -6900 | AN11: 1 | AO11: =IF(ISNUMBER(AP11),AP11*$AO$3,"") | AQ11: =IF(ISNUMBER(AR11),AR11*$AQ$3,"") | AS11: =IF(ISNUMBER(AT11),AT11*$AS$3,"") | AU11: =IF(ISNUMBER(AV11),AV11*$AU$3,"") | AW11: =IF(ISNUMBER(AX11),AX11*$AW$3,"") | BA11: =IF(ISNUMBER(BB11),BB11*$BA$3,"")
B12: 3408728 | C12: 5 | D12: 1 | E12: 김선교 | F12: =SUM(I12:M12,R12:T12,W12,AC12,AF12,AH12,AJ12,AM12,AO12,AQ12,AS12,AU12,AW12,BA12,Z12,AY12)-SUM(O12:Q12,U12) -> -167070 | G12: =$R$3 -> 0 | H12: =$T$3 -> 0 | W12: =IF(ISNUMBER(X12),X12*$W$3,"") | Z12: =IF(ISNUMBER(AA12),AA12*$Z$3,"") | AC12: -186250 | AD12: 1 | AF12: 19020 | AG12: 1 | AH12: =IF(ISNUMBER(AI12),AI12*$AH$3,"") -> 7060 | AI12: 1 | AJ12: =IF(ISNUMBER(AK12),AK12*$AJ$3,"") | AM12: =IF(ISNUMBER(AN12),AN12*$AM$3,"") -> -6900 | AN12: 1 | AO12: =IF(ISNUMBER(AP12),AP12*$AO$3,"") | AQ12: =IF(ISNUMBER(AR12),AR12*$AQ$3,"") | AS12: =IF(ISNUMBER(AT12),AT12*$AS$3,"") | AU12: =IF(ISNUMBER(AV12),AV12*$AU$3,"") | AW12: =IF(ISNUMBER(AX12),AX12*$AW$3,"") | BA12: =IF(ISNUMBER(BB12),BB12*$BA$3,"")
B13: 3850616j | C13: 6 | D13: 1 | E13: 김원중 | F13: =SUM(I13:M13,R13:T13,W13,AC13,AF13,AH13,AJ13,AM13,AO13,AQ13,AS13,AU13,AW13,BA13,Z13,AY13)-SUM(O13:Q13,U13) -> -190670 | G13: =$R$3 -> 0 | H13: =$T$3 -> 0 | S13: -23600 | T13: =H13 -> 0 | W13: =IF(ISNUMBER(X13),X13*$W$3,"") | Z13: =IF(ISNUMBER(AA13),AA13*$Z$3,"") | AC13: -186250 | AD13: 1 | AF13: 19020 | AG13: 1 | AH13: =IF(ISNUMBER(AI13),AI13*$AH$3,"") -> 7060 | AI13: 1 | AJ13: =IF(ISNUMBER(AK13),AK13*$AJ$3,"") | AM13: =IF(ISNUMBER(AN13),AN13*$AM$3,"") -> -6900 | AN13: 1 | AO13: =IF(ISNUMBER(AP13),AP13*$AO$3,"") | AQ13: =IF(ISNUMBER(AR13),AR13*$AQ$3,"") | AS13: =IF(ISNUMBER(AT13),AT13*$AS$3,"") | AU13: =IF(ISNUMBER(AV13),AV13*$AU$3,"") | AW13: =IF(ISNUMBER(AX13),AX13*$AW$3,"") | BA13: =IF(ISNUMBER(BB13),BB13*$BA$3,"")
B14: 3243310 | C14: 7 | D14: 1 | E14: 김주경 | F14: =SUM(I14:M14,R14:T14,W14,AC14,AF14,AH14,AJ14,AM14,AO14,AQ14,AS14,AU14,AW14,BA14,Z14,AY14)-SUM(O14:Q14,U14) -> -193670 | G14: =$R$3 -> 0 | H14: =$T$3 -> 0 | S14: -23600 | T14: =H14 -> 0 | W14: =IF(ISNUMBER(X14),X14*$W$3,"") | Z14: =IF(ISNUMBER(AA14),AA14*$Z$3,"") | AC14: -186250 | AD14: 1 | AF14: 16020 | AG14: 1 | AH14: =IF(ISNUMBER(AI14),AI14*$AH$3,"") -> 7060 | AI14: 1 | AJ14: =IF(ISNUMBER(AK14),AK14*$AJ$3,"") | AM14: =IF(ISNUMBER(AN14),AN14*$AM$3,"") -> -6900 | AN14: 1 | AO14: =IF(ISNUMBER(AP14),AP14*$AO$3,"") | AQ14: =IF(ISNUMBER(AR14),AR14*$AQ$3,"") | AS14: =IF(ISNUMBER(AT14),AT14*$AS$3,"") | AU14: =IF(ISNUMBER(AV14),AV14*$AU$3,"") | AW14: =IF(ISNUMBER(AX14),AX14*$AW$3,"") | BA14: =IF(ISNUMBER(BB14),BB14*$BA$3,"")
B15: 3588310 | C15: 8 | D15: 1 | E15: 김찬영 | F15: =SUM(I15:M15,R15:T15,W15,AC15,AF15,AH15,AJ15,AM15,AO15,AQ15,AS15,AU15,AW15,BA15,Z15,AY15)-SUM(O15:Q15,U15) -> -193670 | G15: =$R$3 -> 0 | H15: =$T$3 -> 0 | S15: -23600 | T15: =H15 -> 0 | W15: =IF(ISNUMBER(X15),X15*$W$3,"") | Z15: =IF(ISNUMBER(AA15),AA15*$Z$3,"") | AC15: -186250 | AD15: 1 | AF15: 16020 | AG15: 1 | AH15: =IF(ISNUMBER(AI15),AI15*$AH$3,"") -> 7060 | AI15: 1 | AJ15: =IF(ISNUMBER(AK15),AK15*$AJ$3,"") | AM15: =IF(ISNUMBER(AN15),AN15*$AM$3,"") -> -6900 | AN15: 1 | AO15: =IF(ISNUMBER(AP15),AP15*$AO$3,"") | AQ15: =IF(ISNUMBER(AR15),AR15*$AQ$3,"") | AS15: =IF(ISNUMBER(AT15),AT15*$AS$3,"") | AU15: =IF(ISNUMBER(AV15),AV15*$AU$3,"") | AW15: =IF(ISNUMBER(AX15),AX15*$AW$3,"") | BA15: =IF(ISNUMBER(BB15),BB15*$BA$3,"")
B16: 3850616p | C16: 9 | D16: 1 | E16: 박경주 | F16: =SUM(I16:M16,R16:T16,W16,AC16,AF16,AH16,AJ16,AM16,AO16,AQ16,AS16,AU16,AW16,BA16,Z16,AY16)-SUM(O16:Q16,U16) -> -193670 | G16: =$R$3 -> 0 | H16: =$T$3 -> 0 | S16: -23600 | T16: =H16 -> 0 | W16: =IF(ISNUMBER(X16),X16*$W$3,"") | Z16: =IF(ISNUMBER(AA16),AA16*$Z$3,"") | AC16: -186250 | AD16: 1 | AF16: 16020 | AG16: 1 | AH16: =IF(ISNUMBER(AI16),AI16*$AH$3,"") -> 7060 | AI16: 1 | AJ16: =IF(ISNUMBER(AK16),AK16*$AJ$3,"") | AM16: =IF(ISNUMBER(AN16),AN16*$AM$3,"") -> -6900 | AN16: 1 | AO16: =IF(ISNUMBER(AP16),AP16*$AO$3,"") | AQ16: =IF(ISNUMBER(AR16),AR16*$AQ$3,"") | AS16: =IF(ISNUMBER(AT16),AT16*$AS$3,"") | AU16: =IF(ISNUMBER(AV16),AV16*$AU$3,"") | AW16: =IF(ISNUMBER(AX16),AX16*$AW$3,"") | BA16: =IF(ISNUMBER(BB16),BB16*$BA$3,"")
B17: 4590322 | C17: 10 | D17: 1 | E17: 박서영 | F17: =SUM(I17:M17,R17:T17,W17,AC17,AF17,AH17,AJ17,AM17,AO17,AQ17,AS17,AU17,AW17,BA17,Z17,AY17)-SUM(O17:Q17,U17) -> -192680 | G17: =$R$3 -> 0 | H17: =$T$3 -> 0 | S17: -23600 | T17: =H17 -> 0 | W17: =IF(ISNUMBER(X17),X17*$W$3,"") | Z17: =IF(ISNUMBER(AA17),AA17*$Z$3,"") | AC17: -186250 | AD17: 1 | AF17: 17010 | AG17: 1 | AH17: =IF(ISNUMBER(AI17),AI17*$AH$3,"") -> 7060 | AI17: 1 | AJ17: =IF(ISNUMBER(AK17),AK17*$AJ$3,"") | AM17: =IF(ISNUMBER(AN17),AN17*$AM$3,"") -> -6900 | AN17: 1 | AO17: =IF(ISNUMBER(AP17),AP17*$AO$3,"") | AQ17: =IF(ISNUMBER(AR17),AR17*$AQ$3,"") | AS17: =IF(ISNUMBER(AT17),AT17*$AS$3,"") | AU17: =IF(ISNUMBER(AV17),AV17*$AU$3,"") | AW17: =IF(ISNUMBER(AX17),AX17*$AW$3,"") | BA17: =IF(ISNUMBER(BB17),BB17*$BA$3,"")
B18: 4937315 | C18: 11 | D18: 1 | E18: 박수은 | F18: =SUM(I18:M18,R18:T18,W18,AC18,AF18,AH18,AJ18,AM18,AO18,AQ18,AS18,AU18,AW18,BA18,Z18,AY18)-SUM(O18:Q18,U18) -> -169080 | G18: =$R$3 -> 0 | H18: =$T$3 -> 0 | W18: =IF(ISNUMBER(X18),X18*$W$3,"") | Z18: =IF(ISNUMBER(AA18),AA18*$Z$3,"") | AC18: -186250 | AD18: 1 | AF18: 17010 | AG18: 1 | AH18: =IF(ISNUMBER(AI18),AI18*$AH$3,"") -> 7060 | AI18: 1 | AJ18: =IF(ISNUMBER(AK18),AK18*$AJ$3,"") | AM18: =IF(ISNUMBER(AN18),AN18*$AM$3,"") -> -6900 | AN18: 1 | AO18: =IF(ISNUMBER(AP18),AP18*$AO$3,"") | AQ18: =IF(ISNUMBER(AR18),AR18*$AQ$3,"") | AS18: =IF(ISNUMBER(AT18),AT18*$AS$3,"") | AU18: =IF(ISNUMBER(AV18),AV18*$AU$3,"") | AW18: =IF(ISNUMBER(AX18),AX18*$AW$3,"") | BA18: =IF(ISNUMBER(BB18),BB18*$BA$3,"")
B19: 4227814 | C19: 12 | D19: 1 | E19: 박예은 | F19: =SUM(I19:M19,R19:T19,W19,AC19,AF19,AH19,AJ19,AM19,AO19,AQ19,AS19,AU19,AW19,BA19,Z19,AY19)-SUM(O19:Q19,U19) -> -192680 | G19: =$R$3 -> 0 | H19: =$T$3 -> 0 | S19: -23600 | T19: =H19 -> 0 | W19: =IF(ISNUMBER(X19),X19*$W$3,"") | Z19: =IF(ISNUMBER(AA19),AA19*$Z$3,"") | AC19: -186250 | AD19: 1 | AF19: 17010 | AG19: 1 | AH19: =IF(ISNUMBER(AI19),AI19*$AH$3,"") -> 7060 | AI19: 1 | AJ19: =IF(ISNUMBER(AK19),AK19*$AJ$3,"") | AM19: =IF(ISNUMBER(AN19),AN19*$AM$3,"") -> -6900 | AN19: 1 | AO19: =IF(ISNUMBER(AP19),AP19*$AO$3,"") | AQ19: =IF(ISNUMBER(AR19),AR19*$AQ$3,"") | AS19: =IF(ISNUMBER(AT19),AT19*$AS$3,"") | AU19: =IF(ISNUMBER(AV19),AV19*$AU$3,"") | AW19: =IF(ISNUMBER(AX19),AX19*$AW$3,"") | BA19: =IF(ISNUMBER(BB19),BB19*$BA$3,"")
B20: 3095414 | C20: 13 | D20: 1 | E20: 배민수 | F20: =SUM(I20:M20,R20:T20,W20,AC20,AF20,AH20,AJ20,AM20,AO20,AQ20,AS20,AU20,AW20,BA20,Z20,AY20)-SUM(O20:Q20,U20) -> -193670 | G20: =$R$3 -> 0 | H20: =$T$3 -> 0 | S20: -23600 | T20: =H20 -> 0 | W20: =IF(ISNUMBER(X20),X20*$W$3,"") | Z20: =IF(ISNUMBER(AA20),AA20*$Z$3,"") | AC20: -186250 | AD20: 1 | AF20: 16020 | AG20: 1 | AH20: =IF(ISNUMBER(AI20),AI20*$AH$3,"") -> 7060 | AI20: 1 | AJ20: =IF(ISNUMBER(AK20),AK20*$AJ$3,"") | AM20: =IF(ISNUMBER(AN20),AN20*$AM$3,"") -> -6900 | AN20: 1 | AO20: =IF(ISNUMBER(AP20),AP20*$AO$3,"") | AQ20: =IF(ISNUMBER(AR20),AR20*$AQ$3,"") | AS20: =IF(ISNUMBER(AT20),AT20*$AS$3,"") | AU20: =IF(ISNUMBER(AV20),AV20*$AU$3,"") | AW20: =IF(ISNUMBER(AX20),AX20*$AW$3,"") | BA20: =IF(ISNUMBER(BB20),BB20*$BA$3,"")
B21: 4122221 | C21: 14 | D21: 1 | E21: 배소진 | F21: =SUM(I21:M21,R21:T21,W21,AC21,AF21,AH21,AJ21,AM21,AO21,AQ21,AS21,AU21,AW21,BA21,Z21,AY21)-SUM(O21:Q21,U21) -> -192680 | G21: =$R$3 -> 0 | H21: =$T$3 -> 0 | S21: -23600 | T21: =H21 -> 0 | W21: =IF(ISNUMBER(X21),X21*$W$3,"") | Z21: =IF(ISNUMBER(AA21),AA21*$Z$3,"") | AC21: -186250 | AD21: 1 | AF21: 17010 | AG21: 1 | AH21: =IF(ISNUMBER(AI21),AI21*$AH$3,"") -> 7060 | AI21: 1 | AJ21: =IF(ISNUMBER(AK21),AK21*$AJ$3,"") | AM21: =IF(ISNUMBER(AN21),AN21*$AM$3,"") -> -6900 | AN21: 1 | AO21: =IF(ISNUMBER(AP21),AP21*$AO$3,"") | AQ21: =IF(ISNUMBER(AR21),AR21*$AQ$3,"") | AS21: =IF(ISNUMBER(AT21),AT21*$AS$3,"") | AU21: =IF(ISNUMBER(AV21),AV21*$AU$3,"") | AW21: =IF(ISNUMBER(AX21),AX21*$AW$3,"") | BA21: =IF(ISNUMBER(BB21),BB21*$BA$3,"")
B22: 4122214 | C22: 15 | D22: 1 | E22: 변우림 | F22: =SUM(I22:M22,R22:T22,W22,AC22,AF22,AH22,AJ22,AM22,AO22,AQ22,AS22,AU22,AW22,BA22,Z22,AY22)-SUM(O22:Q22,U22) -> -192680 | G22: =$R$3 -> 0 | H22: =$T$3 -> 0 | S22: -23600 | T22: =H22 -> 0 | W22: =IF(ISNUMBER(X22),X22*$W$3,"") | Z22: =IF(ISNUMBER(AA22),AA22*$Z$3,"") | AC22: -186250 | AD22: 1 | AF22: 17010 | AG22: 1 | AH22: =IF(ISNUMBER(AI22),AI22*$AH$3,"") -> 7060 | AI22: 1 | AJ22: =IF(ISNUMBER(AK22),AK22*$AJ$3,"") | AM22: =IF(ISNUMBER(AN22),AN22*$AM$3,"") -> -6900 | AN22: 1 | AO22: =IF(ISNUMBER(AP22),AP22*$AO$3,"") | AQ22: =IF(ISNUMBER(AR22),AR22*$AQ$3,"") | AS22: =IF(ISNUMBER(AT22),AT22*$AS$3,"") | AU22: =IF(ISNUMBER(AV22),AV22*$AU$3,"") | AW22: =IF(ISNUMBER(AX22),AX22*$AW$3,"") | BA22: =IF(ISNUMBER(BB22),BB22*$BA$3,"")
B23: 3012024 | C23: 16 | D23: 1 | E23: 송준서 | F23: =SUM(I23:M23,R23:T23,W23,AC23,AF23,AH23,AJ23,AM23,AO23,AQ23,AS23,AU23,AW23,BA23,Z23,AY23)-SUM(O23:Q23,U23) -> -193670 | G23: =$R$3 -> 0 | H23: =$T$3 -> 0 | S23: -23600 | T23: =H23 -> 0 | W23: =IF(ISNUMBER(X23),X23*$W$3,"") | Z23: =IF(ISNUMBER(AA23),AA23*$Z$3,"") | AC23: -186250 | AD23: 1 | AF23: 16020 | AG23: 1 | AH23: =IF(ISNUMBER(AI23),AI23*$AH$3,"") -> 7060 | AI23: 1 | AJ23: =IF(ISNUMBER(AK23),AK23*$AJ$3,"") | AM23: =IF(ISNUMBER(AN23),AN23*$AM$3,"") -> -6900 | AN23: 1 | AO23: =IF(ISNUMBER(AP23),AP23*$AO$3,"") | AQ23: =IF(ISNUMBER(AR23),AR23*$AQ$3,"") | AS23: =IF(ISNUMBER(AT23),AT23*$AS$3,"") | AU23: =IF(ISNUMBER(AV23),AV23*$AU$3,"") | AW23: =IF(ISNUMBER(AX23),AX23*$AW$3,"") | BA23: =IF(ISNUMBER(BB23),BB23*$BA$3,"")
B24: 4113918 | C24: 17 | D24: 1 | E24: 신영은 | F24: =SUM(I24:M24,R24:T24,W24,AC24,AF24,AH24,AJ24,AM24,AO24,AQ24,AS24,AU24,AW24,BA24,Z24,AY24)-SUM(O24:Q24,U24) -> 155320 | G24: =$R$3 -> 0 | H24: =$T$3 -> 0 | K24: 232500 | L24: 1~2월분 | M24: 97500 | N24: 1~2월 | S24: -23600 | T24: =H24 -> 0 | W24: =IF(ISNUMBER(X24),X24*$W$3,"") | Z24: =IF(ISNUMBER(AA24),AA24*$Z$3,"") -> 15000 | AA24: 1 | AB24: 1~2월분 | AC24: -186250 | AD24: 1 | AF24: 20010 | AG24: 1 | AH24: =IF(ISNUMBER(AI24),AI24*$AH$3,"") -> 7060 | AI24: 1 | AJ24: =IF(ISNUMBER(AK24),AK24*$AJ$3,"") | AM24: =IF(ISNUMBER(AN24),AN24*$AM$3,"") -> -6900 | AN24: 1 | AO24: =IF(ISNUMBER(AP24),AP24*$AO$3,"") | AQ24: =IF(ISNUMBER(AR24),AR24*$AQ$3,"") | AS24: =IF(ISNUMBER(AT24),AT24*$AS$3,"") | AU24: =IF(ISNUMBER(AV24),AV24*$AU$3,"") | AW24: =IF(ISNUMBER(AX24),AX24*$AW$3,"") | BA24: =IF(ISNUMBER(BB24),BB24*$BA$3,"")
B25: 4173720 | C25: 18 | D25: 1 | E25: 신채린 | F25: =SUM(I25:M25,R25:T25,W25,AC25,AF25,AH25,AJ25,AM25,AO25,AQ25,AS25,AU25,AW25,BA25,Z25,AY25)-SUM(O25:Q25,U25) -> -202430 | G25: =$R$3 -> 0 | H25: =$T$3 -> 0 | S25: -23600 | T25: =H25 -> 0 | W25: =IF(ISNUMBER(X25),X25*$W$3,"") | Z25: =IF(ISNUMBER(AA25),AA25*$Z$3,"") | AC25: -199000 | AD25: 1 | AF25: 20010 | AG25: 1 | AH25: =IF(ISNUMBER(AI25),AI25*$AH$3,"") -> 7060 | AI25: 1 | AJ25: =IF(ISNUMBER(AK25),AK25*$AJ$3,"") | AM25: =IF(ISNUMBER(AN25),AN25*$AM$3,"") -> -6900 | AN25: 1 | AO25: =IF(ISNUMBER(AP25),AP25*$AO$3,"") | AQ25: =IF(ISNUMBER(AR25),AR25*$AQ$3,"") | AS25: =IF(ISNUMBER(AT25),AT25*$AS$3,"") | AU25: =IF(ISNUMBER(AV25),AV25*$AU$3,"") | AW25: =IF(ISNUMBER(AX25),AX25*$AW$3,"") | BA25: =IF(ISNUMBER(BB25),BB25*$BA$3,"")
B26: 3069511 | C26: 19 | D26: 1 | E26: 오영훈 | F26: =SUM(I26:M26,R26:T26,W26,AC26,AF26,AH26,AJ26,AM26,AO26,AQ26,AS26,AU26,AW26,BA26,Z26,AY26)-SUM(O26:Q26,U26) -> -179820 | G26: =$R$3 -> 0 | H26: =$T$3 -> 0 | Z26: =IF(ISNUMBER(AA26),AA26*$Z$3,"") | AC26: -199000 | AD26: 1 | AF26: 19020 | AG26: 1 | AH26: =IF(ISNUMBER(AI26),AI26*$AH$3,"") -> 7060 | AI26: 1 | AJ26: =IF(ISNUMBER(AK26),AK26*$AJ$3,"") | AM26: =IF(ISNUMBER(AN26),AN26*$AM$3,"") -> -6900 | AN26: 1 | AO26: =IF(ISNUMBER(AP26),AP26*$AO$3,"") | AQ26: =IF(ISNUMBER(AR26),AR26*$AQ$3,"") | AS26: =IF(ISNUMBER(AT26),AT26*$AS$3,"") | AU26: =IF(ISNUMBER(AV26),AV26*$AU$3,"") | AW26: =IF(ISNUMBER(AX26),AX26*$AW$3,"") | BA26: =IF(ISNUMBER(BB26),BB26*$BA$3,"")
B27: 4519812 | C27: 20 | D27: 1 | E27: 유주연 | F27: =SUM(I27:M27,R27:T27,W27,AC27,AF27,AH27,AJ27,AM27,AO27,AQ27,AS27,AU27,AW27,BA27,Z27,AY27)-SUM(O27:Q27,U27) -> -169080 | G27: =$R$3 -> 0 | H27: =$T$3 -> 0 | Z27: =IF(ISNUMBER(AA27),AA27*$Z$3,"") | AC27: -186250 | AD27: 1 | AF27: 17010 | AG27: 1 | AH27: =IF(ISNUMBER(AI27),AI27*$AH$3,"") -> 7060 | AI27: 1 | AJ27: =IF(ISNUMBER(AK27),AK27*$AJ$3,"") | AM27: =IF(ISNUMBER(AN27),AN27*$AM$3,"") -> -6900 | AN27: 1 | AO27: =IF(ISNUMBER(AP27),AP27*$AO$3,"") | AQ27: =IF(ISNUMBER(AR27),AR27*$AQ$3,"") | AS27: =IF(ISNUMBER(AT27),AT27*$AS$3,"") | AU27: =IF(ISNUMBER(AV27),AV27*$AU$3,"") | AW27: =IF(ISNUMBER(AX27),AX27*$AW$3,"") | BA27: =IF(ISNUMBER(BB27),BB27*$BA$3,"")
B28: 4199118 | C28: 21 | D28: 1 | E28: 이다은 | F28: =SUM(I28:M28,R28:T28,W28,AC28,AF28,AH28,AJ28,AM28,AO28,AQ28,AS28,AU28,AW28,BA28,Z28,AY28)-SUM(O28:Q28,U28) -> -189680 | G28: =$R$3 -> 0 | H28: =$T$3 -> 0 | S28: -23600 | T28: =H28 -> 0 | Z28: =IF(ISNUMBER(AA28),AA28*$Z$3,"") | AC28: -186250 | AD28: 1 | AF28: 20010 | AG28: 1 | AH28: =IF(ISNUMBER(AI28),AI28*$AH$3,"") -> 7060 | AI28: 1 | AJ28: =IF(ISNUMBER(AK28),AK28*$AJ$3,"") | AM28: =IF(ISNUMBER(AN28),AN28*$AM$3,"") -> -6900 | AN28: 1 | AO28: =IF(ISNUMBER(AP28),AP28*$AO$3,"") | AQ28: =IF(ISNUMBER(AR28),AR28*$AQ$3,"") | AS28: =IF(ISNUMBER(AT28),AT28*$AS$3,"") | AU28: =IF(ISNUMBER(AV28),AV28*$AU$3,"") | AW28: =IF(ISNUMBER(AX28),AX28*$AW$3,"") | BA28: =IF(ISNUMBER(BB28),BB28*$BA$3,"")
B29: 3222439 | C29: 22 | D29: 1 | E29: 이성준 | F29: =SUM(I29:M29,R29:T29,W29,AC29,AF29,AH29,AJ29,AM29,AO29,AQ29,AS29,AU29,AW29,BA29,Z29,AY29)-SUM(O29:Q29,U29) -> -193670 | G29: =$R$3 -> 0 | H29: =$T$3 -> 0 | S29: -23600 | T29: =H29 -> 0 | Z29: =IF(ISNUMBER(AA29),AA29*$Z$3,"") | AC29: -186250 | AD29: 1 | AF29: 16020 | AG29: 1 | AH29: =IF(ISNUMBER(AI29),AI29*$AH$3,"") -> 7060 | AI29: 1 | AJ29: =IF(ISNUMBER(AK29),AK29*$AJ$3,"") | AM29: =IF(ISNUMBER(AN29),AN29*$AM$3,"") -> -6900 | AN29: 1 | AO29: =IF(ISNUMBER(AP29),AP29*$AO$3,"") | AQ29: =IF(ISNUMBER(AR29),AR29*$AQ$3,"") | AS29: =IF(ISNUMBER(AT29),AT29*$AS$3,"") | AU29: =IF(ISNUMBER(AV29),AV29*$AU$3,"") | AW29: =IF(ISNUMBER(AX29),AX29*$AW$3,"") | BA29: =IF(ISNUMBER(BB29),BB29*$BA$3,"")
B30: 4188412 | C30: 23 | D30: 1 | E30: 이예은 | F30: =SUM(I30:M30,R30:T30,W30,AC30,AF30,AH30,AJ30,AM30,AO30,AQ30,AS30,AU30,AW30,BA30,Z30,AY30)-SUM(O30:Q30,U30) -> -186250 | G30: =$R$3 -> 0 | H30: =$T$3 -> 0 | S30: -23600 | T30: =H30 -> 0 | Z30: =IF(ISNUMBER(AA30),AA30*$Z$3,"") | AC30: -186250 | AD30: 1 | AF30: 23440 | AG30: 1 | AH30: =IF(ISNUMBER(AI30),AI30*$AH$3,"") -> 7060 | AI30: 1 | AJ30: =IF(ISNUMBER(AK30),AK30*$AJ$3,"") | AM30: =IF(ISNUMBER(AN30),AN30*$AM$3,"") -> -6900 | AN30: 1 | AO30: =IF(ISNUMBER(AP30),AP30*$AO$3,"") | AQ30: =IF(ISNUMBER(AR30),AR30*$AQ$3,"") | AS30: =IF(ISNUMBER(AT30),AT30*$AS$3,"") | AU30: =IF(ISNUMBER(AV30),AV30*$AU$3,"") | AW30: =IF(ISNUMBER(AX30),AX30*$AW$3,"") | BA30: =IF(ISNUMBER(BB30),BB30*$BA$3,"")
B31: 3184910 | C31: 24 | D31: 1 | E31: 이우림 | F31: =SUM(I31:M31,R31:T31,W31,AC31,AF31,AH31,AJ31,AM31,AO31,AQ31,AS31,AU31,AW31,BA31,Z31,AY31)-SUM(O31:Q31,U31) -> -190670 | G31: =$R$3 -> 0 | H31: =$T$3 -> 0 | S31: -23600 | T31: =H31 -> 0 | W31: =IF(ISNUMBER(X31),X31*$W$3,"") | Z31: =IF(ISNUMBER(AA31),AA31*$Z$3,"") | AC31: -186250 | AD31: 1 | AF31: 19020 | AG31: 1 | AH31: =IF(ISNUMBER(AI31),AI31*$AH$3,"") -> 7060 | AI31: 1 | AJ31: =IF(ISNUMBER(AK31),AK31*$AJ$3,"") | AM31: =IF(ISNUMBER(AN31),AN31*$AM$3,"") -> -6900 | AN31: 1 | AO31: =IF(ISNUMBER(AP31),AP31*$AO$3,"") | AQ31: =IF(ISNUMBER(AR31),AR31*$AQ$3,"") | AS31: =IF(ISNUMBER(AT31),AT31*$AS$3,"") | AU31: =IF(ISNUMBER(AV31),AV31*$AU$3,"") | AW31: =IF(ISNUMBER(AX31),AX31*$AW$3,"") | BA31: =IF(ISNUMBER(BB31),BB31*$BA$3,"")
B32: 3727410 | C32: 25 | D32: 1 | E32: 이욱진 | F32: =SUM(I32:M32,R32:T32,W32,AC32,AF32,AH32,AJ32,AM32,AO32,AQ32,AS32,AU32,AW32,BA32,Z32,AY32)-SUM(O32:Q32,U32) -> -190670 | G32: =$R$3 -> 0 | H32: =$T$3 -> 0 | S32: -23600 | T32: =H32 -> 0 | W32: =IF(ISNUMBER(X32),X32*$W$3,"") | Z32: =IF(ISNUMBER(AA32),AA32*$Z$3,"") | AC32: -186250 | AD32: 1 | AF32: 19020 | AG32: 1 | AH32: =IF(ISNUMBER(AI32),AI32*$AH$3,"") -> 7060 | AI32: 1 | AJ32: =IF(ISNUMBER(AK32),AK32*$AJ$3,"") | AM32: =IF(ISNUMBER(AN32),AN32*$AM$3,"") -> -6900 | AN32: 1 | AO32: =IF(ISNUMBER(AP32),AP32*$AO$3,"") | AQ32: =IF(ISNUMBER(AR32),AR32*$AQ$3,"") | AS32: =IF(ISNUMBER(AT32),AT32*$AS$3,"") | AU32: =IF(ISNUMBER(AV32),AV32*$AU$3,"") | AW32: =IF(ISNUMBER(AX32),AX32*$AW$3,"") | BA32: =IF(ISNUMBER(BB32),BB32*$BA$3,"")
B33: 3477914 | C33: 26 | D33: 1 | E33: 이원호 | F33: =SUM(I33:M33,R33:T33,W33,AC33,AF33,AH33,AJ33,AM33,AO33,AQ33,AS33,AU33,AW33,BA33,Z33,AY33)-SUM(O33:Q33,U33) -> -203420 | G33: =$R$3 -> 0 | H33: =$T$3 -> 0 | S33: -23600 | T33: =H33 -> 0 | W33: =IF(ISNUMBER(X33),X33*$W$3,"") | Z33: =IF(ISNUMBER(AA33),AA33*$Z$3,"") | AC33: -199000 | AD33: 1 | AF33: 19020 | AG33: 1 | AH33: =IF(ISNUMBER(AI33),AI33*$AH$3,"") -> 7060 | AI33: 1 | AJ33: =IF(ISNUMBER(AK33),AK33*$AJ$3,"") | AM33: =IF(ISNUMBER(AN33),AN33*$AM$3,"") -> -6900 | AN33: 1 | AO33: =IF(ISNUMBER(AP33),AP33*$AO$3,"") | AQ33: =IF(ISNUMBER(AR33),AR33*$AQ$3,"") | AS33: =IF(ISNUMBER(AT33),AT33*$AS$3,"") | AU33: =IF(ISNUMBER(AV33),AV33*$AU$3,"") | AW33: =IF(ISNUMBER(AX33),AX33*$AW$3,"") | BA33: =IF(ISNUMBER(BB33),BB33*$BA$3,"")
B34: 3169618 | C34: 27 | D34: 1 | E34: 이윤수 | F34: =SUM(I34:M34,R34:T34,W34,AC34,AF34,AH34,AJ34,AM34,AO34,AQ34,AS34,AU34,AW34,BA34,Z34,AY34)-SUM(O34:Q34,U34) -> -206420 | G34: =$R$3 -> 0 | H34: =$T$3 -> 0 | S34: -23600 | T34: =H34 -> 0 | W34: =IF(ISNUMBER(X34),X34*$W$3,"") | Z34: =IF(ISNUMBER(AA34),AA34*$Z$3,"") | AC34: -199000 | AD34: 1 | AF34: 16020 | AG34: 1 | AH34: =IF(ISNUMBER(AI34),AI34*$AH$3,"") -> 7060 | AI34: 1 | AJ34: =IF(ISNUMBER(AK34),AK34*$AJ$3,"") | AM34: =IF(ISNUMBER(AN34),AN34*$AM$3,"") -> -6900 | AN34: 1 | AO34: =IF(ISNUMBER(AP34),AP34*$AO$3,"") | AQ34: =IF(ISNUMBER(AR34),AR34*$AQ$3,"") | AS34: =IF(ISNUMBER(AT34),AT34*$AS$3,"") | AU34: =IF(ISNUMBER(AV34),AV34*$AU$3,"") | AW34: =IF(ISNUMBER(AX34),AX34*$AW$3,"") | BA34: =IF(ISNUMBER(BB34),BB34*$BA$3,"")
B35: 3187112 | C35: 28 | D35: 1 | E35: 임명규 | F35: =SUM(I35:M35,R35:T35,W35,AC35,AF35,AH35,AJ35,AM35,AO35,AQ35,AS35,AU35,AW35,BA35,Z35,AY35)-SUM(O35:Q35,U35) -> -193670 | G35: =$R$3 -> 0 | H35: =$T$3 -> 0 | S35: -23600 | T35: =H35 -> 0 | W35: =IF(ISNUMBER(X35),X35*$W$3,"") | Z35: =IF(ISNUMBER(AA35),AA35*$Z$3,"") | AC35: -186250 | AD35: 1 | AF35: 16020 | AG35: 1 | AH35: =IF(ISNUMBER(AI35),AI35*$AH$3,"") -> 7060 | AI35: 1 | AJ35: =IF(ISNUMBER(AK35),AK35*$AJ$3,"") | AM35: =IF(ISNUMBER(AN35),AN35*$AM$3,"") -> -6900 | AN35: 1 | AO35: =IF(ISNUMBER(AP35),AP35*$AO$3,"") | AQ35: =IF(ISNUMBER(AR35),AR35*$AQ$3,"") | AS35: =IF(ISNUMBER(AT35),AT35*$AS$3,"") | AU35: =IF(ISNUMBER(AV35),AV35*$AU$3,"") | AW35: =IF(ISNUMBER(AX35),AX35*$AW$3,"") | BA35: =IF(ISNUMBER(BB35),BB35*$BA$3,"")
B36: 4697839 | C36: 29 | D36: 1 | E36: 임평강 | F36: =SUM(I36:M36,R36:T36,W36,AC36,AF36,AH36,AJ36,AM36,AO36,AQ36,AS36,AU36,AW36,BA36,Z36,AY36)-SUM(O36:Q36,U36) -> -189680 | G36: =$R$3 -> 0 | H36: =$T$3 -> 0 | S36: -23600 | T36: =H36 -> 0 | W36: =IF(ISNUMBER(X36),X36*$W$3,"") | Z36: =IF(ISNUMBER(AA36),AA36*$Z$3,"") | AC36: -186250 | AD36: 1 | AF36: 20010 | AG36: 1 | AH36: =IF(ISNUMBER(AI36),AI36*$AH$3,"") -> 7060 | AI36: 1 | AJ36: =IF(ISNUMBER(AK36),AK36*$AJ$3,"") | AM36: =IF(ISNUMBER(AN36),AN36*$AM$3,"") -> -6900 | AN36: 1 | AO36: =IF(ISNUMBER(AP36),AP36*$AO$3,"") | AQ36: =IF(ISNUMBER(AR36),AR36*$AQ$3,"") | AS36: =IF(ISNUMBER(AT36),AT36*$AS$3,"") | AU36: =IF(ISNUMBER(AV36),AV36*$AU$3,"") | AW36: =IF(ISNUMBER(AX36),AX36*$AW$3,"") | BA36: =IF(ISNUMBER(BB36),BB36*$BA$3,"")
B37: 3320919 | C37: 30 | D37: 1 | E37: 장영화 | F37: =SUM(I37:M37,R37:T37,W37,AC37,AF37,AH37,AJ37,AM37,AO37,AQ37,AS37,AU37,AW37,BA37,Z37,AY37)-SUM(O37:Q37,U37) -> 2029330 | G37: =$R$3 -> 0 | H37: =$T$3 -> 0 | I37: =1110000+1110000 -> 2220000 | J37: 3,4분기 | S37: -23600 | T37: =H37 -> 0 | W37: =IF(ISNUMBER(X37),X37*$W$3,"") | Z37: =IF(ISNUMBER(AA37),AA37*$Z$3,"") | AC37: -186250 | AD37: 1 | AF37: 19020 | AG37: 1 | AH37: =IF(ISNUMBER(AI37),AI37*$AH$3,"") -> 7060 | AI37: 1 | AJ37: =IF(ISNUMBER(AK37),AK37*$AJ$3,"") | AM37: =IF(ISNUMBER(AN37),AN37*$AM$3,"") -> -6900 | AN37: 1 | AO37: =IF(ISNUMBER(AP37),AP37*$AO$3,"") | AQ37: =IF(ISNUMBER(AR37),AR37*$AQ$3,"") | AS37: =IF(ISNUMBER(AT37),AT37*$AS$3,"") | AU37: =IF(ISNUMBER(AV37),AV37*$AU$3,"") | AW37: =IF(ISNUMBER(AX37),AX37*$AW$3,"") | BA37: =IF(ISNUMBER(BB37),BB37*$BA$3,"")
B38: 3412317 | C38: 31 | D38: 1 | E38: 전은성 | F38: =SUM(I38:M38,R38:T38,W38,AC38,AF38,AH38,AJ38,AM38,AO38,AQ38,AS38,AU38,AW38,BA38,Z38,AY38)-SUM(O38:Q38,U38) -> -203420 | G38: =$R$3 -> 0 | H38: =$T$3 -> 0 | S38: -23600 | T38: =H38 -> 0 | W38: =IF(ISNUMBER(X38),X38*$W$3,"") | Z38: =IF(ISNUMBER(AA38),AA38*$Z$3,"") | AC38: -199000 | AD38: 1 | AF38: 19020 | AG38: 1 | AH38: =IF(ISNUMBER(AI38),AI38*$AH$3,"") -> 7060 | AI38: 1 | AJ38: =IF(ISNUMBER(AK38),AK38*$AJ$3,"") | AM38: =IF(ISNUMBER(AN38),AN38*$AM$3,"") -> -6900 | AN38: 1 | AO38: =IF(ISNUMBER(AP38),AP38*$AO$3,"") | AQ38: =IF(ISNUMBER(AR38),AR38*$AQ$3,"") | AS38: =IF(ISNUMBER(AT38),AT38*$AS$3,"") | AU38: =IF(ISNUMBER(AV38),AV38*$AU$3,"") | AW38: =IF(ISNUMBER(AX38),AX38*$AW$3,"") | BA38: =IF(ISNUMBER(BB38),BB38*$BA$3,"")
B39: 3074011 | C39: 32 | D39: 1 | E39: 정금오 | F39: =SUM(I39:M39,R39:T39,W39,AC39,AF39,AH39,AJ39,AM39,AO39,AQ39,AS39,AU39,AW39,BA39,Z39,AY39)-SUM(O39:Q39,U39) -> -193670 | G39: =$R$3 -> 0 | H39: =$T$3 -> 0 | S39: -23600 | T39: =H39 -> 0 | W39: =IF(ISNUMBER(X39),X39*$W$3,"") | Z39: =IF(ISNUMBER(AA39),AA39*$Z$3,"") | AC39: -186250 | AD39: 1 | AF39: 16020 | AG39: 1 | AH39: =IF(ISNUMBER(AI39),AI39*$AH$3,"") -> 7060 | AI39: 1 | AJ39: =IF(ISNUMBER(AK39),AK39*$AJ$3,"") | AM39: =IF(ISNUMBER(AN39),AN39*$AM$3,"") -> -6900 | AN39: 1 | AO39: =IF(ISNUMBER(AP39),AP39*$AO$3,"") | AQ39: =IF(ISNUMBER(AR39),AR39*$AQ$3,"") | AS39: =IF(ISNUMBER(AT39),AT39*$AS$3,"") | AU39: =IF(ISNUMBER(AV39),AV39*$AU$3,"") | AW39: =IF(ISNUMBER(AX39),AX39*$AW$3,"") | BA39: =IF(ISNUMBER(BB39),BB39*$BA$3,"")
B40: 3105519 | C40: 33 | D40: 1 | E40: 정종은 | F40: =SUM(I40:M40,R40:T40,W40,AC40,AF40,AH40,AJ40,AM40,AO40,AQ40,AS40,AU40,AW40,BA40,Z40,AY40)-SUM(O40:Q40,U40) -> -190670 | G40: =$R$3 -> 0 | H40: =$T$3 -> 0 | S40: -23600 | T40: =H40 -> 0 | W40: =IF(ISNUMBER(X40),X40*$W$3,"") | Z40: =IF(ISNUMBER(AA40),AA40*$Z$3,"") | AC40: -186250 | AD40: 1 | AF40: 19020 | AG40: 1 | AH40: =IF(ISNUMBER(AI40),AI40*$AH$3,"") -> 7060 | AI40: 1 | AJ40: =IF(ISNUMBER(AK40),AK40*$AJ$3,"") | AM40: =IF(ISNUMBER(AN40),AN40*$AM$3,"") -> -6900 | AN40: 1 | AO40: =IF(ISNUMBER(AP40),AP40*$AO$3,"") | AQ40: =IF(ISNUMBER(AR40),AR40*$AQ$3,"") | AS40: =IF(ISNUMBER(AT40),AT40*$AS$3,"") | AU40: =IF(ISNUMBER(AV40),AV40*$AU$3,"") | AW40: =IF(ISNUMBER(AX40),AX40*$AW$3,"") | BA40: =IF(ISNUMBER(BB40),BB40*$BA$3,"")
B41: 3011921 | C41: 34 | D41: 1 | E41: 정지윤 | F41: =SUM(I41:M41,R41:T41,W41,AC41,AF41,AH41,AJ41,AM41,AO41,AQ41,AS41,AU41,AW41,BA41,Z41,AY41)-SUM(O41:Q41,U41) -> -193670 | G41: =$R$3 -> 0 | H41: =$T$3 -> 0 | S41: -23600 | T41: =H41 -> 0 | W41: =IF(ISNUMBER(X41),X41*$W$3,"") | Z41: =IF(ISNUMBER(AA41),AA41*$Z$3,"") | AC41: -186250 | AD41: 1 | AF41: 16020 | AG41: 1 | AH41: =IF(ISNUMBER(AI41),AI41*$AH$3,"") -> 7060 | AI41: 1 | AJ41: =IF(ISNUMBER(AK41),AK41*$AJ$3,"") | AM41: =IF(ISNUMBER(AN41),AN41*$AM$3,"") -> -6900 | AN41: 1 | AO41: =IF(ISNUMBER(AP41),AP41*$AO$3,"") | AQ41: =IF(ISNUMBER(AR41),AR41*$AQ$3,"") | AS41: =IF(ISNUMBER(AT41),AT41*$AS$3,"") | AU41: =IF(ISNUMBER(AV41),AV41*$AU$3,"") | AW41: =IF(ISNUMBER(AX41),AX41*$AW$3,"") | BA41: =IF(ISNUMBER(BB41),BB41*$BA$3,"")
B42: 3561117 | C42: 35 | D42: 1 | E42: 조겸전 | F42: =SUM(I42:M42,R42:T42,W42,AC42,AF42,AH42,AJ42,AM42,AO42,AQ42,AS42,AU42,AW42,BA42,Z42,AY42)-SUM(O42:Q42,U42) -> -190670 | G42: =$R$3 -> 0 | H42: =$T$3 -> 0 | S42: -23600 | T42: =H42 -> 0 | W42: =IF(ISNUMBER(X42),X42*$W$3,"") | Z42: =IF(ISNUMBER(AA42),AA42*$Z$3,"") | AC42: -186250 | AD42: 1 | AF42: 19020 | AG42: 1 | AH42: =IF(ISNUMBER(AI42),AI42*$AH$3,"") -> 7060 | AI42: 1 | AJ42: =IF(ISNUMBER(AK42),AK42*$AJ$3,"") | AM42: =IF(ISNUMBER(AN42),AN42*$AM$3,"") -> -6900 | AN42: 1 | AO42: =IF(ISNUMBER(AP42),AP42*$AO$3,"") | AQ42: =IF(ISNUMBER(AR42),AR42*$AQ$3,"") | AS42: =IF(ISNUMBER(AT42),AT42*$AS$3,"") | AU42: =IF(ISNUMBER(AV42),AV42*$AU$3,"") | AW42: =IF(ISNUMBER(AX42),AX42*$AW$3,"") | BA42: =IF(ISNUMBER(BB42),BB42*$BA$3,"")
...

Sheet 2018학년도정산서
C3: 2018년학년도 정산서
C5: 학생 주민등록번호 뒷자리 :
C6: 이름 : | D6: =VLOOKUP(G5,데이터!$B$8:$BA$121,4,FALSE) -> #N/A | H6: 고 ( | I6: =VLOOKUP(G5,데이터!$B$8:$BA$121,3,FALSE) -> #N/A | J6: ) | K6: 학년
C8: 미납분 | E8: =데이터!R125 -> 수업료 | G8: =IF(VLOOKUP($G$5,데이터!$B$8:$BB$121,9,FALSE)="","",VLOOKUP($G$5,데이터!$B$8:$BB$121,9,FALSE)) -> #N/A | H8: =IF(ISBLANK(VLOOKUP($G$5,데이터!$B$8:$BB$121,8,FALSE)),0,VLOOKUP($G$5,데이터!$B$8:$BB$121,8,FALSE)) -> #N/A | K8: 원
E9: 급식비 | G9: =IF(VLOOKUP($G$5,데이터!$B$8:$BB$121,11,FALSE)="","",VLOOKUP($G$5,데이터!$B$8:$BB$121,11,FALSE)) -> #N/A | H9: =IF(ISBLANK(VLOOKUP($G$5,데이터!$B$8:$BB$121,10,FALSE)),0,VLOOKUP($G$5,데이터!$B$8:$BB$121,10,FALSE)) -> #N/A | K9: 원
E10: =데이터!M125 -> 기숙사비 | G10: =IF(VLOOKUP($G$5,데이터!$B$8:$BB$121,13,FALSE)="","",VLOOKUP($G$5,데이터!$B$8:$BB$121,13,FALSE)) -> #N/A | H10: =VLOOKUP($G$5,데이터!$B$8:$BB$121,12,FALSE) -> #N/A | K10: 원
C11: 2018년 4분기 | E11: 수업료 | H11: =VLOOKUP($G$5,데이터!$B$8:$BB$121,17,FALSE)-VLOOKUP($G$5,데이터!$B$8:$BB$121,14,FALSE) -> #N/A | K11: 원
C12: 2018학년도 정산분 | E12: =데이터!S125 -> 급식비 | H12: =VLOOKUP($G$5,데이터!$B$8:$BB$121,18,FALSE)-VLOOKUP($G$5,데이터!$B$8:$BB$121,15,FALSE) -> #N/A | K12: 원
E13: =데이터!T125 -> 기숙사비 | H13: =VLOOKUP($G$5,데이터!$B$8:$BB$121,19,FALSE)-VLOOKUP($G$5,데이터!$B$8:$BB$121,16,FALSE) -> #N/A | K13: 원
E14: =IF(H14=0,"",데이터!U6) -> #N/A | G14: =IF(VLOOKUP($G$5,데이터!$B$8:$BB$121,21,FALSE)="","",VLOOKUP($G$5,데이터!$B$8:$BB$121,21,FALSE)) -> #N/A | H14: =IF(VLOOKUP($G$5,데이터!$B$8:$BB$121,20,FALSE)="",0,VLOOKUP($G$5,데이터!$B$8:$BB$121,20,FALSE)) -> #N/A | K14: 원
E15: =IF(VLOOKUP($G$5,데이터!$B$8:$BB$121,23,FALSE)="","",IF(VLOOKUP($G$5,데이터!$B$8:$BB$121,24,FALSE)="","(12월분)",VLOOKUP($G$5,데이터!$B$8:$BB$121,24,FALSE))) -> #N/A | H15: =IF(VLOOKUP($G$5,데이터!$B$8:$BB$121,23,FALSE)="",0,VLOOKUP($G$5,데이터!$B$8:$BB$121,22,FALSE)) -> #N/A | K15: 원
C16: =IF(VLOOKUP($G$5,데이터!$B$8:$BB$121,26,FALSE)="","","우유비") -> #N/A | E16: =IF(VLOOKUP($G$5,데이터!$B$8:$BB$121,26,FALSE)="","",IF(VLOOKUP($G$5,데이터!$B$8:$BB$121,27,FALSE)="","(1~2월분)",VLOOKUP($G$5,데이터!$B$8:$BB$121,27,FALSE))) -> #N/A | H16: =IF(VLOOKUP($G$5,데이터!$B$8:$BB$121,26,FALSE)="",0,VLOOKUP($G$5,데이터!$B$8:$BB$121,25,FALSE)) -> #N/A | K16: 원
C17: =IF(VLOOKUP($G$5,데이터!$B$8:$BB$121,29,FALSE)="","",데이터!AC124) -> #N/A | E17: =IF(VLOOKUP($G$5,데이터!$B$8:$BB$121,30,FALSE)="","",VLOOKUP($G$5,데이터!$B$8:$BB$121,30,FALSE)) -> #N/A | H17: =IF(VLOOKUP($G$5,데이터!$B$8:$BB$121,29,FALSE)="",0,VLOOKUP($G$5,데이터!$B$8:$BB$121,28,FALSE)) -> #N/A | K17: 원
C18: =IF(VLOOKUP($G$5,데이터!$B$8:$BB$121,41,FALSE)="","","졸업앨범비") -> #N/A | H18: =IF(VLOOKUP($G$5,데이터!$B$8:$BB$121,40,FALSE)="",0,VLOOKUP($G$5,데이터!$B$8:$BB$121,40,FALSE)) -> #N/A | K18: 원
C19: =IF(VLOOKUP($G$5,데이터!$B$8:$BB$121,32,FALSE)="","",데이터!AF124) -> #N/A | H19: =IF(VLOOKUP($G$5,데이터!$B$8:$BB$121,31,FALSE)="",0,VLOOKUP($G$5,데이터!$B$8:$BB$121,31,FALSE)) -> #N/A | K19: 원
C20: =IF(VLOOKUP($G$5,데이터!$B$8:$BB$121,39,FALSE)="","",데이터!AM124) -> #N/A | H20: =IF(VLOOKUP($G$5,데이터!$B$8:$BB$121,39,FALSE)="",0,VLOOKUP($G$5,데이터!$B$8:$BB$121,38,FALSE)) -> #N/A | K20: 원
C21: =IF(VLOOKUP($G$5,데이터!$B$8:$BB$121,36,FALSE)="","",데이터!AJ124) -> #N/A | H21: =IF(VLOOKUP($G$5,데이터!$B$8:$BB$121,35,FALSE)="",0,VLOOKUP($G$5,데이터!$B$8:$BB$121,35,FALSE)) -> #N/A | K21: 원
C22: =IF(VLOOKUP($G$5,데이터!$B$8:$BB$121,43,FALSE)="","",데이터!AJ124) -> #N/A | H22: =IF(VLOOKUP($G$5,데이터!$B$8:$BB$121,43,FALSE)="",0,VLOOKUP($G$5,데이터!$B$8:$BB$121,42,FALSE)) -> #N/A | K22: 원
C23: =IF(VLOOKUP($G$5,데이터!$B$8:$BB$121,45,FALSE)="","",데이터!AS124) -> #N/A | H23: =IF(VLOOKUP($G$5,데이터!$B$8:$BB$121,45,FALSE)="",0,VLOOKUP($G$5,데이터!$B$8:$BB$121,44,FALSE)) -> #N/A | K23: 원
C24: =IF(VLOOKUP($G$5,데이터!$B$8:$BB$121,47,FALSE)="","",데이터!AU124) -> #N/A | H24: =IF(VLOOKUP($G$5,데이터!$B$8:$BB$121,47,FALSE)="",0,VLOOKUP($G$5,데이터!$B$8:$BB$121,46,FALSE)) -> #N/A | K24: 원
C25: =IF(VLOOKUP($G$5,데이터!$B$8:$BB$121,34,FALSE)="","",데이터!AH124) -> #N/A | H25: =IF(VLOOKUP($G$5,데이터!$B$8:$BB$121,33,FALSE)="",0,VLOOKUP($G$5,데이터!$B$8:$BB$121,33,FALSE)) -> #N/A | K25: 원
C26: =IF(VLOOKUP($G$5,데이터!$B$8:$BB$121,49,FALSE)="","",데이터!AW124) -> #N/A | H26: =IF(VLOOKUP($G$5,데이터!$B$8:$BB$121,49,FALSE)="",0,VLOOKUP($G$5,데이터!$B$8:$BB$121,48,FALSE)) -> #N/A | K26: 원
C27: =IF(VLOOKUP($G$5,데이터!$B$8:$BB$121,51,FALSE)="","",데이터!AY124) -> #N/A | H27: =IF(VLOOKUP($G$5,데이터!$B$8:$BB$121,51,FALSE)="",0,VLOOKUP($G$5,데이터!$B$8:$BB$121,50,FALSE)) -> #N/A | K27: 원
C28: =IF(VLOOKUP($G$5,데이터!$B$8:$BB$121,53,FALSE)="","",데이터!BA124) -> #N/A | H28: =IF(VLOOKUP($G$5,데이터!$B$8:$BB$121,53,FALSE)="",0,VLOOKUP($G$5,데이터!$B$8:$BB$121,52,FALSE)) -> #N/A | K28: 원
C29: 합 계 | H29: =H8+H10+H12+H13+H15+H17+H18+H19-H14+H20+H21+H22+H23+H24+H25+H26+H27+H28+H9+H11+H16 -> #N/A | K29: 원
C31: 위 금액을 청구함. (2019년 1월 18일 입금기준)
C33: 스쿨뱅킹 납기 마감일 : '19. 1. 30. (수)
C34: 이후 미납금에 대해서는 수시로 스쿨뱅킹이 진행됩니다.
C36: 2019. 1. 23.
C38: 링컨학교장
