Workbook

Sheet 데이터
B2: =YEAR(TODAY()) -> 2019 | D2: 년 | F2: 월 | H2: 정산서 | O2: OFF | R2: 수업료 | S2: 급식비 | T2: 기숙사비 | W2: 병원교통비 | Z2: 우유비 | AC2: 교재비정산 | AF2: 건강검진비 | AH2: 구강검진비 | AJ2: 졸업여행비 | AM2: 현장체험학습비 | AO2: 졸업앨범비 | AQ2: =AQ6 -> 0 | AS2: =AS6 -> 0 | AU2: =AU6 -> 0 | AW2: =AW6 -> 0 | AY2: =AY6 -> 0 | BA2: =BA6 -> 0
R3: 0 | S3: -23600 | T3: 0 | W3: 5000 | Z3: 15000 | AF3: 16020 | AH3: 7060 | AJ3: 268300 | AM3: -6900 | AO3: 59000 | AQ3: 0 | AS3: 0 | AU3: 0 | AW3: 0 | AY3: 0 | BA3: 0
B5: 1 | C5: 2 | D5: 3 | E5: 4 | F5: 5 | G5: 6 | H5: 7 | I5: 8 | J5: 9 | K5: 10 | L5: 11 | M5: 12 | N5: 13 | O5: 14 | P5: 15 | Q5: 16 | R5: 17 | S5: 18 | T5: 19 | U5: 20 | V5: 21 | W5: 22 | X5: 23 | Y5: 24 | Z5: 25 | AA5: 26 | AB5: 27 | AC5: 28 | AD5: 29 | AE5: 30 | AF5: 31 | AG5: 32 | AH5: 33 | AI5: 34 | AJ5: 35 | AK5: 36 | AL5: 37 | AM5: 38 | AN5: 39 | AO5: 40 | AP5: 41 | AQ5: 42 | AR5: 43 | AS5: 44 | AT5: 45 | AU5: 46 | AV5: 47 | AW5: 48 | AX5: 49 | AY5: 50 | AZ5: 51 | BA5: 52 | BB5: 53
B6: 학생 주민등록번호 뒷자리 | C6: No. | D6: 학년 | E6: 학생명 | F6: 총계 | G6: 기준 | H6: 금액 | I6: 미납분 | O6: 선입금 | R6: 4분기 | S6: 1~2 | T6: 월 | U6: 장학금 차감 | W6: 병원교통비 | Z6: 우유비 | AC6: 교재비정산 | AF6: 건강검진비 | AH6: 구강검진비 | AJ6: 졸업여행비 | AM6: 현장체험학습비 | AO6: 졸업앨범비
G7: 수업료 | H7: 기숙사비 | I7: 수업료 | J7: 비고(메모) | K7: 급식비 | L7: 비고(메모) | M7: 기숙사비 | N7: 비고(메모) | O7: 수업료 | P7: 급식비 | Q7: 기숙사비 | R7: 수업료 | S7: 급식비 | T7: 기숙사비 | U7: 장학금 | V7: 비고(메모) | W7: 병원교통비 | X7: 체크 | Y7: 미납메모 | Z7: 우유비 | AA7: 체크 | AB7: 미납메모 | AC7: 교재비정산 | AD7: 체크 | AE7: 미납메모 | AF7: 건강검진비 | AG7: 체크 | AH7: 구강검진비 | AI7: 횟수 | AJ7: 졸업여행비 | AK7: 체크 | AL7: 미납메모 | AM7: 현장체험학습비 | AN7: 체크 | AO7: 졸업앨범비 | AP7: 체크 | AR7: 체크 | AT7: 체크 | AV7: 체크 | AX7: 체크 | AZ7: 체크 | BB7: 체크
B8: 3185017 | C8: 1 | D8: 1 | E8: 강민수 | F8: =SUM(I8:M8,R8:T8,W8,AC8,AF8,AH8,AJ8,AM8,AO8,AQ8,AS8,AU8,AW8,BA8,Z8,AY8)-SUM(O8:Q8,U8) -> -190670 | G8: =$R$3 -> 0 | H8: =$T$3 -> 0 | S8: -23600 | T8: =H8 -> 0 | W8: =IF(ISNUMBER(X8),X8*$W$3,"") | Z8: =IF(ISNUMBER(AA8),AA8*$Z$3,"") | AC8: -186250 | AD8: 1 | AF8: 19020 | AG8: 1 | AH8: =IF(ISNUMBER(AI8),AI8*$AH$3,"") -> 7060 | AI8: 1 | AJ8: =IF(ISNUMBER(AK8),AK8*$AJ$3,"") | AM8: =IF(ISNUMBER(AN8),AN8*$AM$3,"") -> -6900 | AN8: 1 | AO8: =IF(ISNUMBER(AP8),AP8*$AO$3,"") | AQ8: =IF(ISNUMBER(AR8),AR8*$AQ$3,"") | AS8: =IF(ISNUMBER(AT8),AT8*$AS$3,"") | AU8: =IF(ISNUMBER(AV8),AV8*$AU$3,"") | AW8: =IF(ISNUMBER(AX8),AX8*$AW$3,"") | BA8: =IF(ISNUMBER(BB8),BB8*$BA$3,"")
B9: 3074014 | C9: 2 | D9: 1 | E9: 강성주 | F9: =SUM(I9:M9,R9:T9,W9,AC9,AF9,AH9,AJ9,AM9,AO9,AQ9,AS9,AU9,AW9,BA9,Z9,AY9)-SUM(O9:Q9,U9) -> -193670 | G9: =$R$3 -> 0 | H9: =$T$3 -> 0 | S9: -23600 | T9: =H9 -> 0 | W9: =IF(ISNUMBER(X9),X9*$W$3,"") | Z9: =IF(ISNUMBER(AA9),AA9*$Z$3,"") | AC9: -186250 | AD9: 1 | AF9: 16020 | AG9: 1 | AH9: =IF(ISNUMBER(AI9),AI9*$AH$3,"") -> 7060 | AI9: 1 | AJ9: =IF(ISNUMBER(AK9),AK9*$AJ$3,"") | AM9: =IF(ISNUMBER(AN9),AN9*$AM$3,"") -> -6900 | AN9: 1 | AO9: =IF(ISNUMBER(AP9),AP9*$AO$3,"") | AQ9: =IF(ISNUMBER(AR9),AR9*$AQ$3,"") | AS9: =IF(ISNUMBER(AT9),AT9*$AS$3,"") | AU9: =IF(ISNUMBER(AV9),AV9*$AU$3,"") | AW9: =IF(ISNUMBER(AX9),AX9*$AW$3,"") | BA9: =IF(ISNUMBER(BB9),BB9*$BA$3,"")
B10: 4852210 | C10: 3 | D10: 1 | E10: 공희진 | F10: =SUM(I10:M10,R10:T10,W10,AC10,AF10,AH10,AJ10,AM10,AO10,AQ10,AS10,AU10,AW10,BA10,Z10,AY10)-SUM(O10:Q10,U10) -> -186250 | G10: =$R$3 -> 0 | H10: =$T$3 -> 0 | S10: -23600 | T10: =H10 -> 0 | W10: =IF(ISNUMBER(X10),X10*$W$3,"") | Z10: =IF(ISNUMBER(AA10),AA10*$Z$3,"") | AC10: -186250 | AD10: 1 | AF10: 23440 | AG10: 1 | AH10: =IF(ISNUMBER(AI10),AI10*$AH$3,"") -> 7060 | AI10: 1 | AJ10: =IF(ISNUMBER(AK10),AK10*$AJ$3,"") | AM10: =IF(ISNUMBER(AN10),AN10*$AM$3,"") -> -6900 | AN10: 1 | AO10: =IF(ISNUMBER(AP10),AP10*$AO$3,"") | AQ10: =IF(ISNUMBER(AR10),AR10*$AQ$3,"") | AS10: =IF(ISNUMBER(AT10),AT10*$AS$3,"") | AU10: =IF(ISNUMBER(AV10),AV10*$AU$3,"") | AW10: =IF(ISNUMBER(AX10),AX10*$AW$3,"") | BA10: =IF(ISNUMBER(BB10),BB10*$BA$3,"")
B11: 3401815 | C11: 4 | D11: 1 | E11: 권기성 | F11: =SUM(I11:M11,R11:T11,W11,AC11,AF11,AH11,AJ11,AM11,AO11,AQ11,AS11,AU11,AW11,BA11,Z11,AY11)-SUM(O11:Q11,U11) -> -190670 | G11: =$R$3 -> 0 | H11: =$T$3 -> 0 | S11: -23600 | T11: =H11 -> 0 | W11: =IF(ISNUMBER(X11),X11*$W$3,"") | Z11: =IF(ISNUMBER(AA11),AA11*$Z$3,"") | AC11: -186250 | AD11: 1 | AF11: 19020 | AG11: 1 | AH11: =IF(ISNUMBER(AI11),AI11*$AH$3,"") -> 7060 | AI11: 1 | AJ11: =IF(ISNUMBER(AK11),AK11*$AJ$3,"") | AM11: =IF(ISNUMBER(AN11),AN11*$AM$3,"") -> -6900 | AN11: 1 | AO11: =IF(ISNUMBER(AP11),AP11*$AO$3,"") | AQ11: =IF(ISNUMBER(AR11),AR11*$AQ$3,"") | AS11: =IF(ISNUMBER(AT11),AT11*$AS$3,"") | AU11: =IF(ISNUMBER(AV11),AV11*$AU$3,"") | AW11: =IF(ISNUMBER(AX11),AX11*$AW$3,"") | BA11: =IF(ISNUMBER(BB11),BB11*$BA$3,"")
B12: 3408728 | C12: 5 | D12: 1 | E12: 김선교 | F12: =SUM(I12:M12,R12:T12,W12,AC12,AF12,AH12,AJ12,AM12,AO12,AQ12,AS12,AU12,AW12,BA12,Z12,AY12)-SUM(O12:Q12,U12) -> -167070 | G12: =$R$3 -> 0 | H12: =$T$3 -> 0 | W12: =IF(ISNUMBER(X12),X12*$W$3,"") | Z12: =IF(ISNUMBER(AA12),AA12*$Z$3,"") | AC12: -186250 | AD12: 1 | AF12: 19020 | AG12: 1 | AH12: =IF(ISNUMBER(AI12),AI12*$AH$3,"") -> 7060 | AI12: 1 | AJ12: =IF(ISNUMBER(AK12),AK12*$AJ$3,"") | AM12: =IF(ISNUMBER(AN12),AN12*$AM$3,"") -> -6900 | AN12: 1 | AO12: =IF(ISNUMBER(AP12),AP12*$AO$3,"") | AQ12: =IF(ISNUMBER(AR12),AR12*$AQ$3,"") | AS12: =IF(ISNUMBER(AT12),AT12*$AS$3,"") | AU12: =IF(ISNUMBER(AV12),AV12*$AU$3,"") | AW12: =IF(ISNUMBER(AX12),AX12*$AW$3,"") | BA12: =IF(ISNUMBER(BB12),BB12*$BA$3,"")
B13: 3850616j | C13: 6 | D13: 1 | E13: 김원중 | F13: =SUM(I13:M13,R13:T13,W13,AC13,AF13,AH13,AJ13,AM13,AO13,AQ13,AS13,AU13,AW13,BA13,Z13,AY13)-SUM(O13:Q13,U13) -> -190670 | G13: =$R$3 -> 0 | H13: =$T$3 -> 0 | S13: -23600 | T13: =H13 -> 0 | W13: =IF(ISNUMBER(X13),X13*$W$3,"") | Z13: =IF(ISNUMBER(AA13),AA13*$Z$3,"") | AC13: -186250 | AD13: 1 | AF13: 19020 | AG13: 1 | AH13: =IF(ISNUMBER(AI13),AI13*$AH$3,"") -> 7060 | AI13: 1 | AJ13: =IF(ISNUMBER(AK13),AK13*$AJ$3,"") | AM13: =IF(ISNUMBER(AN13),AN13*$AM$3,"") -> -6900 | AN13: 1 | AO13: =IF(ISNUMBER(AP13),AP13*$AO$3,"") | AQ13: =IF(ISNUMBER(AR13),AR13*$AQ$3,"") | AS13: =IF(ISNUMBER(AT13),AT13*$AS$3,"") | AU13: =IF(ISNUMBER(AV13),AV13*$AU$3,"") | AW13: =IF(ISNUMBER(AX13),AX13*$AW$3,"") | BA13: =IF(ISNUMBER(BB13),BB13*$BA$3,"")
B14: 3243310 | C14: 7 | D14: 1 | E14: 김주경 | F14: =SUM(I14:M14,R14:T14,W14,AC14,AF14,AH14,AJ14,AM14,AO14,AQ14,AS14,AU14,AW14,BA14,Z14,AY14)-SUM(O14:Q14,U14) -> -193670 | G14: =$R$3 -> 0 | H14: =$T$3 -> 0 | S14: -23600 | T14: =H14 -> 0 | W14: =IF(ISNUMBER(X14),X14*$W$3,"") | Z14: =IF(ISNUMBER(AA14),AA14*$Z$3,"") | AC14: -186250 | AD14: 1 | AF14: 16020 | AG14: 1 | AH14: =IF(ISNUMBER(AI14),AI14*$AH$3,"") -> 7060 | AI14: 1 | AJ14: =IF(ISNUMBER(AK14),AK14*$AJ$3,"") | AM14: =IF(ISNUMBER(AN14),AN14*$AM$3,"") -> -6900 | AN14: 1 | AO14: =IF(ISNUMBER(AP14),AP14*$AO$3,"") | AQ14: =IF(ISNUMBER(AR14),AR14*$AQ$3,"") | AS14: =IF(ISNUMBER(AT14),AT14*$AS$3,"") | AU14: =IF(ISNUMBER(AV14),AV14*$AU$3,"") | AW14: =IF(ISNUMBER(AX14),AX14*$AW$3,"") | BA14: =IF(ISNUMBER(BB14),BB14*$BA$3,"")
B15: 3588310 | C15: 8 | D15: 1 | E15: 김찬영 | F15: =SUM(I15:M15,R15:T15,W15,AC15,AF15,AH15,AJ15,AM15,AO15,AQ15,AS15,AU15,AW15,BA15,Z15,AY15)-SUM(O15:Q15,U15) -> -193670 | G15: =$R$3 -> 0 | H15: =$T$3 -> 0 | S15: -23600 | T15: =H15 -> 0 | W15: =IF(ISNUMBER(X15),X15*$W$3,"") | Z15: =IF(ISNUMBER(AA15),AA15*$Z$3,"") | AC15: -186250 | AD15: 1 | AF15: 16020 | AG15: 1 | AH15: =IF(ISNUMBER(AI15),AI15*$AH$3,"") -> 7060 | AI15: 1 | AJ15: =IF(ISNUMBER(AK15),AK15*$AJ$3,"") | AM15: =IF(ISNUMBER(AN15),AN15*$AM$3,"") -> -6900 | AN15: 1 | AO15: =IF(ISNUMBER(AP15),AP15*$AO$3,"") | AQ15: =IF(ISNUMBER(AR15),AR15*$AQ$3,"") | AS15: =IF(ISNUMBER(AT15),AT15*$AS$3,"") | AU15: =IF(ISNUMBER(AV15),AV15*$AU$3,"") | AW15: =IF(ISNUMBER(AX15),AX15*$AW$3,"") | BA15: =IF(ISNUMBER(BB15),BB15*$BA$3,"")
B16: 3850616p | C16: 9 | D16: 1 | E16: 박경주 | F16: =SUM(I16:M16,R16:T16,W16,AC16,AF16,AH16,AJ16,AM16,AO16,AQ16,AS16,AU16,AW16,BA16,Z16,AY16)-SUM(O16:Q16,U16) -> -193670 | G16: =$R$3 -> 0 | H16: =$T$3 -> 0 | S16: -23600 | T16: =H16 -> 0 | W16: =IF(ISNUMBER(X16),X16*$W$3,"") | Z16: =IF(ISNUMBER(AA16),AA16*$Z$3,"") | AC16: -186250 | AD16: 1 | AF16: 16020 | AG16: 1 | AH16: =IF(ISNUMBER(AI16),AI16*$AH$3,"") -> 7060 | AI16: 1 | AJ16: =IF(ISNUMBER(AK16),AK16*$AJ$3,"") | AM16: =IF(ISNUMBER(AN16),AN16*$AM$3,"") -> -6900 | AN16: 1 | AO16: =IF(ISNUMBER(AP16),AP16*$AO$3,"") | AQ16: =IF(ISNUMBER(AR16),AR16*$AQ$3,"") | AS16: =IF(ISNUMBER(AT16),AT16*$AS$3,"") | AU16: =IF(ISNUMBER(AV16),AV16*$AU$3,"") | AW16: =IF(ISNUMBER(AX16),AX16*$AW$3,"") | BA16: =IF(ISNUMBER(BB16),BB16*$BA$3,"")
B17: 4590322 | C17: 10 | D17: 1 | E17: 박서영 | F17: =SUM(I17:M17,R17:T17,W17,AC17,AF17,AH17,AJ17,AM17,AO17,AQ17,AS17,AU17,AW17,BA17,Z17,AY17)-SUM(O17:Q17,U17) -> -192680 | G17: =$R$3 -> 0 | H17: =$T$3 -> 0 | S17: -23600 | T17: =H17 -> 0 | W17: =IF(ISNUMBER(X17),X17*$W$3,"") | Z17: =IF(ISNUMBER(AA17),AA17*$Z$3,"") | AC17: -186250 | AD17: 1 | AF17: 17010 | AG17: 1 | AH17: =IF(ISNUMBER(AI17),AI17*$AH$3,"") -> 7060 | AI17: 1 | AJ17: =IF(ISNUMBER(AK17),AK17*$AJ$3,"") | AM17: =IF(ISNUMBER(AN17),AN17*$AM$3,"") -> -6900 | AN17: 1 | AO17: =IF(ISNUMBER(AP17),AP17*$AO$3,"") | AQ17: =IF(ISNUMBER(AR17),AR17*$AQ$3,"") | AS17: =IF(ISNUMBER(AT17),AT17*$AS$3,"") | AU17: =IF(ISNUMBER(AV17),AV17*$AU$3,"") | AW17: =IF(ISNUMBER(AX17),AX17*$AW$3,"") | BA17: =IF(ISNUMBER(BB17),BB17*$BA$3,"")
B18: 4937315 | C18: 11 | D18: 1 | E18: 박수은 | F18: =SUM(I18:M18,R18:T18,W18,AC18,AF18,AH18,AJ18,AM18,AO18,AQ18,AS18,AU18,AW18,BA18,Z18,AY18)-SUM(O18:Q18,U18) -> -169080 | G18: =$R$3 -> 0 | H18: =$T$3 -> 0 | W18: =IF(ISNUMBER(X18),X18*$W$3,"") | Z18: =IF(ISNUMBER(AA18),AA18*$Z$3,"") | AC18: -186250 | AD18: 1 | AF18: 17010 | AG18: 1 | AH18: =IF(ISNUMBER(AI18),AI18*$AH$3,"") -> 7060 | AI18: 1 | AJ18: =IF(ISNUMBER(AK18),AK18*$AJ$3,"") | AM18: =IF(ISNUMBER(AN18),AN18*$AM$3,"") -> -6900 | AN18: 1 | AO18: =IF(ISNUMBER(AP18),AP18*$AO$3,"") | AQ18: =IF(ISNUMBER(AR18),AR18*$AQ$3,"") | AS18: =IF(ISNUMBER(AT18),AT18*$AS$3,"") | AU18: =IF(ISNUMBER(AV18),AV18*$AU$3,"") | AW18: =IF(ISNUMBER(AX18),AX18*$AW$3,"") | BA18: =IF(ISNUMBER(BB18),BB18*$BA$3,"")
B19: 4227814 | C19: 12 | D19: 1 | E19: 박예은 | F19: =SUM(I19:M19,R19:T19,W19,AC19,AF19,AH19,AJ19,AM19,AO19,AQ19,AS19,AU19,AW19,BA19,Z19,AY19)-SUM(O19:Q19,U19) -> -192680 | G19: =$R$3 -> 0 | H19: =$T$3 -> 0 | S19: -23600 | T19: =H19 -> 0 | W19: =IF(ISNUMBER(X19),X19*$W$3,"") | Z19: =IF(ISNUMBER(AA19),AA19*$Z$3,"") | AC19: -186250 | AD19: 1 | AF19: 17010 | AG19: 1 | AH19: =IF(ISNUMBER(AI19),AI19*$AH$3,"") -> 7060 | AI19: 1 | AJ19: =IF(ISNUMBER(AK19),AK19*$AJ$3,"") | AM19: =IF(ISNUMBER(AN19),AN19*$AM$3,"") -> -6900 | AN19: 1 | AO19: =IF(ISNUMBER(AP19),AP19*$AO$3,"") | AQ19: =IF(ISNUMBER(AR19),AR19*$AQ$3,"") | AS19: =IF(ISNUMBER(AT19),AT19*$AS$3,"") | AU19: =IF(ISNUMBER(AV19),AV19*$AU$3,"") | AW19: =IF(ISNUMBER(AX19),AX19*$AW$3,"") | BA19: =IF(ISNUMBER(BB19),BB19*$BA$3,"")
B20: 3095414 | C20: 13 | D20: 1 | E20: 배민수 | F20: =SUM(I20:M20,R20:T20,W20,AC20,AF20,AH20,AJ20,AM20,AO20,AQ20,AS20,AU20,AW20,BA20,Z20,AY20)-SUM(O20:Q20,U20) -> -193670 | G20: =$R$3 -> 0 | H20: =$T$3 -> 0 | S20: -23600 | T20: =H20 -> 0 | W20: =IF(ISNUMBER(X20),X20*$W$3,"") | Z20: =IF(ISNUMBER(AA20),AA20*$Z$3,"") | AC20: -186250 | AD20: 1 | AF20: 16020 | AG20: 1 | AH20: =IF(ISNUMBER(AI20),AI20*$AH$3,"") -> 7060 | AI20: 1 | AJ20: =IF(ISNUMBER(AK20),AK20*$AJ$3,"") | AM20: =IF(ISNUMBER(AN20),AN20*$AM$3,"") -> -6900 | AN20: 1 | AO20: =IF(ISNUMBER(AP20),AP20*$AO$3,"") | AQ20: =IF(ISNUMBER(AR20),AR20*$AQ$3,"") | AS20: =IF(ISNUMBER(AT20),AT20*$AS$3,"") | AU20: =IF(ISNUMBER(AV20),AV20*$AU$3,"") | AW20: =IF(ISNUMBER(AX20),AX20*$AW$3,"") | BA20: =IF(ISNUMBER(BB20),BB20*$BA$3,"")
B21: 4122221 | C21: 14 | D21: 1 | E21: 배소진 | F21: =SUM(I21:M21,R21:T21,W21,AC21,AF21,AH21,AJ21,AM21,AO21,AQ21,AS21,AU21,AW21,BA21,Z21,AY21)-SUM(O21:Q21,U21) -> -192680 | G21: =$R$3 -> 0 | H21: =$T$3 -> 0 | S21: -23600 | T21: =H21 -> 0 | W21: =IF(ISNUMBER(X21),X21*$W$3,"") | Z21: =IF(ISNUMBER(AA21),AA21*$Z$3,"") | AC21: -186250 | AD21: 1 | AF21: 17010 | AG21: 1 | AH21: =IF(ISNUMBER(AI21),AI21*$AH$3,"") -> 7060 | AI21: 1 | AJ21: =IF(ISNUMBER(AK21),AK21*$AJ$3,"") | AM21: =IF(ISNUMBER(AN21),AN21*$AM$3,"") -> -6900 | AN21: 1 | AO21: =IF(ISNUMBER(AP21),AP21*$AO$3,"") | AQ21: =IF(ISNUMBER(AR21),AR21*$AQ$3,"") | AS21: =IF(ISNUMBER(AT21),AT21*$AS$3,"") | AU21: =IF(ISNUMBER(AV21),AV21*$AU$3,"") | AW21: =IF(ISNUMBER(AX21),AX21*$AW$3,"") | BA21: =IF(ISNUMBER(BB21),BB21*$BA$3,"")
B22: 4122214 | C22: 15 | D22: 1 | E22: 변우림 | F22: =SUM(I22:M22,R22:T22,W22,AC22,AF22,AH22,AJ22,AM22,AO22,AQ22,AS22,AU22,AW22,BA22,Z22,AY22)-SUM(O22:Q22,U22) -> -192680 | G22: =$R$3 -> 0 | H22: =$T$3 -> 0 | S22: -23600 | T22: =H22 -> 0 | W22: =IF(ISNUMBER(X22),X22*$W$3,"") | Z22: =IF(ISNUMBER(AA22),AA22*$Z$3,"") | AC22: -186250 | AD22: 1 | AF22: 17010 | AG22: 1 | AH22: =IF(ISNUMBER(AI22),AI22*$AH$3,"") -> 7060 | AI22: 1 | AJ22: =IF(ISNUMBER(AK22),AK22*$AJ$3,"") | AM22: =IF(ISNUMBER(AN22),AN22*$AM$3,"") -> -6900 | AN22: 1 | AO22: =IF(ISNUMBER(AP22),AP22*$AO$3,"") | AQ22: =IF(ISNUMBER(AR22),AR22*$AQ$3,"") | AS22: =IF(ISNUMBER(AT22),AT22*$AS$3,"") | AU22: =IF(ISNUMBER(AV22),AV22*$AU$3,"") | AW22: =IF(ISNUMBER(AX22),AX22*$AW$3,"") | BA22: =IF(ISNUMBER(BB22),BB22*$BA$3,"")
B23: 3012024 | C23: 16 | D23: 1 | E23: 송준서 | F23: =SUM(I23:M23,R23:T23,W23,AC23,AF23,AH23,AJ23,AM23,AO23,AQ23,AS23,AU23,AW23,BA23,Z23,AY23)-SUM(O23:Q23,U23) -> -193670 | G23: =$R$3 -> 0 | H23: =$T$3 -> 0 | S23: -23600 | T23: =H23 -> 0 | W23: =IF(ISNUMBER(X23),X23*$W$3,"") | Z23: =IF(ISNUMBER(AA23),AA23*$Z$3,"") | AC23: -186250 | AD23: 1 | AF23: 16020 | AG23: 1 | AH23: =IF(ISNUMBER(AI23),AI23*$AH$3,"") -> 7060 | AI23: 1 | AJ23: =IF(ISNUMBER(AK23),AK23*$AJ$3,"") | AM23: =IF(ISNUMBER(AN23),AN23*$AM$3,"") -> -6900 | AN23: 1 | AO23: =IF(ISNUMBER(AP23),AP23*$AO$3,"") | AQ23: =IF(ISNUMBER(AR23),AR23*$AQ$3,"") | AS23: =IF(ISNUMBER(AT23),AT23*$AS$3,"") | AU23: =IF(ISNUMBER(AV23),AV23*$AU$3,"") | AW23: =IF(ISNUMBER(AX23),AX23*$AW$3,"") | BA23: =IF(ISNUMBER(BB23),BB23*$BA$3,"")
B24: 4113918 | C24: 17 | D24: 1 | E24: 신영은 | F24: =SUM(I24:M24,R24:T24,W24,AC24,AF24,AH24,AJ24,AM24,AO24,AQ24,AS24,AU24,AW24,BA24,Z24,AY24)-SUM(O24:Q24,U24) -> 155320 | G24: =$R$3 -> 0 | H24: =$T$3 -> 0 | K24: 232500 | L24: 1~2월분 | M24: 97500 | N24: 1~2월 | S24: -23600 | T24: =H24 -> 0 | W24: =IF(ISNUMBER(X24),X24*$W$3,"") | Z24: =IF(ISNUMBER(AA24),AA24*$Z$3,"") -> 15000 | AA24: 1 | AB24: 1~2월분 | AC24: -186250 | AD24: 1 | AF24: 20010 | AG24: 1 | AH24: =IF(ISNUMBER(AI24),AI24*$AH$3,"") -> 7060 | AI24: 1 | AJ24: =IF(ISNUMBER(AK24),AK24*$AJ$3,"") | AM24: =IF(ISNUMBER(AN24),AN24*$AM$3,"") -> -6900 | AN24: 1 | AO24: =IF(ISNUMBER(AP24),AP24*$AO$3,"") | AQ24: =IF(ISNUMBER(AR24),AR24*$AQ$3,"") | AS24: =IF(ISNUMBER(AT24),AT24*$AS$3,"") | AU24: =IF(ISNUMBER(AV24),AV24*$AU$3,"") | AW24: =IF(ISNUMBER(AX24),AX24*$AW$3,"") | BA24: =IF(ISNUMBER(BB24),BB24*$BA$3,"")
B25: 4173720 | C25: 18 | D25: 1 | E25: 신채린 | F25: =SUM(I25:M25,R25:T25,W25,AC25,AF25,AH25,AJ25,AM25,AO25,AQ25,AS25,AU25,AW25,BA25,Z25,AY25)-SUM(O25:Q25,U25) -> -202430 | G25: =$R$3 -> 0 | H25: =$T$3 -> 0 | S25: -23600 | T25: =H25 -> 0 | W25: =IF(ISNUMBER(X25),X25*$W$3,"") | Z25: =IF(ISNUMBER(AA25),AA25*$Z$3,"") | AC25: -199000 | AD25: 1 | AF25: 20010 | AG25: 1 | AH25: =IF(ISNUMBER(AI25),AI25*$AH$3,"") -> 7060 | AI25: 1 | AJ25: =IF(ISNUMBER(AK25),AK25*$AJ$3,"") | AM25: =IF(ISNUMBER(AN25),AN25*$AM$3,"") -> -6900 | AN25: 1 | AO25: =IF(ISNUMBER(AP25),AP25*$AO$3,"") | AQ25: =IF(ISNUMBER(AR25),AR25*$AQ$3,"") | AS25: =IF(ISNUMBER(AT25),AT25*$AS$3,"") | AU25: =IF(ISNUMBER(AV25),AV25*$AU$3,"") | AW25: =IF(ISNUMBER(AX25),AX25*$AW$3,"") | BA25: =IF(ISNUMBER(BB25),BB25*$BA$3,"")
B26: 3069511 | C26: 19 | D26: 1 | E26: 오영훈 | F26: =SUM(I26:M26,R26:T26,W26,AC26,AF26,AH26,AJ26,AM26,AO26,AQ26,AS26,AU26,AW26,BA26,Z26,AY26)-SUM(O26:Q26,U26) -> -179820 | G26: =$R$3 -> 0 | H26: =$T$3 -> 0 | Z26: =IF(ISNUMBER(AA26),AA26*$Z$3,"") | AC26: -199000 | AD26: 1 | AF26: 19020 | AG26: 1 | AH26: =IF(ISNUMBER(AI26),AI26*$AH$3,"") -> 7060 | AI26: 1 | AJ26: =IF(ISNUMBER(AK26),AK26*$AJ$3,"") | AM26: =IF(ISNUMBER(AN26),AN26*$AM$3,"") -> -6900 | AN26: 1 | AO26: =IF(ISNUMBER(AP26),AP26*$AO$3,"") | AQ26: =IF(ISNUMBER(AR26),AR26*$AQ$3,"") | AS26: =IF(ISNUMBER(AT26),AT26*$AS$3,"") | AU26: =IF(ISNUMBER(AV26),AV26*$AU$3,"") | AW26: =IF(ISNUMBER(AX26),AX26*$AW$3,"") | BA26: =IF(ISNUMBER(BB26),BB26*$BA$3,"")
B27: 4519812 | C27: 20 | D27: 1 | E27: 유주연 | F27: =SUM(I27:M27,R27:T27,W27,AC27,AF27,AH27,AJ27,AM27,AO27,AQ27,AS27,AU27,AW27,BA27,Z27,AY27)-SUM(O27:Q27,U27) -> -169080 | G27: =$R$3 -> 0 | H27: =$T$3 -> 0 | Z27: =IF(ISNUMBER(AA27),AA27*$Z$3,"") | AC27: -186250 | AD27: 1 | AF27: 17010 | AG27: 1 | AH27: =IF(ISNUMBER(AI27),AI27*$AH$3,"") -> 7060 | AI27: 1 | AJ27: =IF(ISNUMBER(AK27),AK27*$AJ$3,"") | AM27: =IF(ISNUMBER(AN27),AN27*$AM$3,"") -> -6900 | AN27: 1 | AO27: =IF(ISNUMBER(AP27),AP27*$AO$3,"") | AQ27: =IF(ISNUMBER(AR27),AR27*$AQ$3,"") | AS27: =IF(ISNUMBER(AT27),AT27*$AS$3,"") | AU27: =IF(ISNUMBER(AV27),AV27*$AU$3,"") | AW27: =IF(ISNUMBER(AX27),AX27*$AW$3,"") | BA27: =IF(ISNUMBER(BB27),BB27*$BA$3,"")
B28: 4199118 | C28: 21 | D28: 1 | E28: 이다은 | F28: =SUM(I28:M28,R28:T28,W28,AC28,AF28,AH28,AJ28,AM28,AO28,AQ28,AS28,AU28,AW28,BA28,Z28,AY28)-SUM(O28:Q28,U28) -> -189680 | G28: =$R$3 -> 0 | H28: =$T$3 -> 0 | S28: -23600 | T28: =H28 -> 0 | Z28: =IF(ISNUMBER(AA28),AA28*$Z$3,"") | AC28: -186250 | AD28: 1 | AF28: 20010 | AG28: 1 | AH28: =IF(ISNUMBER(AI28),AI28*$AH$3,"") -> 7060 | AI28: 1 | AJ28: =IF(ISNUMBER(AK28),AK28*$AJ$3,"") | AM28: =IF(ISNUMBER(AN28),AN28*$AM$3,"") -> -6900 | AN28: 1 | AO28: =IF(ISNUMBER(AP28),AP28*$AO$3,"") | AQ28: =IF(ISNUMBER(AR28),AR28*$AQ$3,"") | AS28: =IF(ISNUMBER(AT28),AT28*$AS$3,"") | AU28: =IF(ISNUMBER(AV28),AV28*$AU$3,"") | AW28: =IF(ISNUMBER(AX28),AX28*$AW$3,"") | BA28: =IF(ISNUMBER(BB28),BB28*$BA$3,"")
B29: 3222439 | C29: 22 | D29: 1 | E29: 이성준 | F29: =SUM(I29:M29,R29:T29,W29,AC29,AF29,AH29,AJ29,AM29,AO29,AQ29,AS29,AU29,AW29,BA29,Z29,AY29)-SUM(O29:Q29,U29) -> -193670 | G29: =$R$3 -> 0 | H29: =$T$3 -> 0 | S29: -23600 | T29: =H29 -> 0 | Z29: =IF(ISNUMBER(AA29),AA29*$Z$3,"") | AC29: -186250 | AD29: 1 | AF29: 16020 | AG29: 1 | AH29: =IF(ISNUMBER(AI29),AI29*$AH$3,"") -> 7060 | AI29: 1 | AJ29: =IF(ISNUMBER(AK29),AK29*$AJ$3,"") | AM29: =IF(ISNUMBER(AN29),AN29*$AM$3,"") -> -6900 | AN29: 1 | AO29: =IF(ISNUMBER(AP29),AP29*$AO$3,"") | AQ29: =IF(ISNUMBER(AR29),AR29*$AQ$3,"") | AS29: =IF(ISNUMBER(AT29),AT29*$AS$3,"") | AU29: =IF(ISNUMBER(AV29),AV29*$AU$3,"") | AW29: =IF(ISNUMBER(AX29),AX29*$AW$3,"") | BA29: =IF(ISNUMBER(BB29),BB29*$BA$3,"")
B30: 4188412 | C30: 23 | D30: 1 | E30: 이예은 | F30: =SUM(I30:M30,R30:T30,W30,AC30,AF30,AH30,AJ30,AM30,AO30,AQ30,AS30,AU30,AW30,BA30,Z30,AY30)-SUM(O30:Q30,U30) -> -186250 | G30: =$R$3 -> 0 | H30: =$T$3 -> 0 | S30: -23600 | T30: =H30 -> 0 | Z30: =IF(ISNUMBER(AA30),AA30*$Z$3,"") | AC30: -186250 | AD30: 1 | AF30: 23440 | AG30: 1 | AH30: =IF(ISNUMBER(AI30),AI30*$AH$3,"") -> 7060 | AI30: 1 | AJ30: =IF(ISNUMBER(AK30),AK30*$AJ$3,"") | AM30: =IF(ISNUMBER(AN30),AN30*$AM$3,"") -> -6900 | AN30: 1 | AO30: =IF(ISNUMBER(AP30),AP30*$AO$3,"") | AQ30: =IF(ISNUMBER(AR30),AR30*$AQ$3,"") | AS30: =IF(ISNUMBER(AT30),AT30*$AS$3,"") | AU30: =IF(ISNUMBER(AV30),AV30*$AU$3,"") | AW30: =IF(ISNUMBER(AX30),AX30*$AW$3,"") | BA30: =IF(ISNUMBER(BB30),BB30*$BA$3,"")
B31: 3184910 | C31: 24 | D31: 1 | E31: 이우림 | F31: =SUM(I31:M31,R31:T31,W31,AC31,AF31,AH31,AJ31,AM31,AO31,AQ31,AS31,AU31,AW31,BA31,Z31,AY31)-SUM(O31:Q31,U31) -> -190670 | G31: =$R$3 -> 0 | H31: =$T$3 -> 0 | S31: -23600 | T31: =H31 -> 0 | W31: =IF(ISNUMBER(X31),X31*$W$3,"") | Z31: =IF(ISNUMBER(AA31),AA31*$Z$3,"") | AC31: -186250 | AD31: 1 | AF31: 19020 | AG31: 1 | AH31: =IF(ISNUMBER(AI31),AI31*$AH$3,"") -> 7060 | AI31: 1 | AJ31: =IF(ISNUMBER(AK31),AK31*$AJ$3,"") | AM31: =IF(ISNUMBER(AN31),AN31*$AM$3,"") -> -6900 | AN31: 1 | AO31: =IF(ISNUMBER(AP31),AP31*$AO$3,"") | AQ31: =IF(ISNUMBER(AR31),AR31*$AQ$3,"") | AS31: =IF(ISNUMBER(AT31),AT31*$AS$3,"") | AU31: =IF(ISNUMBER(AV31),AV31*$AU$3,"") | AW31: =IF(ISNUMBER(AX31),AX31*$AW$3,"") | BA31: =IF(ISNUMBER(BB31),BB31*$BA$3,"")
B32: 3727410 | C32: 25 | D32: 1 | E32: 이욱진 | F32: =SUM(I32:M32,R32:T32,W32,AC32,AF32,AH32,AJ32,AM32,AO32,AQ32,AS32,AU32,AW32,BA32,Z32,AY32)-SUM(O32:Q32,U32) -> -190670 | G32: =$R$3 -> 0 | H32: =$T$3 -> 0 | S32: -23600 | T32: =H32 -> 0 | W32: =IF(ISNUMBER(X32),X32*$W$3,"") | Z32: =IF(ISNUMBER(AA32),AA32*$Z$3,"") | AC32: -186250 | AD32: 1 | AF32: 19020 | AG32: 1 | AH32: =IF(ISNUMBER(AI32),AI32*$AH$3,"") -> 7060 | AI32: 1 | AJ32: =IF(ISNUMBER(AK32),AK32*$AJ$3,"") | AM32: =IF(ISNUMBER(AN32),AN32*$AM$3,"") -> -6900 | AN32: 1 | AO32: =IF(ISNUMBER(AP32),AP32*$AO$3,"") | AQ32: =IF(ISNUMBER(AR32),AR32*$AQ$3,"") | AS32: =IF(ISNUMBER(AT32),AT32*$AS$3,"") | AU32: =IF(ISNUMBER(AV32),AV32*$AU$3,"") | AW32: =IF(ISNUMBER(AX32),AX32*$AW$3,"") | BA32: =IF(ISNUMBER(BB32),BB32*$BA$3,"")
B33: 3477914 | C33: 26 | D33: 1 | E33: 이원호 | F33: =SUM(I33:M33,R33:T33,W33,AC33,AF33,AH33,AJ33,AM33,AO33,AQ33,AS33,AU33,AW33,BA33,Z33,AY33)-SUM(O33:Q33,U33) -> -203420 | G33: =$R$3 -> 0 | H33: =$T$3 -> 0 | S33: -23600 | T33: =H33 -> 0 | W33: =IF(ISNUMBER(X33),X33*$W$3,"") | Z33: =IF(ISNUMBER(AA33),AA33*$Z$3,"") | AC33: -199000 | AD33: 1 | AF33: 19020 | AG33: 1 | AH33: =IF(ISNUMBER(AI33),AI33*$AH$3,"") -> 7060 | AI33: 1 | AJ33: =IF(ISNUMBER(AK33),AK33*$AJ$3,"") | AM33: =IF(ISNUMBER(AN33),AN33*$AM$3,"") -> -6900 | AN33: 1 | AO33: =IF(ISNUMBER(AP33),AP33*$AO$3,"") | AQ33: =IF(ISNUMBER(AR33),AR33*$AQ$3,"") | AS33: =IF(ISNUMBER(AT33),AT33*$AS$3,"") | AU33: =IF(ISNUMBER(AV33),AV33*$AU$3,"") | AW33: =IF(ISNUMBER(AX33),AX33*$AW$3,"") | BA33: =IF(ISNUMBER(BB33),BB33*$BA$3,"")
B34: 3169618 | C34: 27 | D34: 1 | E34: 이윤수 | F34: =SUM(I34:M34,R34:T34,W34,AC34,AF34,AH34,AJ34,AM34,AO34,AQ34,AS34,AU34,AW34,BA34,Z34,AY34)-SUM(O34:Q34,U34) -> -206420 | G34: =$R$3 -> 0 | H34: =$T$3 -> 0 | S34: -23600 | T34: =H34 -> 0 | W34: =IF(ISNUMBER(X34),X34*$W$3,"") | Z34: =IF(ISNUMBER(AA34),AA34*$Z$3,"") | AC34: -199000 | AD34: 1 | AF34: 16020 | AG34: 1 | AH34: =IF(ISNUMBER(AI34),AI34*$AH$3,"") -> 7060 | AI34: 1 | AJ34: =IF(ISNUMBER(AK34),AK34*$AJ$3,"") | AM34: =IF(ISNUMBER(AN34),AN34*$AM$3,"") -> -6900 | AN34: 1 | AO34: =IF(ISNUMBER(AP34),AP34*$AO$3,"") | AQ34: =IF(ISNUMBER(AR34),AR34*$AQ$3,"") | AS34: =IF(ISNUMBER(AT34),AT34*$AS$3,"") | AU34: =IF(ISNUMBER(AV34),AV34*$AU$3,"") | AW34: =IF(ISNUMBER(AX34),AX34*$AW$3,"") | BA34: =IF(ISNUMBER(BB34),BB34*$BA$3,"")
B35: 3187112 | C35: 28 | D35: 1 | E35: 임명규 | F35: =SUM(I35:M35,R35:T35,W35,AC35,AF35,AH35,AJ35,AM35,AO35,AQ35,AS35,AU35,AW35,BA35,Z35,AY35)-SUM(O35:Q35,U35) -> -193670 | G35: =$R$3 -> 0 | H35: =$T$3 -> 0 | S35: -23600 | T35: =H35 -> 0 | W35: =IF(ISNUMBER(X35),X35*$W$3,"") | Z35: =IF(ISNUMBER(AA35),AA35*$Z$3,"") | AC35: -186250 | AD35: 1 | AF35: 16020 | AG35: 1 | AH35: =IF(ISNUMBER(AI35),AI35*$AH$3,"") -> 7060 | AI35: 1 | AJ35: =IF(ISNUMBER(AK35),AK35*$AJ$3,"") | AM35: =IF(ISNUMBER(AN35),AN35*$AM$3,"") -> -6900 | AN35: 1 | AO35: =IF(ISNUMBER(AP35),AP35*$AO$3,"") | AQ35: =IF(ISNUMBER(AR35),AR35*$AQ$3,"") | AS35: =IF(ISNUMBER(AT35),AT35*$AS$3,"") | AU35: =IF(ISNUMBER(AV35),AV35*$AU$3,"") | AW35: =IF(ISNUMBER(AX35),AX35*$AW$3,"") | BA35: =IF(ISNUMBER(BB35),BB35*$BA$3,"")
B36: 4697839 | C36: 29 | D36: 1 | E36: 임평강 | F36: =SUM(I36:M36,R36:T36,W36,AC36,AF36,AH36,AJ36,AM36,AO36,AQ36,AS36,AU36,AW36,BA36,Z36,AY36)-SUM(O36:Q36,U36) -> -189680 | G36: =$R$3 -> 0 | H36: =$T$3 -> 0 | S36: -23600 | T36: =H36 -> 0 | W36: =IF(ISNUMBER(X36),X36*$W$3,"") | Z36: =IF(ISNUMBER(AA36),AA36*$Z$3,"") | AC36: -186250 | AD36: 1 | AF36: 20010 | AG36: 1 | AH36: =IF(ISNUMBER(AI36),AI36*$AH$3,"") -> 7060 | AI36: 1 | AJ36: =IF(ISNUMBER(AK36),AK36*$AJ$3,"") | AM36: =IF(ISNUMBER(AN36),AN36*$AM$3,"") -> -6900 | AN36: 1 | AO36: =IF(ISNUMBER(AP36),AP36*$AO$3,"") | AQ36: =IF(ISNUMBER(AR36),AR36*$AQ$3,"") | AS36: =IF(ISNUMBER(AT36),AT36*$AS$3,"") | AU36: =IF(ISNUMBER(AV36),AV36*$AU$3,"") | AW36: =IF(ISNUMBER(AX36),AX36*$AW$3,"") | BA36: =IF(ISNUMBER(BB36),BB36*$BA$3,"")
B37: 3320919 | C37: 30 | D37: 1 | E37: 장영화 | F37: =SUM(I37:M37,R37:T37,W37,AC37,AF37,AH37,AJ37,AM37,AO37,AQ37,AS37,AU37,AW37,BA37,Z37,AY37)-SUM(O37:Q37,U37) -> 2029330 | G37: =$R$3 -> 0 | H37: =$T$3 -> 0 | I37: =1110000+1110000 -> 2220000 | J37: 3,4분기 | S37: -23600 | T37: =H37 -> 0 | W37: =IF(ISNUMBER(X37),X37*$W$3,"") | Z37: =IF(ISNUMBER(AA37),AA37*$Z$3,"") | AC37: -186250 | AD37: 1 | AF37: 19020 | AG37: 1 | AH37: =IF(ISNUMBER(AI37),AI37*$AH$3,"") -> 7060 | AI37: 1 | AJ37: =IF(ISNUMBER(AK37),AK37*$AJ$3,"") | AM37: =IF(ISNUMBER(AN37),AN37*$AM$3,"") -> -6900 | AN37: 1 | AO37: =IF(ISNUMBER(AP37),AP37*$AO$3,"") | AQ37: =IF(ISNUMBER(AR37),AR37*$AQ$3,"") | AS37: =IF(ISNUMBER(AT37),AT37*$AS$3,"") | AU37: =IF(ISNUMBER(AV37),AV37*$AU$3,"") | AW37: =IF(ISNUMBER(AX37),AX37*$AW$3,"") | BA37: =IF(ISNUMBER(BB37),BB37*$BA$3,"")
B38: 3412317 | C38: 31 | D38: 1 | E38: 전은성 | F38: =SUM(I38:M38,R38:T38,W38,AC38,AF38,AH38,AJ38,AM38,AO38,AQ38,AS38,AU38,AW38,BA38,Z38,AY38)-SUM(O38:Q38,U38) -> -203420 | G38: =$R$3 -> 0 | H38: =$T$3 -> 0 | S38: -23600 | T38: =H38 -> 0 | W38: =IF(ISNUMBER(X38),X38*$W$3,"") | Z38: =IF(ISNUMBER(AA38),AA38*$Z$3,"") | AC38: -199000 | AD38: 1 | AF38: 19020 | AG38: 1 | AH38: =IF(ISNUMBER(AI38),AI38*$AH$3,"") -> 7060 | AI38: 1 | AJ38: =IF(ISNUMBER(AK38),AK38*$AJ$3,"") | AM38: =IF(ISNUMBER(AN38),AN38*$AM$3,"") -> -6900 | AN38: 1 | AO38: =IF(ISNUMBER(AP38),AP38*$AO$3,"") | AQ38: =IF(ISNUMBER(AR38),AR38*$AQ$3,"") | AS38: =IF(ISNUMBER(AT38),AT38*$AS$3,"") | AU38: =IF(ISNUMBER(AV38),AV38*$AU$3,"") | AW38: =IF(ISNUMBER(AX38),AX38*$AW$3,"") | BA38: =IF(ISNUMBER(BB38),BB38*$BA$3,"")
B39: 3074011 | C39: 32 | D39: 1 | E39: 정금오 | F39: =SUM(I39:M39,R39:T39,W39,AC39,AF39,AH39,AJ39,AM39,AO39,AQ39,AS39,AU39,AW39,BA39,Z39,AY39)-SUM(O39:Q39,U39) -> -193670 | G39: =$R$3 -> 0 | H39: =$T$3 -> 0 | S39: -23600 | T39: =H39 -> 0 | W39: =IF(ISNUMBER(X39),X39*$W$3,"") | Z39: =IF(ISNUMBER(AA39),AA39*$Z$3,"") | AC39: -186250 | AD39: 1 | AF39: 16020 | AG39: 1 | AH39: =IF(ISNUMBER(AI39),AI39*$AH$3,"") -> 7060 | AI39: 1 | AJ39: =IF(ISNUMBER(AK39),AK39*$AJ$3,"") | AM39: =IF(ISNUMBER(AN39),AN39*$AM$3,"") -> -6900 | AN39: 1 | AO39: =IF(ISNUMBER(AP39),AP39*$AO$3,"") | AQ39: =IF(ISNUMBER(AR39),AR39*$AQ$3,"") | AS39: =IF(ISNUMBER(AT39),AT39*$AS$3,"") | AU39: =IF(ISNUMBER(AV39),AV39*$AU$3,"") | AW39: =IF(ISNUMBER(AX39),AX39*$AW$3,"") | BA39: =IF(ISNUMBER(BB39),BB39*$BA$3,"")
B40: 3105519 | C40: 33 | D40: 1 | E40: 정종은 | F40: =SUM(I40:M40,R40:T40,W40,AC40,AF40,AH40,AJ40,AM40,AO40,AQ40,AS40,AU40,AW40,BA40,Z40,AY40)-SUM(O40:Q40,U40) -> -190670 | G40: =$R$3 -> 0 | H40: =$T$3 -> 0 | S40: -23600 | T40: =H40 -> 0 | W40: =IF(ISNUMBER(X40),X40*$W$3,"") | Z40: =IF(ISNUMBER(AA40),AA40*$Z$3,"") | AC40: -186250 | AD40: 1 | AF40: 19020 | AG40: 1 | AH40: =IF(ISNUMBER(AI40),AI40*$AH$3,"") -> 7060 | AI40: 1 | AJ40: =IF(ISNUMBER(AK40),AK40*$AJ$3,"") | AM40: =IF(ISNUMBER(AN40),AN40*$AM$3,"") -> -6900 | AN40: 1 | AO40: =IF(ISNUMBER(AP40),AP40*$AO$3,"") | AQ40: =IF(ISNUMBER(AR40),AR40*$AQ$3,"") | AS40: =IF(ISNUMBER(AT40),AT40*$AS$3,"") | AU40: =IF(ISNUMBER(AV40),AV40*$AU$3,"") | AW40: =IF(ISNUMBER(AX40),AX40*$AW$3,"") | BA40: =IF(ISNUMBER(BB40),BB40*$BA$3,"")
B41: 3011921 | C41: 34 | D41: 1 | E41: 정지윤 | F41: =SUM(I41:M41,R41:T41,W41,AC41,AF41,AH41,AJ41,AM41,AO41,AQ41,AS41,AU41,AW41,BA41,Z41,AY41)-SUM(O41:Q41,U41) -> -193670 | G41: =$R$3 -> 0 | H41: =$T$3 -> 0 | S41: -23600 | T41: =H41 -> 0 | W41: =IF(ISNUMBER(X41),X41*$W$3,"") | Z41: =IF(ISNUMBER(AA41),AA41*$Z$3,"") | AC41: -186250 | AD41: 1 | AF41: 16020 | AG41: 1 | AH41: =IF(ISNUMBER(AI41),AI41*$AH$3,"") -> 7060 | AI41: 1 | AJ41: =IF(ISNUMBER(AK41),AK41*$AJ$3,"") | AM41: =IF(ISNUMBER(AN41),AN41*$AM$3,"") -> -6900 | AN41: 1 | AO41: =IF(ISNUMBER(AP41),AP41*$AO$3,"") | AQ41: =IF(ISNUMBER(AR41),AR41*$AQ$3,"") | AS41: =IF(ISNUMBER(AT41),AT41*$AS$3,"") | AU41: =IF(ISNUMBER(AV41),AV41*$AU$3,"") | AW41: =IF(ISNUMBER(AX41),AX41*$AW$3,"") | BA41: =IF(ISNUMBER(BB41),BB41*$BA$3,"")
B42: 3561117 | C42: 35 | D42: 1 | E42: 조겸전 | F42: =SUM(I42:M42,R42:T42,W42,AC42,AF42,AH42,AJ42,AM42,AO42,AQ42,AS42,AU42,AW42,BA42,Z42,AY42)-SUM(O42:Q42,U42) -> -190670 | G42: =$R$3 -> 0 | H42: =$T$3 -> 0 | S42: -23600 | T42: =H42 -> 0 | W42: =IF(ISNUMBER(X42),X42*$W$3,"") | Z42: =IF(ISNUMBER(AA42),AA42*$Z$3,"") | AC42: -186250 | AD42: 1 | AF42: 19020 | AG42: 1 | AH42: =IF(ISNUMBER(AI42),AI42*$AH$3,"") -> 7060 | AI42: 1 | AJ42: =IF(ISNUMBER(AK42),AK42*$AJ$3,"") | AM42: =IF(ISNUMBER(AN42),AN42*$AM$3,"") -> -6900 | AN42: 1 | AO42: =IF(ISNUMBER(AP42),AP42*$AO$3,"") | AQ42: =IF(ISNUMBER(AR42),AR42*$AQ$3,"") | AS42: =IF(ISNUMBER(AT42),AT42*$AS$3,"") | AU42: =IF(ISNUMBER(AV42),AV42*$AU$3,"") | AW42: =IF(ISNUMBER(AX42),AX42*$AW$3,"") | BA42: =IF(ISNUMBER(BB42),BB42*$BA$3,"")
B43: 4183013 | C43: 36 | D43: 1 | E43: 조하영 | F43: =SUM(I43:M43,R43:T43,W43,AC43,AF43,AH43,AJ43,AM43,AO43,AQ43,AS43,AU43,AW43,BA43,Z43,AY43)-SUM(O43:Q43,U43) -> -189680 | G43: =$R$3 -> 0 | H43: =$T$3 -> 0 | S43: -23600 | T43: =H43 -> 0 | W43: =IF(ISNUMBER(X43),X43*$W$3,"") | Z43: =IF(ISNUMBER(AA43),AA43*$Z$3,"") | AC43: -186250 | AD43: 1 | AF43: 20010 | AG43: 1 | AH43: =IF(ISNUMBER(AI43),AI43*$AH$3,"") -> 7060 | AI43: 1 | AJ43: =IF(ISNUMBER(AK43),AK43*$AJ$3,"") | AM43: =IF(ISNUMBER(AN43),AN43*$AM$3,"") -> -6900 | AN43: 1 | AO43: =IF(ISNUMBER(AP43),AP43*$AO$3,"") | AQ43: =IF(ISNUMBER(AR43),AR43*$AQ$3,"") | AS43: =IF(ISNUMBER(AT43),AT43*$AS$3,"") | AU43: =IF(ISNUMBER(AV43),AV43*$AU$3,"") | AW43: =IF(ISNUMBER(AX43),AX43*$AW$3,"") | BA43: =IF(ISNUMBER(BB43),BB43*$BA$3,"")
B44: 3094919 | C44: 37 | D44: 1 | E44: 차원우 | F44: =SUM(I44:M44,R44:T44,W44,AC44,AF44,AH44,AJ44,AM44,AO44,AQ44,AS44,AU44,AW44,BA44,Z44,AY44)-SUM(O44:Q44,U44) -> -193670 | G44: =$R$3 -> 0 | H44: =$T$3 -> 0 | S44: -23600 | T44: =H44 -> 0 | W44: =IF(ISNUMBER(X44),X44*$W$3,"") | Z44: =IF(ISNUMBER(AA44),AA44*$Z$3,"") | AC44: -186250 | AD44: 1 | AF44: 16020 | AG44: 1 | AH44: =IF(ISNUMBER(AI44),AI44*$AH$3,"") -> 7060 | AI44: 1 | AJ44: =IF(ISNUMBER(AK44),AK44*$AJ$3,"") | AM44: =IF(ISNUMBER(AN44),AN44*$AM$3,"") -> -6900 | AN44: 1 | AO44: =IF(ISNUMBER(AP44),AP44*$AO$3,"") | AQ44: =IF(ISNUMBER(AR44),AR44*$AQ$3,"") | AS44: =IF(ISNUMBER(AT44),AT44*$AS$3,"") | AU44: =IF(ISNUMBER(AV44),AV44*$AU$3,"") | AW44: =IF(ISNUMBER(AX44),AX44*$AW$3,"") | BA44: =IF(ISNUMBER(BB44),BB44*$BA$3,"")
B45: 4063415 | C45: 38 | D45: 1 | E45: 최은비 | F45: =SUM(I45:M45,R45:T45,W45,AC45,AF45,AH45,AJ45,AM45,AO45,AQ45,AS45,AU45,AW45,BA45,Z45,AY45)-SUM(O45:Q45,U45) -> -183250 | G45: =$R$3 -> 0 | H45: =$T$3 -> 0 | S45: -23600 | T45: =H45 -> 0 | W45: =IF(ISNUMBER(X45),X45*$W$3,"") | Z45: =IF(ISNUMBER(AA45),AA45*$Z$3,"") | AC45: -186250 | AD45: 1 | AF45: 26440 | AG45: 1 | AH45: =IF(ISNUMBER(AI45),AI45*$AH$3,"") -> 7060 | AI45: 1 | AJ45: =IF(ISNUMBER(AK45),AK45*$AJ$3,"") | AM45: =IF(ISNUMBER(AN45),AN45*$AM$3,"") -> -6900 | AN45: 1 | AO45: =IF(ISNUMBER(AP45),AP45*$AO$3,"") | AQ45: =IF(ISNUMBER(AR45),AR45*$AQ$3,"") | AS45: =IF(ISNUMBER(AT45),AT45*$AS$3,"") | AU45: =IF(ISNUMBER(AV45),AV45*$AU$3,"") | AW45: =IF(ISNUMBER(AX45),AX45*$AW$3,"") | BA45: =IF(ISNUMBER(BB45),BB45*$BA$3,"")
B46: 4351413 | C46: 39 | D46: 1 | E46: 최주민 | F46: =SUM(I46:M46,R46:T46,W46,AC46,AF46,AH46,AJ46,AM46,AO46,AQ46,AS46,AU46,AW46,BA46,Z46,AY46)-SUM(O46:Q46,U46) -> -192680 | G46: =$R$3 -> 0 | H46: =$T$3 -> 0 | S46: -23600 | T46: =H46 -> 0 | W46: =IF(ISNUMBER(X46),X46*$W$3,"") | Z46: =IF(ISNUMBER(AA46),AA46*$Z$3,"") | AC46: -186250 | AD46: 1 | AF46: 17010 | AG46: 1 | AH46: =IF(ISNUMBER(AI46),AI46*$AH$3,"") -> 7060 | AI46: 1 | AJ46: =IF(ISNUMBER(AK46),AK46*$AJ$3,"") | AM46: =IF(ISNUMBER(AN46),AN46*$AM$3,"") -> -6900 | AN46: 1 | AO46: =IF(ISNUMBER(AP46),AP46*$AO$3,"") | AQ46: =IF(ISNUMBER(AR46),AR46*$AQ$3,"") | AS46: =IF(ISNUMBER(AT46),AT46*$AS$3,"") | AU46: =IF(ISNUMBER(AV46),AV46*$AU$3,"") | AW46: =IF(ISNUMBER(AX46),AX46*$AW$3,"") | BA46: =IF(ISNUMBER(BB46),BB46*$BA$3,"")
B47: 4187912 | C47: 40 | D47: 1 | E47: 최지민 | F47: =SUM(I47:M47,R47:T47,W47,AC47,AF47,AH47,AJ47,AM47,AO47,AQ47,AS47,AU47,AW47,BA47,Z47,AY47)-SUM(O47:Q47,U47) -> -192680 | G47: =$R$3 -> 0 | H47: =$T$3 -> 0 | S47: -23600 | T47: =H47 -> 0 | W47: =IF(ISNUMBER(X47),X47*$W$3,"") | Z47: =IF(ISNUMBER(AA47),AA47*$Z$3,"") | AC47: -186250 | AD47: 1 | AF47: 17010 | AG47: 1 | AH47: =IF(ISNUMBER(AI47),AI47*$AH$3,"") -> 7060 | AI47: 1 | AJ47: =IF(ISNUMBER(AK47),AK47*$AJ$3,"") | AM47: =IF(ISNUMBER(AN47),AN47*$AM$3,"") -> -6900 | AN47: 1 | AO47: =IF(ISNUMBER(AP47),AP47*$AO$3,"") | AQ47: =IF(ISNUMBER(AR47),AR47*$AQ$3,"") | AS47: =IF(ISNUMBER(AT47),AT47*$AS$3,"") | AU47: =IF(ISNUMBER(AV47),AV47*$AU$3,"") | AW47: =IF(ISNUMBER(AX47),AX47*$AW$3,"") | BA47: =IF(ISNUMBER(BB47),BB47*$BA$3,"")
B48: 4861917 | C48: 41 | D48: 2 | E48: 강지연 | F48: =SUM(I48:M48,R48:T48,W48,AC48,AF48,AH48,AJ48,AM48,AO48,AQ48,AS48,AU48,AW48,BA48,Z48,AY48)-SUM(O48:Q48,U48) -> -104290 | G48: =$R$3 -> 0 | H48: =$T$3 -> 0 | S48: -11200 | T48: =H48 -> 0 | W48: =IF(ISNUMBER(X48),X48*$W$3,"") | Z48: =IF(ISNUMBER(AA48),AA48*$Z$3,"") | AC48: -141760 | AD48: 1 | AF48: 17010 | AG48: 1 | AH48: =IF(ISNUMBER(AI48),AI48*$AH$3,"") -> 7060 | AI48: 1 | AJ48: =IF(ISNUMBER(AK48),AK48*$AJ$3,"") | AM48: 24600 | AN48: 1 | AO48: =IF(ISNUMBER(AP48),AP48*$AO$3,"") | AQ48: =IF(ISNUMBER(AR48),AR48*$AQ$3,"") | AS48: =IF(ISNUMBER(AT48),AT48*$AS$3,"") | AU48: =IF(ISNUMBER(AV48),AV48*$AU$3,"") | AW48: =IF(ISNUMBER(AX48),AX48*$AW$3,"") | BA48: =IF(ISNUMBER(BB48),BB48*$BA$3,"")
B49: 3184715 | C49: 42 | D49: 2 | E49: 강찬영 | F49: =SUM(I49:M49,R49:T49,W49,AC49,AF49,AH49,AJ49,AM49,AO49,AQ49,AS49,AU49,AW49,BA49,Z49,AY49)-SUM(O49:Q49,U49) -> -97170 | G49: =$R$3 -> 0 | H49: =$T$3 -> 0 | S49: -11200 | T49: =H49 -> 0 | W49: =IF(ISNUMBER(X49),X49*$W$3,"") | Z49: =IF(ISNUMBER(AA49),AA49*$Z$3,"") | AC49: -133650 | AD49: 1 | AF49: 16020 | AG49: 1 | AH49: =IF(ISNUMBER(AI49),AI49*$AH$3,"") -> 7060 | AI49: 1 | AJ49: =IF(ISNUMBER(AK49),AK49*$AJ$3,"") | AM49: 24600 | AN49: 1 | AO49: =IF(ISNUMBER(AP49),AP49*$AO$3,"") | AQ49: =IF(ISNUMBER(AR49),AR49*$AQ$3,"") | AS49: =IF(ISNUMBER(AT49),AT49*$AS$3,"") | AU49: =IF(ISNUMBER(AV49),AV49*$AU$3,"") | AW49: =IF(ISNUMBER(AX49),AX49*$AW$3,"") | BA49: =IF(ISNUMBER(BB49),BB49*$BA$3,"")
B50: 3072537 | C50: 43 | D50: 2 | E50: 김민석 | F50: =SUM(I50:M50,R50:T50,W50,AC50,AF50,AH50,AJ50,AM50,AO50,AQ50,AS50,AU50,AW50,BA50,Z50,AY50)-SUM(O50:Q50,U50) -> -88270 | G50: =$R$3 -> 0 | H50: =$T$3 -> 0 | S50: -11200 | T50: =H50 -> 0 | W50: =IF(ISNUMBER(X50),X50*$W$3,"") | Z50: =IF(ISNUMBER(AA50),AA50*$Z$3,"") | AC50: -124750 | AD50: 1 | AF50: 16020 | AG50: 1 | AH50: =IF(ISNUMBER(AI50),AI50*$AH$3,"") -> 7060 | AI50: 1 | AJ50: =IF(ISNUMBER(AK50),AK50*$AJ$3,"") | AM50: 24600 | AN50: 1 | AO50: =IF(ISNUMBER(AP50),AP50*$AO$3,"") | AQ50: =IF(ISNUMBER(AR50),AR50*$AQ$3,"") | AS50: =IF(ISNUMBER(AT50),AT50*$AS$3,"") | AU50: =IF(ISNUMBER(AV50),AV50*$AU$3,"") | AW50: =IF(ISNUMBER(AX50),AX50*$AW$3,"") | BA50: =IF(ISNUMBER(BB50),BB50*$BA$3,"")
B51: 4192414 | C51: 44 | D51: 2 | E51: 김시은 | F51: =SUM(I51:M51,R51:T51,W51,AC51,AF51,AH51,AJ51,AM51,AO51,AQ51,AS51,AU51,AW51,BA51,Z51,AY51)-SUM(O51:Q51,U51) -> -108910 | G51: =$R$3 -> 0 | H51: =$T$3 -> 0 | S51: -11200 | T51: =H51 -> 0 | W51: =IF(ISNUMBER(X51),X51*$W$3,"") | Z51: =IF(ISNUMBER(AA51),AA51*$Z$3,"") | AC51: -152810 | AD51: 1 | AF51: 23440 | AG51: 1 | AH51: =IF(ISNUMBER(AI51),AI51*$AH$3,"") -> 7060 | AI51: 1 | AJ51: =IF(ISNUMBER(AK51),AK51*$AJ$3,"") | AM51: 24600 | AN51: 1 | AO51: =IF(ISNUMBER(AP51),AP51*$AO$3,"") | AQ51: =IF(ISNUMBER(AR51),AR51*$AQ$3,"") | AS51: =IF(ISNUMBER(AT51),AT51*$AS$3,"") | AU51: =IF(ISNUMBER(AV51),AV51*$AU$3,"") | AW51: =IF(ISNUMBER(AX51),AX51*$AW$3,"") | BA51: =IF(ISNUMBER(BB51),BB51*$BA$3,"")
B52: 4484414 | C52: 45 | D52: 2 | E52: 김은주 | F52: =SUM(I52:M52,R52:T52,W52,AC52,AF52,AH52,AJ52,AM52,AO52,AQ52,AS52,AU52,AW52,BA52,Z52,AY52)-SUM(O52:Q52,U52) -> -92730 | G52: =$R$3 -> 0 | H52: =$T$3 -> 0 | S52: -11200 | T52: =H52 -> 0 | W52: =IF(ISNUMBER(X52),X52*$W$3,"") | Z52: =IF(ISNUMBER(AA52),AA52*$Z$3,"") | AC52: -130200 | AD52: 1 | AF52: 17010 | AG52: 1 | AH52: =IF(ISNUMBER(AI52),AI52*$AH$3,"") -> 7060 | AI52: 1 | AJ52: =IF(ISNUMBER(AK52),AK52*$AJ$3,"") | AM52: 24600 | AN52: 1 | AO52: =IF(ISNUMBER(AP52),AP52*$AO$3,"") | AQ52: =IF(ISNUMBER(AR52),AR52*$AQ$3,"") | AS52: =IF(ISNUMBER(AT52),AT52*$AS$3,"") | AU52: =IF(ISNUMBER(AV52),AV52*$AU$3,"") | AW52: =IF(ISNUMBER(AX52),AX52*$AW$3,"") | BA52: =IF(ISNUMBER(BB52),BB52*$BA$3,"")
B53: 3125011 | C53: 46 | D53: 2 | E53: 김은창 | F53: =SUM(I53:M53,R53:T53,W53,AC53,AF53,AH53,AJ53,AM53,AO53,AQ53,AS53,AU53,AW53,BA53,Z53,AY53)-SUM(O53:Q53,U53) -> -106170 | G53: =$R$3 -> 0 | H53: =$T$3 -> 0 | S53: -11200 | T53: =H53 -> 0 | W53: =IF(ISNUMBER(X53),X53*$W$3,"") | Z53: =IF(ISNUMBER(AA53),AA53*$Z$3,"") | AC53: -142650 | AD53: 1 | AF53: 16020 | AG53: 1 | AH53: =IF(ISNUMBER(AI53),AI53*$AH$3,"") -> 7060 | AI53: 1 | AJ53: =IF(ISNUMBER(AK53),AK53*$AJ$3,"") | AM53: 24600 | AN53: 1 | AO53: =IF(ISNUMBER(AP53),AP53*$AO$3,"") | AQ53: =IF(ISNUMBER(AR53),AR53*$AQ$3,"") | AS53: =IF(ISNUMBER(AT53),AT53*$AS$3,"") | AU53: =IF(ISNUMBER(AV53),AV53*$AU$3,"") | AW53: =IF(ISNUMBER(AX53),AX53*$AW$3,"") | BA53: =IF(ISNUMBER(BB53),BB53*$BA$3,"")
B54: 4697924 | C54: 47 | D54: 2 | E54: 김혜원 | F54: =SUM(I54:M54,R54:T54,W54,AC54,AF54,AH54,AJ54,AM54,AO54,AQ54,AS54,AU54,AW54,BA54,Z54,AY54)-SUM(O54:Q54,U54) -> -123090 | G54: =$R$3 -> 0 | H54: =$T$3 -> 0 | T54: =H54 -> 0 | W54: =IF(ISNUMBER(X54),X54*$W$3,"") | Z54: =IF(ISNUMBER(AA54),AA54*$Z$3,"") | AC54: -147160 | AD54: 1 | AF54: 17010 | AG54: 1 | AH54: =IF(ISNUMBER(AI54),AI54*$AH$3,"") -> 7060 | AI54: 1 | AJ54: =IF(ISNUMBER(AK54),AK54*$AJ$3,"") | AM54: =IF(ISNUMBER(AN54),AN54*$AM$3,"") | AO54: =IF(ISNUMBER(AP54),AP54*$AO$3,"") | AQ54: =IF(ISNUMBER(AR54),AR54*$AQ$3,"") | AS54: =IF(ISNUMBER(AT54),AT54*$AS$3,"") | AU54: =IF(ISNUMBER(AV54),AV54*$AU$3,"") | AW54: =IF(ISNUMBER(AX54),AX54*$AW$3,"") | BA54: =IF(ISNUMBER(BB54),BB54*$BA$3,"")
B55: 3446725 | C55: 48 | D55: 2 | E55: 남영우 | F55: =SUM(I55:M55,R55:T55,W55,AC55,AF55,AH55,AJ55,AM55,AO55,AQ55,AS55,AU55,AW55,BA55,Z55,AY55)-SUM(O55:Q55,U55) -> -99320 | G55: =$R$3 -> 0 | H55: =$T$3 -> 0 | S55: -11200 | T55: =H55 -> 0 | W55: =IF(ISNUMBER(X55),X55*$W$3,"") | Z55: =IF(ISNUMBER(AA55),AA55*$Z$3,"") | AC55: -135800 | AD55: 1 | AF55: 16020 | AG55: 1 | AH55: =IF(ISNUMBER(AI55),AI55*$AH$3,"") -> 7060 | AI55: 1 | AJ55: =IF(ISNUMBER(AK55),AK55*$AJ$3,"") | AM55: 24600 | AN55: 1 | AO55: =IF(ISNUMBER(AP55),AP55*$AO$3,"") | AQ55: =IF(ISNUMBER(AR55),AR55*$AQ$3,"") | AS55: =IF(ISNUMBER(AT55),AT55*$AS$3,"") | AU55: =IF(ISNUMBER(AV55),AV55*$AU$3,"") | AW55: =IF(ISNUMBER(AX55),AX55*$AW$3,"") | BA55: =IF(ISNUMBER(BB55),BB55*$BA$3,"")
B56: 4481915 | C56: 49 | D56: 2 | E56: 노유진 | F56: =SUM(I56:M56,R56:T56,W56,AC56,AF56,AH56,AJ56,AM56,AO56,AQ56,AS56,AU56,AW56,BA56,Z56,AY56)-SUM(O56:Q56,U56) -> 240710 | G56: =$R$3 -> 0 | H56: =$T$3 -> 0 | K56: 232500 | L56: 1~2월분 | M56: 97500 | N56: 1~2월분 | S56: -11200 | T56: =H56 -> 0 | W56: =IF(ISNUMBER(X56),X56*$W$3,"") | Z56: =IF(ISNUMBER(AA56),AA56*$Z$3,"") -> 15000 | AA56: 1 | AB56: 1~2월분 | AC56: -141760 | AD56: 1 | AF56: 17010 | AG56: 1 | AH56: =IF(ISNUMBER(AI56),AI56*$AH$3,"") -> 7060 | AI56: 1 | AJ56: =IF(ISNUMBER(AK56),AK56*$AJ$3,"") | AM56: 24600 | AN56: 1 | AO56: =IF(ISNUMBER(AP56),AP56*$AO$3,"") | AQ56: =IF(ISNUMBER(AR56),AR56*$AQ$3,"") | AS56: =IF(ISNUMBER(AT56),AT56*$AS$3,"") | AU56: =IF(ISNUMBER(AV56),AV56*$AU$3,"") | AW56: =IF(ISNUMBER(AX56),AX56*$AW$3,"") | BA56: =IF(ISNUMBER(BB56),BB56*$BA$3,"")
B57: 4279413 | C57: 50 | D57: 2 | E57: 박경인 | F57: =SUM(I57:M57,R57:T57,W57,AC57,AF57,AH57,AJ57,AM57,AO57,AQ57,AS57,AU57,AW57,BA57,Z57,AY57)-SUM(O57:Q57,U57) -> -71000 | G57: =$R$3 -> 0 | H57: =$T$3 -> 0 | S57: -11200 | T57: =H57 -> 0 | W57: =IF(ISNUMBER(X57),X57*$W$3,"") | Z57: =IF(ISNUMBER(AA57),AA57*$Z$3,"") | AC57: -114900 | AD57: 1 | AF57: 23440 | AG57: 1 | AH57: =IF(ISNUMBER(AI57),AI57*$AH$3,"") -> 7060 | AI57: 1 | AJ57: =IF(ISNUMBER(AK57),AK57*$AJ$3,"") | AM57: 24600 | AN57: 1 | AO57: =IF(ISNUMBER(AP57),AP57*$AO$3,"") | AQ57: =IF(ISNUMBER(AR57),AR57*$AQ$3,"") | AS57: =IF(ISNUMBER(AT57),AT57*$AS$3,"") | AU57: =IF(ISNUMBER(AV57),AV57*$AU$3,"") | AW57: =IF(ISNUMBER(AX57),AX57*$AW$3,"") | BA57: =IF(ISNUMBER(BB57),BB57*$BA$3,"")
B58: 3122219 | C58: 51 | D58: 2 | E58: 박원빈 | F58: =SUM(I58:M58,R58:T58,W58,AC58,AF58,AH58,AJ58,AM58,AO58,AQ58,AS58,AU58,AW58,BA58,Z58,AY58)-SUM(O58:Q58,U58) -> -81780 | G58: =$R$3 -> 0 | H58: =$T$3 -> 0 | S58: -11200 | T58: =H58 -> 0 | W58: =IF(ISNUMBER(X58),X58*$W$3,"") | Z58: =IF(ISNUMBER(AA58),AA58*$Z$3,"") | AC58: -118260 | AD58: 1 | AF58: 16020 | AG58: 1 | AH58: =IF(ISNUMBER(AI58),AI58*$AH$3,"") -> 7060 | AI58: 1 | AJ58: =IF(ISNUMBER(AK58),AK58*$AJ$3,"") | AM58: 24600 | AN58: 1 | AO58: =IF(ISNUMBER(AP58),AP58*$AO$3,"") | AQ58: =IF(ISNUMBER(AR58),AR58*$AQ$3,"") | AS58: =IF(ISNUMBER(AT58),AT58*$AS$3,"") | AU58: =IF(ISNUMBER(AV58),AV58*$AU$3,"") | AW58: =IF(ISNUMBER(AX58),AX58*$AW$3,"") | BA58: =IF(ISNUMBER(BB58),BB58*$BA$3,"")
B59: 3495911 | C59: 52 | D59: 2 | E59: 박호근 | F59: =SUM(I59:M59,R59:T59,W59,AC59,AF59,AH59,AJ59,AM59,AO59,AQ59,AS59,AU59,AW59,BA59,Z59,AY59)-SUM(O59:Q59,U59) -> -106180 | G59: =$R$3 -> 0 | H59: =$T$3 -> 0 | S59: -11200 | T59: =H59 -> 0 | W59: =IF(ISNUMBER(X59),X59*$W$3,"") | Z59: =IF(ISNUMBER(AA59),AA59*$Z$3,"") | AC59: -142660 | AD59: 1 | AF59: 16020 | AG59: 1 | AH59: =IF(ISNUMBER(AI59),AI59*$AH$3,"") -> 7060 | AI59: 1 | AJ59: =IF(ISNUMBER(AK59),AK59*$AJ$3,"") | AM59: 24600 | AN59: 1 | AO59: =IF(ISNUMBER(AP59),AP59*$AO$3,"") | AQ59: =IF(ISNUMBER(AR59),AR59*$AQ$3,"") | AS59: =IF(ISNUMBER(AT59),AT59*$AS$3,"") | AU59: =IF(ISNUMBER(AV59),AV59*$AU$3,"") | AW59: =IF(ISNUMBER(AX59),AX59*$AW$3,"") | BA59: =IF(ISNUMBER(BB59),BB59*$BA$3,"")
B60: 3058512 | C60: 53 | D60: 2 | E60: 배문성 | F60: =SUM(I60:M60,R60:T60,W60,AC60,AF60,AH60,AJ60,AM60,AO60,AQ60,AS60,AU60,AW60,BA60,Z60,AY60)-SUM(O60:Q60,U60) -> -78420 | G60: =$R$3 -> 0 | H60: =$T$3 -> 0 | S60: -11200 | T60: =H60 -> 0 | W60: =IF(ISNUMBER(X60),X60*$W$3,"") | Z60: =IF(ISNUMBER(AA60),AA60*$Z$3,"") | AC60: -114900 | AD60: 1 | AF60: 16020 | AG60: 1 | AH60: =IF(ISNUMBER(AI60),AI60*$AH$3,"") -> 7060 | AI60: 1 | AJ60: =IF(ISNUMBER(AK60),AK60*$AJ$3,"") | AM60: 24600 | AN60: 1 | AO60: =IF(ISNUMBER(AP60),AP60*$AO$3,"") | AQ60: =IF(ISNUMBER(AR60),AR60*$AQ$3,"") | AS60: =IF(ISNUMBER(AT60),AT60*$AS$3,"") | AU60: =IF(ISNUMBER(AV60),AV60*$AU$3,"") | AW60: =IF(ISNUMBER(AX60),AX60*$AW$3,"") | BA60: =IF(ISNUMBER(BB60),BB60*$BA$3,"")
B61: 3715511 | C61: 54 | D61: 2 | E61: 배태일 | F61: =SUM(I61:M61,R61:T61,W61,AC61,AF61,AH61,AJ61,AM61,AO61,AQ61,AS61,AU61,AW61,BA61,Z61,AY61)-SUM(O61:Q61,U61) -> -78420 | G61: =$R$3 -> 0 | H61: =$T$3 -> 0 | S61: -11200 | T61: =H61 -> 0 | W61: =IF(ISNUMBER(X61),X61*$W$3,"") | Z61: =IF(ISNUMBER(AA61),AA61*$Z$3,"") | AC61: -114900 | AD61: 1 | AF61: 16020 | AG61: 1 | AH61: =IF(ISNUMBER(AI61),AI61*$AH$3,"") -> 7060 | AI61: 1 | AJ61: =IF(ISNUMBER(AK61),AK61*$AJ$3,"") | AM61: 24600 | AN61: 1 | AO61: =IF(ISNUMBER(AP61),AP61*$AO$3,"") | AQ61: =IF(ISNUMBER(AR61),AR61*$AQ$3,"") | AS61: =IF(ISNUMBER(AT61),AT61*$AS$3,"") | AU61: =IF(ISNUMBER(AV61),AV61*$AU$3,"") | AW61: =IF(ISNUMBER(AX61),AX61*$AW$3,"") | BA61: =IF(ISNUMBER(BB61),BB61*$BA$3,"")
B62: 4122218 | C62: 55 | D62: 2 | E62: 변하은 | F62: =SUM(I62:M62,R62:T62,W62,AC62,AF62,AH62,AJ62,AM62,AO62,AQ62,AS62,AU62,AW62,BA62,Z62,AY62)-SUM(O62:Q62,U62) -> -105190 | G62: =$R$3 -> 0 | H62: =$T$3 -> 0 | S62: -11200 | T62: =H62 -> 0 | W62: =IF(ISNUMBER(X62),X62*$W$3,"") | Z62: =IF(ISNUMBER(AA62),AA62*$Z$3,"") | AC62: -142660 | AD62: 1 | AF62: 17010 | AG62: 1 | AH62: =IF(ISNUMBER(AI62),AI62*$AH$3,"") -> 7060 | AI62: 1 | AJ62: =IF(ISNUMBER(AK62),AK62*$AJ$3,"") | AM62: 24600 | AN62: 1 | AO62: =IF(ISNUMBER(AP62),AP62*$AO$3,"") | AQ62: =IF(ISNUMBER(AR62),AR62*$AQ$3,"") | AS62: =IF(ISNUMBER(AT62),AT62*$AS$3,"") | AU62: =IF(ISNUMBER(AV62),AV62*$AU$3,"") | AW62: =IF(ISNUMBER(AX62),AX62*$AW$3,"") | BA62: =IF(ISNUMBER(BB62),BB62*$BA$3,"")
B63: 4059310 | C63: 56 | D63: 2 | E63: 서예원 | F63: =SUM(I63:M63,R63:T63,W63,AC63,AF63,AH63,AJ63,AM63,AO63,AQ63,AS63,AU63,AW63,BA63,Z63,AY63)-SUM(O63:Q63,U63) -> -96180 | G63: =$R$3 -> 0 | H63: =$T$3 -> 0 | S63: -11200 | T63: =H63 -> 0 | W63: =IF(ISNUMBER(X63),X63*$W$3,"") | Z63: =IF(ISNUMBER(AA63),AA63*$Z$3,"") | AC63: -133650 | AD63: 1 | AF63: 17010 | AG63: 1 | AH63: =IF(ISNUMBER(AI63),AI63*$AH$3,"") -> 7060 | AI63: 1 | AJ63: =IF(ISNUMBER(AK63),AK63*$AJ$3,"") | AM63: 24600 | AN63: 1 | AO63: =IF(ISNUMBER(AP63),AP63*$AO$3,"") | AQ63: =IF(ISNUMBER(AR63),AR63*$AQ$3,"") | AS63: =IF(ISNUMBER(AT63),AT63*$AS$3,"") | AU63: =IF(ISNUMBER(AV63),AV63*$AU$3,"") | AW63: =IF(ISNUMBER(AX63),AX63*$AW$3,"") | BA63: =IF(ISNUMBER(BB63),BB63*$BA$3,"")
B64: 3052312 | C64: 57 | D64: 2 | E64: 손이경 | F64: =SUM(I64:M64,R64:T64,W64,AC64,AF64,AH64,AJ64,AM64,AO64,AQ64,AS64,AU64,AW64,BA64,Z64,AY64)-SUM(O64:Q64,U64) -> -78420 | G64: =$R$3 -> 0 | H64: =$T$3 -> 0 | S64: -11200 | T64: =H64 -> 0 | W64: =IF(ISNUMBER(X64),X64*$W$3,"") | Z64: =IF(ISNUMBER(AA64),AA64*$Z$3,"") | AC64: -114900 | AD64: 1 | AF64: 16020 | AG64: 1 | AH64: =IF(ISNUMBER(AI64),AI64*$AH$3,"") -> 7060 | AI64: 1 | AJ64: =IF(ISNUMBER(AK64),AK64*$AJ$3,"") | AM64: 24600 | AN64: 1 | AO64: =IF(ISNUMBER(AP64),AP64*$AO$3,"") | AQ64: =IF(ISNUMBER(AR64),AR64*$AQ$3,"") | AS64: =IF(ISNUMBER(AT64),AT64*$AS$3,"") | AU64: =IF(ISNUMBER(AV64),AV64*$AU$3,"") | AW64: =IF(ISNUMBER(AX64),AX64*$AW$3,"") | BA64: =IF(ISNUMBER(BB64),BB64*$BA$3,"")
B65: 4406415 | C65: 58 | D65: 2 | E65: 우소정 | F65: =SUM(I65:M65,R65:T65,W65,AC65,AF65,AH65,AJ65,AM65,AO65,AQ65,AS65,AU65,AW65,BA65,Z65,AY65)-SUM(O65:Q65,U65) -> -93600 | G65: =$R$3 -> 0 | H65: =$T$3 -> 0 | S65: -11200 | T65: =H65 -> 0 | W65: =IF(ISNUMBER(X65),X65*$W$3,"") | Z65: =IF(ISNUMBER(AA65),AA65*$Z$3,"") | AC65: -137500 | AD65: 1 | AF65: 23440 | AG65: 1 | AH65: =IF(ISNUMBER(AI65),AI65*$AH$3,"") -> 7060 | AI65: 1 | AJ65: =IF(ISNUMBER(AK65),AK65*$AJ$3,"") | AM65: 24600 | AN65: 1 | AO65: =IF(ISNUMBER(AP65),AP65*$AO$3,"") | AQ65: =IF(ISNUMBER(AR65),AR65*$AQ$3,"") | AS65: =IF(ISNUMBER(AT65),AT65*$AS$3,"") | AU65: =IF(ISNUMBER(AV65),AV65*$AU$3,"") | AW65: =IF(ISNUMBER(AX65),AX65*$AW$3,"") | BA65: =IF(ISNUMBER(BB65),BB65*$BA$3,"")
B66: 3124416 | C66: 59 | D66: 2 | E66: 윤영주 | F66: =SUM(I66:M66,R66:T66,W66,AC66,AF66,AH66,AJ66,AM66,AO66,AQ66,AS66,AU66,AW66,BA66,Z66,AY66)-SUM(O66:Q66,U66) -> -89470 | G66: =$R$3 -> 0 | H66: =$T$3 -> 0 | S66: -11200 | T66: =H66 -> 0 | W66: =IF(ISNUMBER(X66),X66*$W$3,"") | Z66: =IF(ISNUMBER(AA66),AA66*$Z$3,"") | AC66: -125950 | AD66: 1 | AF66: 16020 | AG66: 1 | AH66: =IF(ISNUMBER(AI66),AI66*$AH$3,"") -> 7060 | AI66: 1 | AJ66: =IF(ISNUMBER(AK66),AK66*$AJ$3,"") | AM66: 24600 | AN66: 1 | AO66: =IF(ISNUMBER(AP66),AP66*$AO$3,"") | AQ66: =IF(ISNUMBER(AR66),AR66*$AQ$3,"") | AS66: =IF(ISNUMBER(AT66),AT66*$AS$3,"") | AU66: =IF(ISNUMBER(AV66),AV66*$AU$3,"") | AW66: =IF(ISNUMBER(AX66),AX66*$AW$3,"") | BA66: =IF(ISNUMBER(BB66),BB66*$BA$3,"")
B67: 3000816 | C67: 60 | D67: 2 | E67: 윤우진 | F67: =SUM(I67:M67,R67:T67,W67,AC67,AF67,AH67,AJ67,AM67,AO67,AQ67,AS67,AU67,AW67,BA67,Z67,AY67)-SUM(O67:Q67,U67) -> -130630 | G67: =$R$3 -> 0 | H67: =$T$3 -> 0 | S67: -11200 | T67: =H67 -> 0 | W67: =IF(ISNUMBER(X67),X67*$W$3,"") | Z67: =IF(ISNUMBER(AA67),AA67*$Z$3,"") | AC67: -167110 | AD67: 1 | AF67: 16020 | AG67: 1 | AH67: =IF(ISNUMBER(AI67),AI67*$AH$3,"") -> 7060 | AI67: 1 | AJ67: =IF(ISNUMBER(AK67),AK67*$AJ$3,"") | AM67: 24600 | AN67: 1 | AO67: =IF(ISNUMBER(AP67),AP67*$AO$3,"") | AQ67: =IF(ISNUMBER(AR67),AR67*$AQ$3,"") | AS67: =IF(ISNUMBER(AT67),AT67*$AS$3,"") | AU67: =IF(ISNUMBER(AV67),AV67*$AU$3,"") | AW67: =IF(ISNUMBER(AX67),AX67*$AW$3,"") | BA67: =IF(ISNUMBER(BB67),BB67*$BA$3,"")
B68: 4680123 | C68: 61 | D68: 2 | E68: 이나윤 | F68: =SUM(I68:M68,R68:T68,W68,AC68,AF68,AH68,AJ68,AM68,AO68,AQ68,AS68,AU68,AW68,BA68,Z68,AY68)-SUM(O68:Q68,U68) -> -104290 | G68: =$R$3 -> 0 | H68: =$T$3 -> 0 | S68: -11200 | T68: =H68 -> 0 | W68: =IF(ISNUMBER(X68),X68*$W$3,"") | Z68: =IF(ISNUMBER(AA68),AA68*$Z$3,"") | AC68: -141760 | AD68: 1 | AF68: 17010 | AG68: 1 | AH68: =IF(ISNUMBER(AI68),AI68*$AH$3,"") -> 7060 | AI68: 1 | AJ68: =IF(ISNUMBER(AK68),AK68*$AJ$3,"") | AM68: 24600 | AN68: 1 | AO68: =IF(ISNUMBER(AP68),AP68*$AO$3,"") | AQ68: =IF(ISNUMBER(AR68),AR68*$AQ$3,"") | AS68: =IF(ISNUMBER(AT68),AT68*$AS$3,"") | AU68: =IF(ISNUMBER(AV68),AV68*$AU$3,"") | AW68: =IF(ISNUMBER(AX68),AX68*$AW$3,"") | BA68: =IF(ISNUMBER(BB68),BB68*$BA$3,"")
B69: 3482918 | C69: 62 | D69: 2 | E69: 이병준 | F69: =SUM(I69:M69,R69:T69,W69,AC69,AF69,AH69,AJ69,AM69,AO69,AQ69,AS69,AU69,AW69,BA69,Z69,AY69)-SUM(O69:Q69,U69) -> 1530420 | G69: =$R$3 -> 0 | H69: =$T$3 -> 0 | I69: 510000 | J69: 4분기 | K69: =232500+232500+232500 -> 697500 | L69: 11~2월분 | M69: =53800+97500+97500+97500 -> 346300 | N69: 10~2월분 | S69: -11200 | T69: =H69 -> 0 | W69: =IF(ISNUMBER(X69),X69*$W$3,"") | Z69: =IF(ISNUMBER(AA69),AA69*$Z$3,"") -> 45000 | AA69: 3 | AB69: 11~2월분 | AC69: -141760 | AD69: 1 | AF69: 16020 | AG69: 1 | AH69: =IF(ISNUMBER(AI69),AI69*$AH$3,"") -> 7060 | AI69: 1 | AJ69: =IF(ISNUMBER(AK69),AK69*$AJ$3,"") | AM69: 61500 | AN69: 1 | AO69: =IF(ISNUMBER(AP69),AP69*$AO$3,"") | AQ69: =IF(ISNUMBER(AR69),AR69*$AQ$3,"") | AS69: =IF(ISNUMBER(AT69),AT69*$AS$3,"") | AU69: =IF(ISNUMBER(AV69),AV69*$AU$3,"") | AW69: =IF(ISNUMBER(AX69),AX69*$AW$3,"") | BA69: =IF(ISNUMBER(BB69),BB69*$BA$3,"")
B70: 3178715 | C70: 63 | D70: 2 | E70: 이상훈 | F70: =SUM(I70:M70,R70:T70,W70,AC70,AF70,AH70,AJ70,AM70,AO70,AQ70,AS70,AU70,AW70,BA70,Z70,AY70)-SUM(O70:Q70,U70) -> 1823530 | G70: =$R$3 -> 0 | H70: =$T$3 -> 0 | I70: =418300+424500 -> 842800 | J70: 3,4분기 | K70: =232500+232500+232500 -> 697500 | L70: 11~2월분 | M70: =97500+97500+97500 -> 292500 | N70: 11~2월분 | S70: -11200 | T70: =H70 -> 0 | W70: =IF(ISNUMBER(X70),X70*$W$3,"") | Z70: =IF(ISNUMBER(AA70),AA70*$Z$3,"") -> 45000 | AA70: 3 | AB70: 11~2월분 | AC70: -127650 | AD70: 1 | AF70: 16020 | AG70: 1 | AH70: =IF(ISNUMBER(AI70),AI70*$AH$3,"") -> 7060 | AI70: 1 | AJ70: =IF(ISNUMBER(AK70),AK70*$AJ$3,"") | AM70: 61500 | AN70: 1 | AO70: =IF(ISNUMBER(AP70),AP70*$AO$3,"") | AQ70: =IF(ISNUMBER(AR70),AR70*$AQ$3,"") | AS70: =IF(ISNUMBER(AT70),AT70*$AS$3,"") | AU70: =IF(ISNUMBER(AV70),AV70*$AU$3,"") | AW70: =IF(ISNUMBER(AX70),AX70*$AW$3,"") | BA70: =IF(ISNUMBER(BB70),BB70*$BA$3,"")
B71: 3075814 | C71: 64 | D71: 2 | E71: 이승현 | F71: =SUM(I71:M71,R71:T71,W71,AC71,AF71,AH71,AJ71,AM71,AO71,AQ71,AS71,AU71,AW71,BA71,Z71,AY71)-SUM(O71:Q71,U71) -> -87320 | G71: =$R$3 -> 0 | H71: =$T$3 -> 0 | S71: -11200 | T71: =H71 -> 0 | W71: =IF(ISNUMBER(X71),X71*$W$3,"") | Z71: =IF(ISNUMBER(AA71),AA71*$Z$3,"") | AC71: -123800 | AD71: 1 | AF71: 16020 | AG71: 1 | AH71: =IF(ISNUMBER(AI71),AI71*$AH$3,"") -> 7060 | AI71: 1 | AJ71: =IF(ISNUMBER(AK71),AK71*$AJ$3,"") | AM71: 24600 | AN71: 1 | AO71: =IF(ISNUMBER(AP71),AP71*$AO$3,"") | AQ71: =IF(ISNUMBER(AR71),AR71*$AQ$3,"") | AS71: =IF(ISNUMBER(AT71),AT71*$AS$3,"") | AU71: =IF(ISNUMBER(AV71),AV71*$AU$3,"") | AW71: =IF(ISNUMBER(AX71),AX71*$AW$3,"") | BA71: =IF(ISNUMBER(BB71),BB71*$BA$3,"")
B72: 3410310 | C72: 65 | D72: 2 | E72: 이주성 | F72: =SUM(I72:M72,R72:T72,W72,AC72,AF72,AH72,AJ72,AM72,AO72,AQ72,AS72,AU72,AW72,BA72,Z72,AY72)-SUM(O72:Q72,U72) -> -115370 | G72: =$R$3 -> 0 | H72: =$T$3 -> 0 | S72: -11200 | T72: =H72 -> 0 | W72: =IF(ISNUMBER(X72),X72*$W$3,"") | Z72: =IF(ISNUMBER(AA72),AA72*$Z$3,"") | AC72: -151850 | AD72: 1 | AF72: 16020 | AG72: 1 | AH72: =IF(ISNUMBER(AI72),AI72*$AH$3,"") -> 7060 | AI72: 1 | AJ72: =IF(ISNUMBER(AK72),AK72*$AJ$3,"") | AM72: 24600 | AN72: 1 | AO72: =IF(ISNUMBER(AP72),AP72*$AO$3,"") | AQ72: =IF(ISNUMBER(AR72),AR72*$AQ$3,"") | AS72: =IF(ISNUMBER(AT72),AT72*$AS$3,"") | AU72: =IF(ISNUMBER(AV72),AV72*$AU$3,"") | AW72: =IF(ISNUMBER(AX72),AX72*$AW$3,"") | BA72: =IF(ISNUMBER(BB72),BB72*$BA$3,"")
B73: 4801211 | C73: 66 | D73: 2 | E73: 이주연 | F73: =SUM(I73:M73,R73:T73,W73,AC73,AF73,AH73,AJ73,AM73,AO73,AQ73,AS73,AU73,AW73,BA73,Z73,AY73)-SUM(O73:Q73,U73) -> -94280 | G73: =$R$3 -> 0 | H73: =$T$3 -> 0 | W73: =IF(ISNUMBER(X73),X73*$W$3,"") | Z73: =IF(ISNUMBER(AA73),AA73*$Z$3,"") | AC73: -142950 | AD73: 1 | AF73: 17010 | AG73: 1 | AH73: =IF(ISNUMBER(AI73),AI73*$AH$3,"") -> 7060 | AI73: 1 | AJ73: =IF(ISNUMBER(AK73),AK73*$AJ$3,"") | AM73: 24600 | AN73: 1 | AO73: =IF(ISNUMBER(AP73),AP73*$AO$3,"") | AQ73: =IF(ISNUMBER(AR73),AR73*$AQ$3,"") | AS73: =IF(ISNUMBER(AT73),AT73*$AS$3,"") | AU73: =IF(ISNUMBER(AV73),AV73*$AU$3,"") | AW73: =IF(ISNUMBER(AX73),AX73*$AW$3,"") | BA73: =IF(ISNUMBER(BB73),BB73*$BA$3,"")
B74: 4449515 | C74: 67 | D74: 2 | E74: 이평주 | F74: =SUM(I74:M74,R74:T74,W74,AC74,AF74,AH74,AJ74,AM74,AO74,AQ74,AS74,AU74,AW74,BA74,Z74,AY74)-SUM(O74:Q74,U74) -> -98760 | G74: =$R$3 -> 0 | H74: =$T$3 -> 0 | S74: -11200 | T74: =H74 -> 0 | W74: =IF(ISNUMBER(X74),X74*$W$3,"") | Z74: =IF(ISNUMBER(AA74),AA74*$Z$3,"") | AC74: -142660 | AD74: 1 | AF74: 23440 | AG74: 1 | AH74: =IF(ISNUMBER(AI74),AI74*$AH$3,"") -> 7060 | AI74: 1 | AJ74: =IF(ISNUMBER(AK74),AK74*$AJ$3,"") | AM74: 24600 | AN74: 1 | AO74: =IF(ISNUMBER(AP74),AP74*$AO$3,"") | AQ74: =IF(ISNUMBER(AR74),AR74*$AQ$3,"") | AS74: =IF(ISNUMBER(AT74),AT74*$AS$3,"") | AU74: =IF(ISNUMBER(AV74),AV74*$AU$3,"") | AW74: =IF(ISNUMBER(AX74),AX74*$AW$3,"") | BA74: =IF(ISNUMBER(BB74),BB74*$BA$3,"")
B75: 4484312 | C75: 68 | D75: 2 | E75: 이하은(전주) | F75: =SUM(I75:M75,R75:T75,W75,AC75,AF75,AH75,AJ75,AM75,AO75,AQ75,AS75,AU75,AW75,BA75,Z75,AY75)-SUM(O75:Q75,U75) -> -104290 | G75: =$R$3 -> 0 | H75: =$T$3 -> 0 | S75: -11200 | T75: =H75 -> 0 | W75: =IF(ISNUMBER(X75),X75*$W$3,"") | Z75: =IF(ISNUMBER(AA75),AA75*$Z$3,"") | AC75: -141760 | AD75: 1 | AF75: 17010 | AG75: 1 | AH75: =IF(ISNUMBER(AI75),AI75*$AH$3,"") -> 7060 | AI75: 1 | AJ75: =IF(ISNUMBER(AK75),AK75*$AJ$3,"") | AM75: 24600 | AN75: 1 | AO75: =IF(ISNUMBER(AP75),AP75*$AO$3,"") | AQ75: =IF(ISNUMBER(AR75),AR75*$AQ$3,"") | AS75: =IF(ISNUMBER(AT75),AT75*$AS$3,"") | AU75: =IF(ISNUMBER(AV75),AV75*$AU$3,"") | AW75: =IF(ISNUMBER(AX75),AX75*$AW$3,"") | BA75: =IF(ISNUMBER(BB75),BB75*$BA$3,"")
B76: 4625818 | C76: 69 | D76: 2 | E76: 정다영 | F76: =SUM(I76:M76,R76:T76,W76,AC76,AF76,AH76,AJ76,AM76,AO76,AQ76,AS76,AU76,AW76,BA76,Z76,AY76)-SUM(O76:Q76,U76) -> -105190 | G76: =$R$3 -> 0 | H76: =$T$3 -> 0 | S76: -11200 | T76: =H76 -> 0 | W76: =IF(ISNUMBER(X76),X76*$W$3,"") | Z76: =IF(ISNUMBER(AA76),AA76*$Z$3,"") | AC76: -142660 | AD76: 1 | AF76: 17010 | AG76: 1 | AH76: =IF(ISNUMBER(AI76),AI76*$AH$3,"") -> 7060 | AI76: 1 | AJ76: =IF(ISNUMBER(AK76),AK76*$AJ$3,"") | AM76: 24600 | AN76: 1 | AO76: =IF(ISNUMBER(AP76),AP76*$AO$3,"") | AQ76: =IF(ISNUMBER(AR76),AR76*$AQ$3,"") | AS76: =IF(ISNUMBER(AT76),AT76*$AS$3,"") | AU76: =IF(ISNUMBER(AV76),AV76*$AU$3,"") | AW76: =IF(ISNUMBER(AX76),AX76*$AW$3,"") | BA76: =IF(ISNUMBER(BB76),BB76*$BA$3,"")
B77: 3054523 | C77: 70 | D77: 2 | E77: 정은수 | F77: =SUM(I77:M77,R77:T77,W77,AC77,AF77,AH77,AJ77,AM77,AO77,AQ77,AS77,AU77,AW77,BA77,Z77,AY77)-SUM(O77:Q77,U77) -> -87320 | G77: =$R$3 -> 0 | H77: =$T$3 -> 0 | S77: -11200 | T77: =H77 -> 0 | W77: =IF(ISNUMBER(X77),X77*$W$3,"") | Z77: =IF(ISNUMBER(AA77),AA77*$Z$3,"") | AC77: -123800 | AD77: 1 | AF77: 16020 | AG77: 1 | AH77: =IF(ISNUMBER(AI77),AI77*$AH$3,"") -> 7060 | AI77: 1 | AJ77: =IF(ISNUMBER(AK77),AK77*$AJ$3,"") | AM77: 24600 | AN77: 1 | AO77: =IF(ISNUMBER(AP77),AP77*$AO$3,"") | AQ77: =IF(ISNUMBER(AR77),AR77*$AQ$3,"") | AS77: =IF(ISNUMBER(AT77),AT77*$AS$3,"") | AU77: =IF(ISNUMBER(AV77),AV77*$AU$3,"") | AW77: =IF(ISNUMBER(AX77),AX77*$AW$3,"") | BA77: =IF(ISNUMBER(BB77),BB77*$BA$3,"")
B78: 3411627 | C78: 71 | D78: 2 | E78: 정한솔 | F78: =SUM(I78:M78,R78:T78,W78,AC78,AF78,AH78,AJ78,AM78,AO78,AQ78,AS78,AU78,AW78,BA78,Z78,AY78)-SUM(O78:Q78,U78) -> -117520 | G78: =$R$3 -> 0 | H78: =$T$3 -> 0 | S78: -11200 | T78: =H78 -> 0 | W78: =IF(ISNUMBER(X78),X78*$W$3,"") | Z78: =IF(ISNUMBER(AA78),AA78*$Z$3,"") | AC78: -154000 | AD78: 1 | AF78: 16020 | AG78: 1 | AH78: =IF(ISNUMBER(AI78),AI78*$AH$3,"") -> 7060 | AI78: 1 | AJ78: =IF(ISNUMBER(AK78),AK78*$AJ$3,"") | AM78: 24600 | AN78: 1 | AO78: =IF(ISNUMBER(AP78),AP78*$AO$3,"") | AQ78: =IF(ISNUMBER(AR78),AR78*$AQ$3,"") | AS78: =IF(ISNUMBER(AT78),AT78*$AS$3,"") | AU78: =IF(ISNUMBER(AV78),AV78*$AU$3,"") | AW78: =IF(ISNUMBER(AX78),AX78*$AW$3,"") | BA78: =IF(ISNUMBER(BB78),BB78*$BA$3,"")
B79: 3412455 | C79: 72 | D79: 2 | E79: 조웅식 | F79: =SUM(I79:M79,R79:T79,W79,AC79,AF79,AH79,AJ79,AM79,AO79,AQ79,AS79,AU79,AW79,BA79,Z79,AY79)-SUM(O79:Q79,U79) -> -89470 | G79: =$R$3 -> 0 | H79: =$T$3 -> 0 | S79: -11200 | T79: =H79 -> 0 | W79: =IF(ISNUMBER(X79),X79*$W$3,"") | Z79: =IF(ISNUMBER(AA79),AA79*$Z$3,"") | AC79: -125950 | AD79: 1 | AF79: 16020 | AG79: 1 | AH79: =IF(ISNUMBER(AI79),AI79*$AH$3,"") -> 7060 | AI79: 1 | AJ79: =IF(ISNUMBER(AK79),AK79*$AJ$3,"") | AM79: 24600 | AN79: 1 | AO79: =IF(ISNUMBER(AP79),AP79*$AO$3,"") | AQ79: =IF(ISNUMBER(AR79),AR79*$AQ$3,"") | AS79: =IF(ISNUMBER(AT79),AT79*$AS$3,"") | AU79: =IF(ISNUMBER(AV79),AV79*$AU$3,"") | AW79: =IF(ISNUMBER(AX79),AX79*$AW$3,"") | BA79: =IF(ISNUMBER(BB79),BB79*$BA$3,"")
B80: 4122213 | C80: 73 | D80: 2 | E80: 최예지 | F80: =SUM(I80:M80,R80:T80,W80,AC80,AF80,AH80,AJ80,AM80,AO80,AQ80,AS80,AU80,AW80,BA80,Z80,AY80)-SUM(O80:Q80,U80) -> -90180 | G80: =$R$3 -> 0 | H80: =$T$3 -> 0 | S80: -11200 | T80: =H80 -> 0 | W80: =IF(ISNUMBER(X80),X80*$W$3,"") | Z80: =IF(ISNUMBER(AA80),AA80*$Z$3,"") | AC80: -127650 | AD80: 1 | AF80: 17010 | AG80: 1 | AH80: =IF(ISNUMBER(AI80),AI80*$AH$3,"") -> 7060 | AI80: 1 | AJ80: =IF(ISNUMBER(AK80),AK80*$AJ$3,"") | AM80: 24600 | AN80: 1 | AO80: =IF(ISNUMBER(AP80),AP80*$AO$3,"") | AQ80: =IF(ISNUMBER(AR80),AR80*$AQ$3,"") | AS80: =IF(ISNUMBER(AT80),AT80*$AS$3,"") | AU80: =IF(ISNUMBER(AV80),AV80*$AU$3,"") | AW80: =IF(ISNUMBER(AX80),AX80*$AW$3,"") | BA80: =IF(ISNUMBER(BB80),BB80*$BA$3,"")
B81: 3080417 | C81: 74 | D81: 2 | E81: 하경훈 | F81: =SUM(I81:M81,R81:T81,W81,AC81,AF81,AH81,AJ81,AM81,AO81,AQ81,AS81,AU81,AW81,BA81,Z81,AY81)-SUM(O81:Q81,U81) -> -18830 | G81: =$R$3 -> 0 | H81: =$T$3 -> 0 | M81: 97500 | N81: 1~2월분 | S81: -11200 | T81: =H81 -> 0 | W81: =IF(ISNUMBER(X81),X81*$W$3,"") | Z81: =IF(ISNUMBER(AA81),AA81*$Z$3,"") | AC81: -152810 | AD81: 1 | AF81: 16020 | AG81: 1 | AH81: =IF(ISNUMBER(AI81),AI81*$AH$3,"") -> 7060 | AI81: 1 | AJ81: =IF(ISNUMBER(AK81),AK81*$AJ$3,"") | AM81: 24600 | AN81: 1 | AO81: =IF(ISNUMBER(AP81),AP81*$AO$3,"") | AQ81: =IF(ISNUMBER(AR81),AR81*$AQ$3,"") | AS81: =IF(ISNUMBER(AT81),AT81*$AS$3,"") | AU81: =IF(ISNUMBER(AV81),AV81*$AU$3,"") | AW81: =IF(ISNUMBER(AX81),AX81*$AW$3,"") | BA81: =IF(ISNUMBER(BB81),BB81*$BA$3,"")
B82: 4080417 | C82: 75 | D82: 2 | E82: 한소희 | F82: =SUM(I82:M82,R82:T82,W82,AC82,AF82,AH82,AJ82,AM82,AO82,AQ82,AS82,AU82,AW82,BA82,Z82,AY82)-SUM(O82:Q82,U82) -> 1050920 | G82: =$R$3 -> 0 | H82: =$T$3 -> 0 | I82: 424500 | J82: 4분기 | K82: =232500+232500 -> 465000 | L82: 12~2월분 | M82: =97500+97500 -> 195000 | N82: 12~2월분 | S82: -11200 | T82: =H82 -> 0 | W82: =IF(ISNUMBER(X82),X82*$W$3,"") -> 5000 | X82: 1 | Y82: 12월 | Z82: =IF(ISNUMBER(AA82),AA82*$Z$3,"") -> 30000 | AA82: 2 | AB82: 12~2월분 | AC82: -142950 | AD82: 1 | AF82: 17010 | AG82: 1 | AH82: =IF(ISNUMBER(AI82),AI82*$AH$3,"") -> 7060 | AI82: 1 | AJ82: =IF(ISNUMBER(AK82),AK82*$AJ$3,"") | AM82: 61500 | AN82: 1 | AO82: =IF(ISNUMBER(AP82),AP82*$AO$3,"") | AQ82: =IF(ISNUMBER(AR82),AR82*$AQ$3,"") | AS82: =IF(ISNUMBER(AT82),AT82*$AS$3,"") | AU82: =IF(ISNUMBER(AV82),AV82*$AU$3,"") | AW82: =IF(ISNUMBER(AX82),AX82*$AW$3,"") | BA82: =IF(ISNUMBER(BB82),BB82*$BA$3,"")
B83: 4171011 | C83: 76 | D83: 2 | E83: 한예진 | F83: =SUM(I83:M83,R83:T83,W83,AC83,AF83,AH83,AJ83,AM83,AO83,AQ83,AS83,AU83,AW83,BA83,Z83,AY83)-SUM(O83:Q83,U83) -> -105190 | G83: =$R$3 -> 0 | H83: =$T$3 -> 0 | S83: -11200 | T83: =H83 -> 0 | W83: =IF(ISNUMBER(X83),X83*$W$3,"") | Z83: =IF(ISNUMBER(AA83),AA83*$Z$3,"") | AC83: -142660 | AD83: 1 | AF83: 17010 | AG83: 1 | AH83: =IF(ISNUMBER(AI83),AI83*$AH$3,"") -> 7060 | AI83: 1 | AJ83: =IF(ISNUMBER(AK83),AK83*$AJ$3,"") | AM83: 24600 | AN83: 1 | AO83: =IF(ISNUMBER(AP83),AP83*$AO$3,"") | AQ83: =IF(ISNUMBER(AR83),AR83*$AQ$3,"") | AS83: =IF(ISNUMBER(AT83),AT83*$AS$3,"") | AU83: =IF(ISNUMBER(AV83),AV83*$AU$3,"") | AW83: =IF(ISNUMBER(AX83),AX83*$AW$3,"") | BA83: =IF(ISNUMBER(BB83),BB83*$BA$3,"")
B84: 3066541 | C84: 77 | D84: 2 | E84: 홍승표 | F84: =SUM(I84:M84,R84:T84,W84,AC84,AF84,AH84,AJ84,AM84,AO84,AQ84,AS84,AU84,AW84,BA84,Z84,AY84)-SUM(O84:Q84,U84) -> -116330 | G84: =$R$3 -> 0 | H84: =$T$3 -> 0 | S84: -11200 | T84: =H84 -> 0 | W84: =IF(ISNUMBER(X84),X84*$W$3,"") | Z84: =IF(ISNUMBER(AA84),AA84*$Z$3,"") | AC84: -152810 | AD84: 1 | AF84: 16020 | AG84: 1 | AH84: =IF(ISNUMBER(AI84),AI84*$AH$3,"") -> 7060 | AI84: 1 | AJ84: =IF(ISNUMBER(AK84),AK84*$AJ$3,"") | AM84: 24600 | AN84: 1 | AO84: =IF(ISNUMBER(AP84),AP84*$AO$3,"") | AQ84: =IF(ISNUMBER(AR84),AR84*$AQ$3,"") | AS84: =IF(ISNUMBER(AT84),AT84*$AS$3,"") | AU84: =IF(ISNUMBER(AV84),AV84*$AU$3,"") | AW84: =IF(ISNUMBER(AX84),AX84*$AW$3,"") | BA84: =IF(ISNUMBER(BB84),BB84*$BA$3,"")
B85: 3810115 | C85: 78 | D85: 2 | E85: 홍용기 | F85: =SUM(I85:M85,R85:T85,W85,AC85,AF85,AH85,AJ85,AM85,AO85,AQ85,AS85,AU85,AW85,BA85,Z85,AY85)-SUM(O85:Q85,U85) -> -121340 | G85: =$R$3 -> 0 | H85: =$T$3 -> 0 | S85: -11200 | T85: =H85 -> 0 | W85: =IF(ISNUMBER(X85),X85*$W$3,"") | Z85: =IF(ISNUMBER(AA85),AA85*$Z$3,"") | AC85: -150760 | AD85: 1 | AF85: 16020 | AG85: 1 | AH85: =IF(ISNUMBER(AI85),AI85*$AH$3,"") | AJ85: =IF(ISNUMBER(AK85),AK85*$AJ$3,"") | AM85: 24600 | AN85: 1 | AO85: =IF(ISNUMBER(AP85),AP85*$AO$3,"") | AQ85: =IF(ISNUMBER(AR85),AR85*$AQ$3,"") | AS85: =IF(ISNUMBER(AT85),AT85*$AS$3,"") | AU85: =IF(ISNUMBER(AV85),AV85*$AU$3,"") | AW85: =IF(ISNUMBER(AX85),AX85*$AW$3,"") | BA85: =IF(ISNUMBER(BB85),BB85*$BA$3,"")
C86: 79 | D86: 2 | E86: 권영재 | F86: =SUM(I86:M86,R86:T86,W86,AC86,AF86,AH86,AJ86,AM86,AO86,AQ86,AS86,AU86,AW86,BA86,Z86,AY86)-SUM(O86:Q86,U86) -> -135570 | T86: =H86 -> 0 | AC86: -190150 | AD86: 1 | AF86: =IF(ISNUMBER(AG86),AG86*$AF$3,"") -> 16020 | AG86: 1 | AH86: =IF(ISNUMBER(AI86),AI86*$AH$3,"") -> 7060 | AI86: 1 | AJ86: =IF(ISNUMBER(AK86),AK86*$AJ$3,"") | AM86: 31500 | AN86: 1 | AO86: =IF(ISNUMBER(AP86),AP86*$AO$3,"")
B87: 3566313 | C87: 80 | D87: 3 | E87: 고경남 | F87: =SUM(I87:M87,R87:T87,W87,AC87,AF87,AH87,AJ87,AM87,AO87,AQ87,AS87,AU87,AW87,BA87,Z87,AY87)-SUM(O87:Q87,U87) -> -108525 | G87: =$R$3 -> 0 | H87: =$T$3 -> 0 | S87: -32900 | T87: =H87 -> 0 | W87: =IF(ISNUMBER(X87),X87*$W$3,"") | AC87: -150805 | AD87: 1 | AF87: 16020 | AG87: 1 | AH87: =IF(ISNUMBER(AI87),AI87*$AH$3,"") -> 7060 | AI87: 1 | AJ87: =IF(ISNUMBER(AK87),AK87*$AJ$3,"") | AM87: =IF(ISNUMBER(AN87),AN87*$AM$3,"") -> -6900 | AN87: 1 | AO87: =IF(ISNUMBER(AP87),AP87*$AO$3,"") -> 59000 | AP87: 1 | AQ87: =IF(ISNUMBER(AR87),AR87*$AQ$3,"") | AS87: =IF(ISNUMBER(AT87),AT87*$AS$3,"") | AU87: =IF(ISNUMBER(AV87),AV87*$AU$3,"") | AW87: =IF(ISNUMBER(AX87),AX87*$AW$3,"") | BA87: =IF(ISNUMBER(BB87),BB87*$BA$3,"")
B88: 3352013 | C88: 81 | D88: 3 | E88: 권민 | F88: =SUM(I88:M88,R88:T88,W88,AC88,AF88,AH88,AJ88,AM88,AO88,AQ88,AS88,AU88,AW88,BA88,Z88,AY88)-SUM(O88:Q88,U88) -> -91625 | G88: =$R$3 -> 0 | H88: =$T$3 -> 0 | S88: -11200 | T88: =H88 -> 0 | W88: =IF(ISNUMBER(X88),X88*$W$3,"") | AC88: -155605 | AD88: 1 | AF88: 16020 | AG88: 1 | AH88: =IF(ISNUMBER(AI88),AI88*$AH$3,"") -> 7060 | AI88: 1 | AJ88: =IF(ISNUMBER(AK88),AK88*$AJ$3,"") | AM88: =IF(ISNUMBER(AN88),AN88*$AM$3,"") -> -6900 | AN88: 1 | AO88: =IF(ISNUMBER(AP88),AP88*$AO$3,"") -> 59000 | AP88: 1 | AQ88: =IF(ISNUMBER(AR88),AR88*$AQ$3,"") | AS88: =IF(ISNUMBER(AT88),AT88*$AS$3,"") | AU88: =IF(ISNUMBER(AV88),AV88*$AU$3,"") | AW88: =IF(ISNUMBER(AX88),AX88*$AW$3,"") | BA88: =IF(ISNUMBER(BB88),BB88*$BA$3,"")
B89: 4162813 | C89: 82 | D89: 3 | E89: 김다은 | F89: =SUM(I89:M89,R89:T89,W89,AC89,AF89,AH89,AJ89,AM89,AO89,AQ89,AS89,AU89,AW89,BA89,Z89,AY89)-SUM(O89:Q89,U89) -> -112335 | G89: =$R$3 -> 0 | H89: =$T$3 -> 0 | S89: -32900 | T89: =H89 -> 0 | W89: =IF(ISNUMBER(X89),X89*$W$3,"") | AC89: -155605 | AD89: 1 | AF89: 17010 | AG89: 1 | AH89: =IF(ISNUMBER(AI89),AI89*$AH$3,"") -> 7060 | AI89: 1 | AJ89: =IF(ISNUMBER(AK89),AK89*$AJ$3,"") | AM89: =IF(ISNUMBER(AN89),AN89*$AM$3,"") -> -6900 | AN89: 1 | AO89: =IF(ISNUMBER(AP89),AP89*$AO$3,"") -> 59000 | AP89: 1 | AQ89: =IF(ISNUMBER(AR89),AR89*$AQ$3,"") | AS89: =IF(ISNUMBER(AT89),AT89*$AS$3,"") | AU89: =IF(ISNUMBER(AV89),AV89*$AU$3,"") | AW89: =IF(ISNUMBER(AX89),AX89*$AW$3,"") | BA89: =IF(ISNUMBER(BB89),BB89*$BA$3,"")
B90: 3682510 | C90: 83 | D90: 3 | E90: 김서안 | F90: =SUM(I90:M90,R90:T90,W90,AC90,AF90,AH90,AJ90,AM90,AO90,AQ90,AS90,AU90,AW90,BA90,Z90,AY90)-SUM(O90:Q90,U90) -> -127455 | G90: =$R$3 -> 0 | H90: =$T$3 -> 0 | S90: -32900 | T90: =H90 -> 0 | W90: =IF(ISNUMBER(X90),X90*$W$3,"") | AC90: -169735 | AD90: 1 | AF90: 16020 | AG90: 1 | AH90: =IF(ISNUMBER(AI90),AI90*$AH$3,"") -> 7060 | AI90: 1 | AJ90: =IF(ISNUMBER(AK90),AK90*$AJ$3,"") | AM90: =IF(ISNUMBER(AN90),AN90*$AM$3,"") -> -6900 | AN90: 1 | AO90: =IF(ISNUMBER(AP90),AP90*$AO$3,"") -> 59000 | AP90: 1 | AQ90: =IF(ISNUMBER(AR90),AR90*$AQ$3,"") | AS90: =IF(ISNUMBER(AT90),AT90*$AS$3,"") | AU90: =IF(ISNUMBER(AV90),AV90*$AU$3,"") | AW90: =IF(ISNUMBER(AX90),AX90*$AW$3,"") | BA90: =IF(ISNUMBER(BB90),BB90*$BA$3,"")
B91: 4243126 | C91: 84 | D91: 3 | E91: 김서영 | F91: =SUM(I91:M91,R91:T91,W91,AC91,AF91,AH91,AJ91,AM91,AO91,AQ91,AS91,AU91,AW91,BA91,Z91,AY91)-SUM(O91:Q91,U91) -> -57435 | G91: =$R$3 -> 0 | H91: =$T$3 -> 0 | S91: -32900 | T91: =H91 -> 0 | W91: =IF(ISNUMBER(X91),X91*$W$3,"") | AC91: -100705 | AD91: 1 | AF91: 17010 | AG91: 1 | AH91: =IF(ISNUMBER(AI91),AI91*$AH$3,"") -> 7060 | AI91: 1 | AJ91: =IF(ISNUMBER(AK91),AK91*$AJ$3,"") | AM91: =IF(ISNUMBER(AN91),AN91*$AM$3,"") -> -6900 | AN91: 1 | AO91: =IF(ISNUMBER(AP91),AP91*$AO$3,"") -> 59000 | AP91: 1 | AQ91: =IF(ISNUMBER(AR91),AR91*$AQ$3,"") | AS91: =IF(ISNUMBER(AT91),AT91*$AS$3,"") | AU91: =IF(ISNUMBER(AV91),AV91*$AU$3,"") | AW91: =IF(ISNUMBER(AX91),AX91*$AW$3,"") | BA91: =IF(ISNUMBER(BB91),BB91*$BA$3,"")
B92: 3735124 | C92: 85 | D92: 3 | E92: 김성동 | F92: =SUM(I92:M92,R92:T92,W92,AC92,AF92,AH92,AJ92,AM92,AO92,AQ92,AS92,AU92,AW92,BA92,Z92,AY92)-SUM(O92:Q92,U92) -> -78770 | G92: =$R$3 -> 0 | H92: =$T$3 -> 0 | S92: -32900 | T92: =H92 -> 0 | W92: =IF(ISNUMBER(X92),X92*$W$3,"") | AC92: -121050 | AD92: 1 | AF92: 16020 | AG92: 1 | AH92: =IF(ISNUMBER(AI92),AI92*$AH$3,"") -> 7060 | AI92: 1 | AJ92: =IF(ISNUMBER(AK92),AK92*$AJ$3,"") | AM92: =IF(ISNUMBER(AN92),AN92*$AM$3,"") -> -6900 | AN92: 1 | AO92: =IF(ISNUMBER(AP92),AP92*$AO$3,"") -> 59000 | AP92: 1 | AQ92: =IF(ISNUMBER(AR92),AR92*$AQ$3,"") | AS92: =IF(ISNUMBER(AT92),AT92*$AS$3,"") | AU92: =IF(ISNUMBER(AV92),AV92*$AU$3,"") | AW92: =IF(ISNUMBER(AX92),AX92*$AW$3,"") | BA92: =IF(ISNUMBER(BB92),BB92*$BA$3,"")
B93: 3217020 | C93: 86 | D93: 3 | E93: 김유진 | F93: =SUM(I93:M93,R93:T93,W93,AC93,AF93,AH93,AJ93,AM93,AO93,AQ93,AS93,AU93,AW93,BA93,Z93,AY93)-SUM(O93:Q93,U93) -> 162475 | G93: =$R$3 -> 0 | H93: =$T$3 -> 0 | S93: -32900 | T93: =H93 -> 0 | W93: =IF(ISNUMBER(X93),X93*$W$3,"") | AC93: -148105 | AD93: 1 | AF93: 16020 | AG93: 1 | AH93: =IF(ISNUMBER(AI93),AI93*$AH$3,"") -> 7060 | AI93: 1 | AJ93: =IF(ISNUMBER(AK93),AK93*$AJ$3,"") -> 268300 | AK93: 1 | AM93: =IF(ISNUMBER(AN93),AN93*$AM$3,"") -> -6900 | AN93: 1 | AO93: =IF(ISNUMBER(AP93),AP93*$AO$3,"") -> 59000 | AP93: 1 | AQ93: =IF(ISNUMBER(AR93),AR93*$AQ$3,"") | AS93: =IF(ISNUMBER(AT93),AT93*$AS$3,"") | AU93: =IF(ISNUMBER(AV93),AV93*$AU$3,"") | AW93: =IF(ISNUMBER(AX93),AX93*$AW$3,"") | BA93: =IF(ISNUMBER(BB93),BB93*$BA$3,"")
B94: 4580749 | C94: 87 | D94: 3 | E94: 김희경 | F94: =SUM(I94:M94,R94:T94,W94,AC94,AF94,AH94,AJ94,AM94,AO94,AQ94,AS94,AU94,AW94,BA94,Z94,AY94)-SUM(O94:Q94,U94) -> -96605 | G94: =$R$3 -> 0 | H94: =$T$3 -> 0 | S94: -32900 | T94: =H94 -> 0 | W94: =IF(ISNUMBER(X94),X94*$W$3,"") | AC94: -139875 | AD94: 1 | AF94: 17010 | AG94: 1 | AH94: =IF(ISNUMBER(AI94),AI94*$AH$3,"") -> 7060 | AI94: 1 | AJ94: =IF(ISNUMBER(AK94),AK94*$AJ$3,"") | AM94: =IF(ISNUMBER(AN94),AN94*$AM$3,"") -> -6900 | AN94: 1 | AO94: =IF(ISNUMBER(AP94),AP94*$AO$3,"") -> 59000 | AP94: 1 | AQ94: =IF(ISNUMBER(AR94),AR94*$AQ$3,"") | AS94: =IF(ISNUMBER(AT94),AT94*$AS$3,"") | AU94: =IF(ISNUMBER(AV94),AV94*$AU$3,"") | AW94: =IF(ISNUMBER(AX94),AX94*$AW$3,"") | BA94: =IF(ISNUMBER(BB94),BB94*$BA$3,"")
B95: 4064010 | C95: 88 | D95: 3 | E95: 문윤정 | F95: =SUM(I95:M95,R95:T95,W95,AC95,AF95,AH95,AJ95,AM95,AO95,AQ95,AS95,AU95,AW95,BA95,Z95,AY95)-SUM(O95:Q95,U95) -> -83105 | G95: =$R$3 -> 0 | H95: =$T$3 -> 0 | S95: -32900 | T95: =H95 -> 0 | W95: =IF(ISNUMBER(X95),X95*$W$3,"") | AC95: -132805 | AD95: 1 | AF95: 23440 | AG95: 1 | AH95: =IF(ISNUMBER(AI95),AI95*$AH$3,"") -> 7060 | AI95: 1 | AJ95: =IF(ISNUMBER(AK95),AK95*$AJ$3,"") | AM95: =IF(ISNUMBER(AN95),AN95*$AM$3,"") -> -6900 | AN95: 1 | AO95: =IF(ISNUMBER(AP95),AP95*$AO$3,"") -> 59000 | AP95: 1 | AQ95: =IF(ISNUMBER(AR95),AR95*$AQ$3,"") | AS95: =IF(ISNUMBER(AT95),AT95*$AS$3,"") | AU95: =IF(ISNUMBER(AV95),AV95*$AU$3,"") | AW95: =IF(ISNUMBER(AX95),AX95*$AW$3,"") | BA95: =IF(ISNUMBER(BB95),BB95*$BA$3,"")
B96: 4080415 | C96: 89 | D96: 3 | E96: 문은영 | F96: =SUM(I96:M96,R96:T96,W96,AC96,AF96,AH96,AJ96,AM96,AO96,AQ96,AS96,AU96,AW96,BA96,Z96,AY96)-SUM(O96:Q96,U96) -> -115260 | G96: =$R$3 -> 0 | H96: =$T$3 -> 0 | S96: -32900 | T96: =H96 -> 0 | W96: =IF(ISNUMBER(X96),X96*$W$3,"") | AC96: -158530 | AD96: 1 | AF96: 17010 | AG96: 1 | AH96: =IF(ISNUMBER(AI96),AI96*$AH$3,"") -> 7060 | AI96: 1 | AJ96: =IF(ISNUMBER(AK96),AK96*$AJ$3,"") | AM96: =IF(ISNUMBER(AN96),AN96*$AM$3,"") -> -6900 | AN96: 1 | AO96: =IF(ISNUMBER(AP96),AP96*$AO$3,"") -> 59000 | AP96: 1 | AQ96: =IF(ISNUMBER(AR96),AR96*$AQ$3,"") | AS96: =IF(ISNUMBER(AT96),AT96*$AS$3,"") | AU96: =IF(ISNUMBER(AV96),AV96*$AU$3,"") | AW96: =IF(ISNUMBER(AX96),AX96*$AW$3,"") | BA96: =IF(ISNUMBER(BB96),BB96*$BA$3,"")
B97: 3685919 | C97: 90 | D97: 3 | E97: 박동건 | F97: =SUM(I97:M97,R97:T97,W97,AC97,AF97,AH97,AJ97,AM97,AO97,AQ97,AS97,AU97,AW97,BA97,Z97,AY97)-SUM(O97:Q97,U97) -> -54370 | G97: =$R$3 -> 0 | H97: =$T$3 -> 0 | S97: -32900 | T97: =H97 -> 0 | W97: =IF(ISNUMBER(X97),X97*$W$3,"") | AC97: -96650 | AD97: 1 | AF97: 16020 | AG97: 1 | AH97: =IF(ISNUMBER(AI97),AI97*$AH$3,"") -> 7060 | AI97: 1 | AJ97: =IF(ISNUMBER(AK97),AK97*$AJ$3,"") | AM97: =IF(ISNUMBER(AN97),AN97*$AM$3,"") -> -6900 | AN97: 1 | AO97: =IF(ISNUMBER(AP97),AP97*$AO$3,"") -> 59000 | AP97: 1 | AQ97: =IF(ISNUMBER(AR97),AR97*$AQ$3,"") | AS97: =IF(ISNUMBER(AT97),AT97*$AS$3,"") | AU97: =IF(ISNUMBER(AV97),AV97*$AU$3,"") | AW97: =IF(ISNUMBER(AX97),AX97*$AW$3,"") | BA97: =IF(ISNUMBER(BB97),BB97*$BA$3,"")
B98: 4874227 | C98: 91 | D98: 3 | E98: 방소연 | F98: =SUM(I98:M98,R98:T98,W98,AC98,AF98,AH98,AJ98,AM98,AO98,AQ98,AS98,AU98,AW98,BA98,Z98,AY98)-SUM(O98:Q98,U98) -> -60580 | G98: =$R$3 -> 0 | H98: =$T$3 -> 0 | S98: -32900 | T98: =H98 -> 0 | W98: =IF(ISNUMBER(X98),X98*$W$3,"") | AC98: -103850 | AD98: 1 | AF98: 17010 | AG98: 1 | AH98: =IF(ISNUMBER(AI98),AI98*$AH$3,"") -> 7060 | AI98: 1 | AJ98: =IF(ISNUMBER(AK98),AK98*$AJ$3,"") | AM98: =IF(ISNUMBER(AN98),AN98*$AM$3,"") -> -6900 | AN98: 1 | AO98: =IF(ISNUMBER(AP98),AP98*$AO$3,"") -> 59000 | AP98: 1 | AQ98: =IF(ISNUMBER(AR98),AR98*$AQ$3,"") | AS98: =IF(ISNUMBER(AT98),AT98*$AS$3,"") | AU98: =IF(ISNUMBER(AV98),AV98*$AU$3,"") | BA98: =IF(ISNUMBER(BB98),BB98*$BA$3,"")
B99: 3078311 | C99: 92 | D99: 3 | E99: 배건열 | F99: =SUM(I99:M99,R99:T99,W99,AC99,AF99,AH99,AJ99,AM99,AO99,AQ99,AS99,AU99,AW99,BA99,Z99,AY99)-SUM(O99:Q99,U99) -> -70125 | G99: =$R$3 -> 0 | H99: =$T$3 -> 0 | S99: -32900 | T99: =H99 -> 0 | W99: =IF(ISNUMBER(X99),X99*$W$3,"") | AC99: -112405 | AD99: 1 | AF99: 16020 | AG99: 1 | AH99: =IF(ISNUMBER(AI99),AI99*$AH$3,"") -> 7060 | AI99: 1 | AJ99: =IF(ISNUMBER(AK99),AK99*$AJ$3,"") | AM99: =IF(ISNUMBER(AN99),AN99*$AM$3,"") -> -6900 | AN99: 1 | AO99: =IF(ISNUMBER(AP99),AP99*$AO$3,"") -> 59000 | AP99: 1 | AQ99: =IF(ISNUMBER(AR99),AR99*$AQ$3,"") | AS99: =IF(ISNUMBER(AT99),AT99*$AS$3,"") | AU99: =IF(ISNUMBER(AV99),AV99*$AU$3,"") | AW99: =IF(ISNUMBER(AX99),AX99*$AW$3,"") | BA99: =IF(ISNUMBER(BB99),BB99*$BA$3,"")
B100: 4082936 | C100: 93 | D100: 3 | E100: 배유미 | F100: =SUM(I100:M100,R100:T100,W100,AC100,AF100,AH100,AJ100,AM100,AO100,AQ100,AS100,AU100,AW100,BA100,Z100,AY100)-SUM(O100:Q100,U100) -> 4038420 | G100: =$R$3 -> 0 | H100: =$T$3 -> 0 | I100: =1110000+1110000+1110000 -> 3330000 | J100: 2,3,4분기 | K100: =232500+116250 -> 348750 | L100: 12~1월분 | M100: =97500+48750 -> 146250 | N100: 12~1월분 | S100: -32900 | T100: =H100 -> 0 | W100: =IF(ISNUMBER(X100),X100*$W$3,"") | Z100: 22500 | AA100: 2 | AB100: 12~1월분 | AC100: -120650 | AD100: 1 | AF100: 17010 | AG100: 1 | AH100: =IF(ISNUMBER(AI100),AI100*$AH$3,"") -> 7060 | AI100: 1 | AJ100: =IF(ISNUMBER(AK100),AK100*$AJ$3,"") -> 268300 | AK100: 1 | AM100: =IF(ISNUMBER(AN100),AN100*$AM$3,"") -> -6900 | AN100: 1 | AO100: =IF(ISNUMBER(AP100),AP100*$AO$3,"") -> 59000 | AP100: 1 | AQ100: =IF(ISNUMBER(AR100),AR100*$AQ$3,"") | AS100: =IF(ISNUMBER(AT100),AT100*$AS$3,"") | AU100: =IF(ISNUMBER(AV100),AV100*$AU$3,"") | AW100: =IF(ISNUMBER(AX100),AX100*$AW$3,"") | BA100: =IF(ISNUMBER(BB100),BB100*$BA$3,"")
B101: 3823314 | C101: 94 | D101: 3 | E101: 성치호 | F101: =SUM(I101:M101,R101:T101,W101,AC101,AF101,AH101,AJ101,AM101,AO101,AQ101,AS101,AU101,AW101,BA101,Z101,AY101)-SUM(O101:Q101,U101) -> -45470 | G101: =$R$3 -> 0 | H101: =$T$3 -> 0 | T101: =H101 -> 0 | W101: =IF(ISNUMBER(X101),X101*$W$3,"") | AC101: -120650 | AD101: 1 | AF101: 16020 | AG101: 1 | AH101: =IF(ISNUMBER(AI101),AI101*$AH$3,"") -> 7060 | AI101: 1 | AJ101: =IF(ISNUMBER(AK101),AK101*$AJ$3,"") | AM101: =IF(ISNUMBER(AN101),AN101*$AM$3,"") -> -6900 | AN101: 1 | AO101: =IF(ISNUMBER(AP101),AP101*$AO$3,"") -> 59000 | AP101: 1 | AQ101: =IF(ISNUMBER(AR101),AR101*$AQ$3,"") | AS101: =IF(ISNUMBER(AT101),AT101*$AS$3,"") | AU101: =IF(ISNUMBER(AV101),AV101*$AU$3,"") | AW101: =IF(ISNUMBER(AX101),AX101*$AW$3,"") | BA101: =IF(ISNUMBER(BB101),BB101*$BA$3,"")
B102: 4692317 | C102: 95 | D102: 3 | E102: 손예진 | F102: =SUM(I102:M102,R102:T102,W102,AC102,AF102,AH102,AJ102,AM102,AO102,AQ102,AS102,AU102,AW102,BA102,Z102,AY102)-SUM(O102:Q102,U102) -> -103560 | G102: =$R$3 -> 0 | H102: =$T$3 -> 0 | S102: -32900 | T102: =H102 -> 0 | W102: =IF(ISNUMBER(X102),X102*$W$3,"") | AC102: -146830 | AD102: 1 | AF102: 17010 | AG102: 1 | AH102: =IF(ISNUMBER(AI102),AI102*$AH$3,"") -> 7060 | AI102: 1 | AJ102: =IF(ISNUMBER(AK102),AK102*$AJ$3,"") | AM102: =IF(ISNUMBER(AN102),AN102*$AM$3,"") -> -6900 | AN102: 1 | AO102: =IF(ISNUMBER(AP102),AP102*$AO$3,"") -> 59000 | AP102: 1 | AQ102: =IF(ISNUMBER(AR102),AR102*$AQ$3,"") | AS102: =IF(ISNUMBER(AT102),AT102*$AS$3,"") | AU102: =IF(ISNUMBER(AV102),AV102*$AU$3,"") | AW102: =IF(ISNUMBER(AX102),AX102*$AW$3,"") | BA102: =IF(ISNUMBER(BB102),BB102*$BA$3,"")
...

Sheet 2018학년도정산서
C3: 2018년학년도 정산서
C5: 학생 주민등록번호 뒷자리 :
C6: 이름 : | D6: =VLOOKUP(G5,데이터!$B$8:$BA$121,4,FALSE) -> #N/A | H6: 고 ( | I6: =VLOOKUP(G5,데이터!$B$8:$BA$121,3,FALSE) -> #N/A | J6: ) | K6: 학년
C8: 미납분 | E8: =데이터!R125 -> 수업료 | G8: =IF(VLOOKUP($G$5,데이터!$B$8:$BB$121,9,FALSE)="","",VLOOKUP($G$5,데이터!$B$8:$BB$121,9,FALSE)) -> #N/A | H8: =IF(ISBLANK(VLOOKUP($G$5,데이터!$B$8:$BB$121,8,FALSE)),0,VLOOKUP($G$5,데이터!$B$8:$BB$121,8,FALSE)) -> #N/A | K8: 원
E9: 급식비 | G9: =IF(VLOOKUP($G$5,데이터!$B$8:$BB$121,11,FALSE)="","",VLOOKUP($G$5,데이터!$B$8:$BB$121,11,FALSE)) -> #N/A | H9: =IF(ISBLANK(VLOOKUP($G$5,데이터!$B$8:$BB$121,10,FALSE)),0,VLOOKUP($G$5,데이터!$B$8:$BB$121,10,FALSE)) -> #N/A | K9: 원
E10: =데이터!M125 -> 기숙사비 | G10: =IF(VLOOKUP($G$5,데이터!$B$8:$BB$121,13,FALSE)="","",VLOOKUP($G$5,데이터!$B$8:$BB$121,13,FALSE)) -> #N/A | H10: =VLOOKUP($G$5,데이터!$B$8:$BB$121,12,FALSE) -> #N/A | K10: 원
C11: 2018년 4분기 | E11: 수업료 | H11: =VLOOKUP($G$5,데이터!$B$8:$BB$121,17,FALSE)-VLOOKUP($G$5,데이터!$B$8:$BB$121,14,FALSE) -> #N/A | K11: 원
C12: 2018학년도 정산분 | E12: =데이터!S125 -> 급식비 | H12: =VLOOKUP($G$5,데이터!$B$8:$BB$121,18,FALSE)-VLOOKUP($G$5,데이터!$B$8:$BB$121,15,FALSE) -> #N/A | K12: 원
E13: =데이터!T125 -> 기숙사비 | H13: =VLOOKUP($G$5,데이터!$B$8:$BB$121,19,FALSE)-VLOOKUP($G$5,데이터!$B$8:$BB$121,16,FALSE) -> #N/A | K13: 원
E14: =IF(H14=0,"",데이터!U6) -> #N/A | G14: =IF(VLOOKUP($G$5,데이터!$B$8:$BB$121,21,FALSE)="","",VLOOKUP($G$5,데이터!$B$8:$BB$121,21,FALSE)) -> #N/A | H14: =IF(VLOOKUP($G$5,데이터!$B$8:$BB$121,20,FALSE)="",0,VLOOKUP($G$5,데이터!$B$8:$BB$121,20,FALSE)) -> #N/A | K14: 원
E15: =IF(VLOOKUP($G$5,데이터!$B$8:$BB$121,23,FALSE)="","",IF(VLOOKUP($G$5,데이터!$B$8:$BB$121,24,FALSE)="","(12월분)",VLOOKUP($G$5,데이터!$B$8:$BB$121,24,FALSE))) -> #N/A | H15: =IF(VLOOKUP($G$5,데이터!$B$8:$BB$121,23,FALSE)="",0,VLOOKUP($G$5,데이터!$B$8:$BB$121,22,FALSE)) -> #N/A | K15: 원
C16: =IF(VLOOKUP($G$5,데이터!$B$8:$BB$121,26,FALSE)="","","우유비") -> #N/A | E16: =IF(VLOOKUP($G$5,데이터!$B$8:$BB$121,26,FALSE)="","",IF(VLOOKUP($G$5,데이터!$B$8:$BB$121,27,FALSE)="","(1~2월분)",VLOOKUP($G$5,데이터!$B$8:$BB$121,27,FALSE))) -> #N/A | H16: =IF(VLOOKUP($G$5,데이터!$B$8:$BB$121,26,FALSE)="",0,VLOOKUP($G$5,데이터!$B$8:$BB$121,25,FALSE)) -> #N/A | K16: 원
C17: =IF(VLOOKUP($G$5,데이터!$B$8:$BB$121,29,FALSE)="","",데이터!AC124) -> #N/A | E17: =IF(VLOOKUP($G$5,데이터!$B$8:$BB$121,30,FALSE)="","",VLOOKUP($G$5,데이터!$B$8:$BB$121,30,FALSE)) -> #N/A | H17: =IF(VLOOKUP($G$5,데이터!$B$8:$BB$121,29,FALSE)="",0,VLOOKUP($G$5,데이터!$B$8:$BB$121,28,FALSE)) -> #N/A | K17: 원
C18: =IF(VLOOKUP($G$5,데이터!$B$8:$BB$121,41,FALSE)="","","졸업앨범비") -> #N/A | H18: =IF(VLOOKUP($G$5,데이터!$B$8:$BB$121,40,FALSE)="",0,VLOOKUP($G$5,데이터!$B$8:$BB$121,40,FALSE)) -> #N/A | K18: 원
C19: =IF(VLOOKUP($G$5,데이터!$B$8:$BB$121,32,FALSE)="","",데이터!AF124) -> #N/A | H19: =IF(VLOOKUP($G$5,데이터!$B$8:$BB$121,31,FALSE)="",0,VLOOKUP($G$5,데이터!$B$8:$BB$121,31,FALSE)) -> #N/A | K19: 원
C20: =IF(VLOOKUP($G$5,데이터!$B$8:$BB$121,39,FALSE)="","",데이터!AM124) -> #N/A | H20: =IF(VLOOKUP($G$5,데이터!$B$8:$BB$121,39,FALSE)="",0,VLOOKUP($G$5,데이터!$B$8:$BB$121,38,FALSE)) -> #N/A | K20: 원
C21: =IF(VLOOKUP($G$5,데이터!$B$8:$BB$121,36,FALSE)="","",데이터!AJ124) -> #N/A | H21: =IF(VLOOKUP($G$5,데이터!$B$8:$BB$121,35,FALSE)="",0,VLOOKUP($G$5,데이터!$B$8:$BB$121,35,FALSE)) -> #N/A | K21: 원
C22: =IF(VLOOKUP($G$5,데이터!$B$8:$BB$121,43,FALSE)="","",데이터!AJ124) -> #N/A | H22: =IF(VLOOKUP($G$5,데이터!$B$8:$BB$121,43,FALSE)="",0,VLOOKUP($G$5,데이터!$B$8:$BB$121,42,FALSE)) -> #N/A | K22: 원
C23: =IF(VLOOKUP($G$5,데이터!$B$8:$BB$121,45,FALSE)="","",데이터!AS124) -> #N/A | H23: =IF(VLOOKUP($G$5,데이터!$B$8:$BB$121,45,FALSE)="",0,VLOOKUP($G$5,데이터!$B$8:$BB$121,44,FALSE)) -> #N/A | K23: 원
C24: =IF(VLOOKUP($G$5,데이터!$B$8:$BB$121,47,FALSE)="","",데이터!AU124) -> #N/A | H24: =IF(VLOOKUP($G$5,데이터!$B$8:$BB$121,47,FALSE)="",0,VLOOKUP($G$5,데이터!$B$8:$BB$121,46,FALSE)) -> #N/A | K24: 원
C25: =IF(VLOOKUP($G$5,데이터!$B$8:$BB$121,34,FALSE)="","",데이터!AH124) -> #N/A | H25: =IF(VLOOKUP($G$5,데이터!$B$8:$BB$121,33,FALSE)="",0,VLOOKUP($G$5,데이터!$B$8:$BB$121,33,FALSE)) -> #N/A | K25: 원
C26: =IF(VLOOKUP($G$5,데이터!$B$8:$BB$121,49,FALSE)="","",데이터!AW124) -> #N/A | H26: =IF(VLOOKUP($G$5,데이터!$B$8:$BB$121,49,FALSE)="",0,VLOOKUP($G$5,데이터!$B$8:$BB$121,48,FALSE)) -> #N/A | K26: 원
C27: =IF(VLOOKUP($G$5,데이터!$B$8:$BB$121,51,FALSE)="","",데이터!AY124) -> #N/A | H27: =IF(VLOOKUP($G$5,데이터!$B$8:$BB$121,51,FALSE)="",0,VLOOKUP($G$5,데이터!$B$8:$BB$121,50,FALSE)) -> #N/A | K27: 원
C28: =IF(VLOOKUP($G$5,데이터!$B$8:$BB$121,53,FALSE)="","",데이터!BA124) -> #N/A | H28: =IF(VLOOKUP($G$5,데이터!$B$8:$BB$121,53,FALSE)="",0,VLOOKUP($G$5,데이터!$B$8:$BB$121,52,FALSE)) -> #N/A | K28: 원
C29: 합 계 | H29: =H8+H10+H12+H13+H15+H17+H18+H19-H14+H20+H21+H22+H23+H24+H25+H26+H27+H28+H9+H11+H16 -> #N/A | K29: 원
C31: 위 금액을 청구함. (2019년 1월 18일 입금기준)
C33: 스쿨뱅킹 납기 마감일 : '19. 1. 30. (수)
C34: 이후 미납금에 대해서는 수시로 스쿨뱅킹이 진행됩니다.
C36: 2019. 1. 23.
C38: 링컨학교장
